Workbook

Sheet Sommaire
A2: Rapport sur les finances communales - exercice 2023
B4: Sommaire
A6: 1 | B6: Population
A7: 1.1 | B7: Population | C7: Population
A9: 2 | B9: Compte de résultat
A10: 2.1 | B10: Compte de résultats par nature par commune | C10: Compte de résultats
A11: 2.2 | B11: Compte de résultats pas nature en Fr. par habitant | C11: Compte de résultats en Fr. par habitant
A12: 2.3 | B12: Compte de résultats par nature en Fr. par habitant par commune | C12: Compte de résultats en Fr. par commune
A13: 2.4 | B13: Vue d'ensemble | C13: Vue d'ensemble
A14: 2.5 | B14: Vue d'ensemble par commune | C14: Vue d'ensemble par commune
A15: 2.6 | B15: Résultats à 3 niveaux | C15: Résultats à 3 niveaux
A16: 2.7 | B16: Résultats à 3 nivaux par commune | C16: Résultats à 3 niveaux par commune
A17: 2.8 | B17: Autofinancement | C17: Autofinancement
A18: 2.9 | B18: Autofinancement par commune | C18: Autofinancement par commune
A19: 2.1 | B19: Compte de résultats par fonction | C19: Compte de résultats par fonction
A20: 2.11 | B20: Compte de résultats par fonction par commune | C20: Compte de résultats fonctionnel par commune
A22: 3 | B22: Bilan
A23: 3.2 | B23: Bilan de l'ensemble des communes | C23: Bilan de l'ensemble des communes
A24: 3.3 | B24: Bilan par commune | C24: Bilan par commune
A25: 3.4 | B25: Tableau du bilan | C25: Tableau du bilan
A26: 3.5 | B26: Tableau de l'endettement | C26: Endettement
A27: 3.6 | B27: Tableau de l'endettement par commune | C27: Endettement par commune
A29: 4 | B29: Comptes des investissements
A30: 4.1 | B30: Investissements de l'ensemble des communes | C30: Investissements
A31: 4.2 | B31: Investissements par commune | C31: Investissements par commune
A33: 5 | B33: Indicateurs financiers
A34: 5.1 | B34: Définition des indicateurs financiers | C34: Définition des indicateurs financiers
A35: 5.2 | B35: Quotient de l'endettement net et degré d'autofinancement | C35: Degré d'autofinancement
A36: 5.3 | B36: Quotité de la charge des intérêts et dette brute par rapport aux revenus | C36: Dette brute par rapport aux revenus
A37: 5.4 | B37: Quotité d'investissement et quotité de la charge financière | C37: Quotités d'investissement et charges financière
A38: 5.5 | B38: Quotité d'autofinancement et quotité de la charge des intérêts nets | C38: Quotité d''autofinancement
A39: 5.6 | B39: Quotient de l'excédent au bilan | C39: Quotient excédent du bilan
A40: 5.7 | B40: Récapitulatif de l'ensemble des communes | C40: Récapitulatif
A41: 5.8 | B41: Récapitulatif par commune | C41: Récapitulatif par commune

Sheet Base de données pop.
A1: N° | B1: Communes | C1: 2023 | M1: N° | N1: Communes | O1: 2023
A2: 1 | B2: Boécourt | C2: 961 | G2: Ne pas effectuer de tri avec cette feuille, c'est la base de donnée. | M2: 1 | N2: Alle | O2: =C33 -> 1907
A3: 2 | B3: Bourrignon | C3: 261 | M3: 2 | N3: Basse-Allaine | O3: =C35 -> 1203
A4: 3 | B4: Châtillon | C4: 494 | M4: 3 | N4: Beurnevésin | O4: =C36 -> 112
A5: 4 | B5: Courchapoix | C5: 445 | F5: Population par district | M5: 4 | N5: Boécourt | O5: =C2 -> 961
A6: 5 | B6: Courrendlin | C6: 3667 | F6: Delémont | H6: =SUM(C2:C20) -> 39660 | M6: 5 | N6: Boncourt | O6: =C37 -> 1171
A7: 6 | B7: Courroux | C7: 3396 | F7: Franches-Montagnes | H7: =SUM(C21:C32) -> 10531 | M7: 6 | N7: Bonfol | O7: =C38 -> 655
A8: 7 | B8: Courtételle | C8: 2724 | F8: Porrentruy | H8: =SUM(C33:C52) -> 24357 | M8: 7 | N8: Bourrignon | O8: =C3 -> 261
A9: 8 | B9: Delémont | C9: 12739 | H9: =SUM(H6:H8) -> 74548 | M9: 8 | N9: Bure | O9: =C39 -> 631
A10: 9 | B10: Develier | C10: 1372 | M10: 9 | N10: Châtillon | O10: =C4 -> 494
A11: 10 | B11: Ederswiler | C11: 117 | M11: 10 | N11: Clos du Doubs | O11: =C40 -> 1294
A12: 11 | B12: Haute-Sorne | C12: 7362 | M12: 11 | N12: Coeuve | O12: =C41 -> 721
A13: 12 | B13: Mervelier | C13: 535 | M13: 12 | N13: Cornol | O13: =C42 -> 1060
A14: 13 | B14: Mettembert | C14: 112 | M14: 13 | N14: Courchapoix | O14: =C5 -> 445
A15: 14 | B15: Movelier | C15: 420 | M15: 14 | N15: Courchavon | O15: =C43 -> 314
A16: 15 | B16: Pleigne | C16: 349 | M16: 15 | N16: Courgenay | O16: =C44 -> 2453
A17: 16 | B17: Rossemaison | C17: 733 | M17: 16 | N17: Courrendlin | O17: =C6 -> 3667
A18: 17 | B18: Saulcy | C18: 273 | M18: 17 | N18: Courroux | O18: =C7 -> 3396
A19: 18 | B19: Soyhières | C19: 431 | M19: 18 | N19: Courtedoux | O19: =C45 -> 774
A20: 19 | B20: Val Terbi | C20: 3269 | M20: 19 | N20: Courtételle | O20: =C8 -> 2724
A21: 20 | B21: Le Bémont | C21: 305 | M21: 20 | N21: Damphreux-Lugnez | O21: =C46 -> 363
A22: 21 | B22: Les Bois | C22: 1252 | M22: 21 | N22: Delémont | O22: =C9 -> 12739
A23: 22 | B23: Les Breuleux | C23: 1642 | M23: 22 | N23: Develier | O23: =C10 -> 1372
A24: 23 | B24: Les Enfers | C24: 149 | M24: 23 | N24: Ederswiler | O24: =C11 -> 117
A25: 24 | B25: Les Genevez | C25: 510 | M25: 24 | N25: Fahy | O25: =C47 -> 332
A26: 25 | B26: Lajoux | C26: 710 | M26: 25 | N26: Fontenais | O26: =C48 -> 1647
A27: 26 | B27: Montfaucon | C27: 566 | M27: 26 | N27: Grandfontaine | O27: =C49 -> 381
A28: 27 | B28: Muriaux | C28: 508 | M28: 27 | N28: Haute-Ajoie | O28: =C50 -> 1057
A29: 28 | B29: Le Noirmont | C29: 1957 | M29: 28 | N29: Haute-Sorne | O29: =C12 -> 7362
A30: 29 | B30: Saignelégier | C30: 2568 | M30: 29 | N30: La Baroche | O30: =C34 -> 1134
A31: 30 | B31: Saint-Brais | C31: 239 | M31: 30 | N31: Lajoux | O31: =C26 -> 710
A32: 31 | B32: Soubey | C32: 125 | M32: 31 | N32: Le Bémont | O32: =C21 -> 305
A33: 32 | B33: Alle | C33: 1907 | M33: 32 | N33: Le Noirmont | O33: =C29 -> 1957
A34: 33 | B34: La Baroche | C34: 1134 | M34: 33 | N34: Les Bois | O34: =C22 -> 1252
A35: 34 | B35: Basse-Allaine | C35: 1203 | M35: 34 | N35: Les Breuleux | O35: =C23 -> 1642
A36: 35 | B36: Beurnevésin | C36: 112 | M36: 35 | N36: Les Enfers | O36: =C24 -> 149
A37: 36 | B37: Boncourt | C37: 1171 | M37: 36 | N37: Les Genevez | O37: =C25 -> 510
A38: 37 | B38: Bonfol | C38: 655 | M38: 37 | N38: Mervelier | O38: =C13 -> 535
A39: 38 | B39: Bure | C39: 631 | M39: 38 | N39: Mettembert | O39: =C14 -> 112
A40: 39 | B40: Clos du Doubs | C40: 1294 | M40: 39 | N40: Montfaucon | O40: =C27 -> 566
...

Sheet Population
B3: moins de 200 habitants | E3: 201 à 500 habitants | G3: 501 à 1'000 habitants | J3: 1'001 à 2'000 habitants | M3: 2001 à 3'000 habitant | P3: plus de 3'000 habitant
A5: 1 | B5: Mettembert | C5: ='Base de données pop.'!C14 -> 112 | D5: 6 | E5: Saint-Brais | F5: ='Base de données pop.'!C31 -> 239 | G5: 19 | H5: Muriaux | I5: ='Base de données pop.'!C28 -> 508 | J5: 31 | K5: Haute-Ajoie | L5: ='Base de données pop.'!C50 -> 1057 | M5: 43 | N5: Courgenay | O5: ='Base de données pop.'!C44 -> 2453 | P5: 46 | Q5: Val Terbi | R5: ='Base de données pop.'!C20 -> 3269
A6: 2 | B6: Beurnevésin | C6: ='Base de données pop.'!C36 -> 112 | D6: 7 | E6: Bourrignon | F6: ='Base de données pop.'!C3 -> 261 | G6: 20 | H6: Les Genevez | I6: ='Base de données pop.'!C25 -> 510 | J6: 32 | K6: Cornol | L6: ='Base de données pop.'!C42 -> 1060 | M6: 44 | N6: Saignelégier | O6: ='Base de données pop.'!C30 -> 2568 | P6: 47 | Q6: Courroux | R6: ='Base de données pop.'!C7 -> 3396
A7: 3 | B7: Ederswiler | C7: ='Base de données pop.'!C11 -> 117 | D7: 8 | E7: Saulcy | F7: ='Base de données pop.'!C18 -> 273 | G7: 21 | H7: Mervelier | I7: ='Base de données pop.'!C13 -> 535 | J7: 33 | K7: La Baroche | L7: ='Base de données pop.'!C34 -> 1134 | M7: 45 | N7: Courtételle | O7: ='Base de données pop.'!C8 -> 2724 | P7: 48 | Q7: Courrendlin | R7: ='Base de données pop.'!C6 -> 3667
A8: 4 | B8: Soubey | C8: ='Base de données pop.'!C32 -> 125 | D8: 9 | E8: Le Bémont | F8: ='Base de données pop.'!C21 -> 305 | G8: 22 | H8: Vendlincourt | I8: ='Base de données pop.'!C52 -> 547 | J8: 34 | K8: Boncourt | L8: ='Base de données pop.'!C37 -> 1171 | O8: =SUM(O5:O7) -> 7745 | P8: 49 | Q8: Porrentruy | R8: ='Base de données pop.'!C51 -> 6601
A9: 5 | B9: Les Enfers | C9: ='Base de données pop.'!C24 -> 149 | D9: 10 | E9: Courchavon | F9: ='Base de données pop.'!C43 -> 314 | G9: 23 | H9: Montfaucon | I9: ='Base de données pop.'!C27 -> 566 | J9: 35 | K9: Basse-Allaine | L9: ='Base de données pop.'!C35 -> 1203 | N9: moyenne | O9: =O8/5 -> 1549 | P9: 50 | Q9: Haute-Sorne | R9: ='Base de données pop.'!C12 -> 7362
C10: =SUM(C5:C9) -> 615 | D10: 11 | E10: Fahy | F10: ='Base de données pop.'!C47 -> 332 | G10: 24 | H10: Bure | I10: ='Base de données pop.'!C39 -> 631 | J10: 36 | K10: Les Bois | L10: ='Base de données pop.'!C22 -> 1252 | P10: 51 | Q10: Delémont | R10: ='Base de données pop.'!C9 -> 12739
B11: moyenne | C11: =C10/8 -> 76.875 | D11: 12 | E11: Pleigne | F11: ='Base de données pop.'!C16 -> 349 | G11: 25 | H11: Bonfol | I11: ='Base de données pop.'!C38 -> 655 | J11: 37 | K11: Clos du Doubs | L11: ='Base de données pop.'!C40 -> 1294 | R11: =SUM(R5:R10) -> 37034
D12: 13 | E12: Damphreux-Lugnez | F12: ='Base de données pop.'!C46 -> 363 | G12: 26 | H12: Lajoux | I12: ='Base de données pop.'!C26 -> 710 | J12: 38 | K12: Develier | L12: ='Base de données pop.'!C10 -> 1372 | Q12: moyenne | R12: =R11/4 -> 9258.5
D13: 14 | E13: Grandfontaine | F13: ='Base de données pop.'!C49 -> 381 | G13: 27 | H13: Coeuve | I13: ='Base de données pop.'!C41 -> 721 | J13: 39 | K13: Les Breuleux | L13: ='Base de données pop.'!C23 -> 1642
D14: 15 | E14: Movelier | F14: ='Base de données pop.'!C15 -> 420 | G14: 28 | H14: Rossemaison | I14: ='Base de données pop.'!C17 -> 733 | J14: 40 | K14: Fontenais | L14: ='Base de données pop.'!C48 -> 1647 | S14: =C10+F18+I17+L17+O8+R11 -> 74548
D15: 16 | E15: Soyhières | F15: ='Base de données pop.'!C19 -> 431 | G15: 29 | H15: Courdedoux | I15: ='Base de données pop.'!C45 -> 774 | J15: 41 | K15: Alle | L15: ='Base de données pop.'!C33 -> 1907 | S15: =S14/53 -> 1406.566
D16: 17 | E16: Courchapoix | F16: ='Base de données pop.'!C5 -> 445 | G16: 30 | H16: Boécourt | I16: ='Base de données pop.'!C2 -> 961 | J16: 42 | K16: Le Noirmont | L16: ='Base de données pop.'!C29 -> 1957 | U16: MOINS DE 1000 HABITANTS
D17: 18 | E17: Châtillon | F17: ='Base de données pop.'!C4 -> 494 | I17: =SUM(I5:I16) -> 7851 | L17: =SUM(L5:L16) -> 16696 | R17: =C10+F18+I17+L17+O8+R11 -> 74548 | U17: =C10+F18+I17 -> 13073
B18: =C10+F18+I17+L17+O8+R11 -> 74548 | F18: =SUM(F5:F17) -> 4607 | H18: moyenne | I18: =I17/11 -> 713.72727 | K18: moyenne | L18: =L17/12 -> 1391.3333
E19: moyenne | F19: =F18/13 -> 354.38462
B21: 5 communes de moins 200 habitants | C21: =C10 -> 615
B22: 13 communes de 200 à 500 habitants | C22: =F18 -> 4607
B23: 12 communes de 501 à 1'000 habitants | C23: =I17 -> 7851 | K23: Par Disctrict | L23: Delémont | O23: 39660
B24: 12 communes de 1'001 à 2'000 habitants | C24: =L17 -> 16696 | L24: Franches-Montagnes | O24: 10531
B25: 3 communes de 2'001 à 3'000 habitants | C25: =O8 -> 7745 | E25: =C21*100/B18 -> 0.82497183 | L25: Porrentruy | O25: 24357
B26: 6 communes de plus 3'000 habitants | C26: =R11 -> 37034 | E26: =C22*100/B18 -> 6.1799109 | F26: =E25+E26 -> 7.0048828 | L26: Total | O26: =SUM(O23:O25) -> 74548
C27: =SUM(C21:C26) -> 74548 | E27: =C23*100/B18 -> 10.53147
E28: =C24*100/B18 -> 22.396308
E29: =C25*100/B18 -> 10.389279
E30: =C26*100/B18 -> 49.67806
E31: =C27*100/B18 -> 100

Sheet 4.1 Comptes 2023 natures
A2: Comptes de résultats par natures 2023
A3: Comptes consolidés de l'ensemble des communes et par district | E3: ='Base de données pop.'!C2 -> 961 | F3: ='Base de données pop.'!C3 -> 261 | G3: ='Base de données pop.'!C4 -> 494 | H3: ='Base de données pop.'!C5 -> 445 | I3: ='Base de données pop.'!C6 -> 3667 | J3: ='Base de données pop.'!C7 -> 3396 | K3: ='Base de données pop.'!C8 -> 2724 | L3: ='Base de données pop.'!C9 -> 12739 | M3: ='Base de données pop.'!C10 -> 1372 | N3: ='Base de données pop.'!C11 -> 117 | O3: ='Base de données pop.'!C12 -> 7362 | P3: ='Base de données pop.'!C13 -> 535 | Q3: ='Base de données pop.'!C14 -> 112 | R3: ='Base de données pop.'!C15 -> 420 | S3: ='Base de données pop.'!C16 -> 349 | T3: ='Base de données pop.'!C17 -> 733 | U3: ='Base de données pop.'!C18 -> 273 | V3: ='Base de données pop.'!C19 -> 431 | W3: ='Base de données pop.'!C20 -> 3269 | X3: ='Base de données pop.'!C21 -> 305 | Y3: ='Base de données pop.'!C22 -> 1252 | Z3: ='Base de données pop.'!C23 -> 1642 | AA3: ='Base de données pop.'!C24 -> 149 | AB3: ='Base de données pop.'!C25 -> 510 | AC3: ='Base de données pop.'!C26 -> 710 | AD3: ='Base de données pop.'!C27 -> 566 | AE3: ='Base de données pop.'!C28 -> 508 | AF3: ='Base de données pop.'!C29 -> 1957 | AG3: ='Base de données pop.'!C30 -> 2568 | AH3: ='Base de données pop.'!C31 -> 239 | AI3: ='Base de données pop.'!C32 -> 125 | AJ3: ='Base de données pop.'!C33 -> 1907 | AK3: ='Base de données pop.'!C34 -> 1134 | AL3: ='Base de données pop.'!C35 -> 1203 | AM3: ='Base de données pop.'!C36 -> 112 | AN3: ='Base de données pop.'!C37 -> 1171 | AO3: ='Base de données pop.'!C38 -> 655 | AP3: ='Base de données pop.'!C39 -> 631 | AQ3: ='Base de données pop.'!C40 -> 1294 | AR3: ='Base de données pop.'!C41 -> 721 | AS3: ='Base de données pop.'!C42 -> 1060 | AT3: ='Base de données pop.'!C43 -> 314 | AU3: ='Base de données pop.'!C44 -> 2453 | AV3: ='Base de données pop.'!C45 -> 774 | AW3: ='Base de données pop.'!C46 -> 363 | AX3: ='Base de données pop.'!C47 -> 332 | AY3: ='Base de données pop.'!C48 -> 1647 | AZ3: ='Base de données pop.'!C49 -> 381 | BA3: ='Base de données pop.'!C50 -> 1057 | BB3: ='Base de données pop.'!C51 -> 6601 | BC3: ='Base de données pop.'!C52 -> 547 | BD3: =SUM(E3:BC3) -> 74548 | BE3: =SUM(E3:W3) -> 39660 | BF3: =SUM(X3:AI3) -> 10531 | BG3: =SUM(AJ3:BC3) -> 24357
E4: Boécourt | F4: Bourrignon | G4: Châtillon | H4: Courchapoix | I4: Courrendlin | J4: Courroux | K4: Courtételle | L4: Delémont | M4: Develier | N4: Ederswiler | O4: Haute-Sorne | P4: Mervelier | Q4: Mettembert | R4: Movelier | S4: Pleigne | T4: Rossemaison | U4: Saulcy | V4: Soyhières | W4: Val Terbi | X4: Le Bémont | Y4: Les Bois | Z4: Les Breuleux | AA4: Les Enfers | AB4: Les Genevez | AC4: Lajoux | AD4: Montfaucon | AE4: Muriaux | AF4: Le Noirmont | AG4: Saignelégier | AH4: Saint-Brais | AI4: Soubey | AJ4: Alle | AK4: La Baroche | AL4: Basse-Allaine | AM4: Beurnevésin | AN4: Boncourt | AO4: Bonfol | AP4: Bure | AQ4: Clos du Doubs | AR4: Coeuve | AS4: Cornol | AT4: Courchavon | AU4: Courgenay | AV4: Courtedoux | AW4: Damphreux-Lugnez | AX4: Fahy | AY4: Fontenais | AZ4: Grandfontaine | BA4: Haute-Ajoie | BB4: Porrentruy | BC4: Vendlincourt | BD4: Total | BE4: Delémont | BF4: Franches-Montagnes | BG4: Porrentruy
A5: 3 | D5: Charges | E5: =E6+E16+E28+E32+E40+E44+E54+E57+E65 -> 3875935.6 | F5: =F6+F16+F28+F32+F40+F44+F54+F57+F65 -> 1084338.1 | G5: =G6+G16+G28+G32+G40+G44+G54+G57+G65 -> 1612097.1 | H5: =H6+H16+H28+H32+H40+H44+H54+H57+H65 -> 2125952.1 | I5: =I6+I16+I28+I32+I40+I44+I54+I57+I65 -> 17419563 | J5: =J6+J16+J28+J32+J40+J44+J54+J57+J65 -> 14948995 | K5: =K6+K16+K28+K32+K40+K44+K54+K57+K65 -> 11921702 | L5: =L6+L16+L28+L32+L40+L44+L54+L57+L65 -> 1.2216286e+08 | ... BG5: =BG6+BG16+BG28+BG32+BG40+BG44+BG54+BG57+BG65 -> 1.3202777e+08
B6: 30 | D6: Charges du personnel | E6: =E7+E8+E9+E10+E11+E12+E13+E14 -> 482187.45 | F6: =F7+F8+F9+F10+F11+F12+F13+F14 -> 51802.35 | G6: =G7+G8+G9+G10+G11+G12+G13+G14 -> 131921.65 | H6: =H7+H8+H9+H10+H11+H12+H13+H14 -> 291460.85 | I6: =I7+I8+I9+I10+I11+I12+I13+I14 -> 2888125.9 | J6: =J7+J8+J9+J10+J11+J12+J13+J14 -> 3034162.3 | K6: =K7+K8+K9+K10+K11+K12+K13+K14 -> 1141069.6 | L6: =L7+L8+L9+L10+L11+L12+L13+L14 -> 25458252 | ... BG6: =BG7+BG8+BG9+BG10+BG11+BG12+BG13+BG14 -> 23234726
C7: 300 | D7: Autorités et commissions | E7: 42148.35 | F7: 18572 | G7: 27445.25 | H7: 50414.85 | I7: 149419.3 | J7: 148762 | K7: 143861.4 | L7: 662390.5 | M7: 66933.75 | N7: 19296.5 | O7: 329645.95 | P7: 55907 | Q7: 13440 | R7: 22810.4 | S7: 26823.05 | T7: 54108.95 | U7: 13834.65 | V7: 47312.5 | W7: 134427 | X7: 59393.95 | Y7: 80524.05 | Z7: 96828 | AA7: 13494.8 | AB7: 24112.5 | AC7: 28112.2 | AD7: 40907.5 | AE7: 42801.1 | AF7: 92684 | AG7: 107116.5 | AH7: 18308.8 | AI7: 18496.25 | AJ7: 86121.3 | AK7: 54709.4 | AL7: 59830.7 | AM7: 21571.8 | AN7: 89521.75 | AO7: 36001.45 | AP7: 45520.8 | AQ7: 86610.05 | AR7: 44662.5 | AS7: 41350 | AT7: 15575 | AU7: 62580 | AV7: 68547.5 | AW7: 18232.5 | AX7: 13887.5 | AY7: 57750 | AZ7: 22875.05 | BA7: 56629.75 | BB7: 250752.7 | BC7: 26812.8 | BD7: =SUM(E7:BC7) -> 3809875.6 | BE7: =SUM(E7:W7) -> 2027553.4 | BF7: =SUM(X7:AI7) -> 622779.65 | BG7: =SUM(AJ7:BC7) -> 1159542.6
C8: 301 | D8: Personnel administratif et d'exploitation | E8: 368947.05 | F8: 29355 | G8: 87403.05 | H8: 199240.65 | I8: 2207165.8 | J8: 2298953.2 | K8: 782026.2 | L8: 20317383 | M8: 992571.55 | N8: 35645.84 | O8: 3095053.3 | P8: 121660.3 | Q8: 48061.6 | R8: 178317.8 | S8: 96722.85 | T8: 221590.55 | U8: 83866 | V8: 212161.9 | W8: 1892352.9 | X8: 65419.1 | Y8: 1102816.4 | Z8: 1546382.9 | AA8: 48637.45 | AB8: 308674.6 | AC8: 405540.65 | AD8: 350340.95 | AE8: 296643.27 | AF8: 775287.25 | AG8: 1587020.2 | AH8: 70564.85 | AI8: 41586.7 | AJ8: 558924.67 | AK8: 489930.7 | AL8: 410505.96 | AM8: 34254.56 | AN8: 1102480.6 | AO8: 775142.88 | AP8: 152409.7 | AQ8: 1131353.4 | AR8: 358780.85 | AS8: 442151.5 | AT8: 77251.55 | AU8: 854269.8 | AV8: 378511.41 | AW8: 104010.17 | AX8: 110735.55 | AY8: 684793.8 | AZ8: 95027.25 | BA8: 1017137.6 | BB8: 9060628.4 | BC8: 256482.7 | BD8: =SUM(E8:BC8) -> 57962176 | BE8: =SUM(E8:W8) -> 33268478 | BF8: =SUM(X8:AI8) -> 6598914.3 | BG8: =SUM(AJ8:BC8) -> 18094783
C9: 302 | D9: Enseignants | E9: 0 | F9: 0 | G9: 0 | H9: 0 | I9: 0 | J9: 0 | K9: 0 | L9: 0 | M9: 0 | N9: 0 | O9: 0 | P9: 0 | Q9: 0 | R9: 0 | S9: 0 | T9: 0 | U9: 0 | V9: 0 | W9: 0 | X9: 0 | Y9: 0 | Z9: 0 | AA9: 0 | AB9: 0 | AC9: 0 | AD9: 0 | AE9: 0 | AF9: 4670 | AG9: 0 | AH9: 0 | AI9: 0 | AJ9: 0 | AK9: 0 | AL9: 0 | AM9: 0 | AN9: 0 | AO9: 0 | AP9: 0 | AQ9: 0 | AR9: 0 | AS9: 0 | AT9: 0 | AU9: 0 | AV9: 0 | AW9: 0 | AX9: 0 | AY9: 0 | AZ9: 0 | BA9: 0 | BB9: 0 | BC9: 0 | BD9: =SUM(E9:BC9) -> 4670 | BE9: =SUM(E9:W9) -> 0 | BF9: =SUM(X9:AI9) -> 4670 | BG9: =SUM(AJ9:BC9) -> 0
C10: 303 | D10: Personnel temporaire administratif et d'exploitation | E10: 0 | F10: 0 | G10: 0 | H10: 0 | I10: 0 | J10: 0 | K10: 0 | L10: 0 | M10: 2197 | N10: 0 | O10: 0 | P10: 0 | Q10: 0 | R10: 0 | S10: 0 | T10: 0 | U10: 0 | V10: 0 | W10: 0 | X10: 0 | Y10: 0 | Z10: 0 | AA10: 0 | AB10: 0 | AC10: 0 | AD10: 0 | AE10: 0 | AF10: 0 | AG10: 0 | AH10: 0 | AI10: 0 | AJ10: 0 | AK10: 0 | AL10: 2461.2 | AM10: 0 | AN10: 0 | AO10: 0 | AP10: 0 | AQ10: 0 | AR10: 0 | AS10: 0 | AT10: 0 | AU10: 0 | AV10: 180 | AW10: 0 | AX10: 0 | AY10: 0 | AZ10: 0 | BA10: 0 | BB10: 0 | BC10: 0 | BD10: =SUM(E10:BC10) -> 4838.2 | BE10: =SUM(E10:W10) -> 2197 | BF10: =SUM(X10:AI10) -> 0 | BG10: =SUM(AJ10:BC10) -> 2641.2
C11: 304 | D11: Allocations et indemnités | E11: 0 | F11: 0 | G11: 0 | H11: 0 | I11: 0 | J11: 11682.94 | K11: 0 | L11: 0 | M11: 0 | N11: 0 | O11: 0 | P11: 0 | Q11: 0 | R11: 0 | S11: 0 | T11: 33.2 | U11: 0 | V11: 0 | W11: 0 | X11: 0 | Y11: 0 | Z11: 0 | AA11: 0 | AB11: 0 | AC11: 0 | AD11: 0 | AE11: 0 | AF11: 2000 | AG11: 19000 | AH11: 0 | AI11: 0 | AJ11: 0 | AK11: 0 | AL11: 0 | AM11: 0 | AN11: 0 | AO11: 0 | AP11: 0 | AQ11: 0 | AR11: 0 | AS11: 1375 | AT11: 0 | AU11: 0 | AV11: 0 | AW11: 0 | AX11: 0 | AY11: 0 | AZ11: 0 | BA11: 0 | BB11: 0 | BC11: 0 | BD11: =SUM(E11:BC11) -> 34091.14 | BE11: =SUM(E11:W11) -> 11716.14 | BF11: =SUM(X11:AI11) -> 21000 | BG11: =SUM(AJ11:BC11) -> 1375
C12: 305 | D12: Charges de l'employeur | E12: 66948.5 | F12: 3402.65 | G12: 15774.35 | H12: 41805.35 | I12: 511493.85 | J12: 545706.3 | K12: 197335.4 | L12: 4189189.1 | M12: 178073.95 | N12: 5795.6 | O12: 622886.5 | P12: 23384.1 | Q12: 9133.2 | R12: 34564.35 | S12: 21293.35 | T12: 41020 | U12: 12795.73 | V12: 44194.7 | W12: 375207.95 | X12: 10177.15 | Y12: 201580.3 | Z12: 292609.85 | AA12: 6850.45 | AB12: 60870.25 | AC12: 76572.1 | AD12: 68944.45 | AE12: 58821.55 | AF12: 169819.45 | AG12: 305446.15 | AH12: 11748.6 | AI12: 8869.75 | AJ12: 105532 | AK12: 102356.85 | AL12: 82979.65 | AM12: 12253.16 | AN12: 207895.85 | AO12: 146273.95 | AP12: 36729.5 | AQ12: 203946.35 | AR12: 73622.5 | AS12: 80093.25 | AT12: 15677.4 | AU12: 197250.95 | AV12: 68160.95 | AW12: 23156.45 | AX12: 22082.1 | AY12: 152290.5 | AZ12: 20838.3 | BA12: 216965.1 | BB12: 1976106.8 | BC12: 51916.95 | BD12: =SUM(E12:BC12) -> 12008444 | BE12: =SUM(E12:W12) -> 6940005 | BF12: =SUM(X12:AI12) -> 1272310.1 | BG12: =SUM(AJ12:BC12) -> 3796128.6
C13: 306 | D13: Prestations sociales de l'employeur | E13: 0 | F13: 0 | G13: 0 | H13: 0 | I13: 2458.1 | J13: 0 | K13: 0 | L13: 44464.1 | M13: 0 | N13: 0 | O13: 0 | P13: 0 | Q13: 0 | R13: 0 | S13: 0 | T13: 0 | U13: 0 | V13: 0 | W13: 0 | X13: 0 | Y13: 0 | Z13: 500 | AA13: 0 | AB13: 0 | AC13: 0 | AD13: 30000 | AE13: 0 | AF13: 0 | AG13: 0 | AH13: 0 | AI13: 0 | AJ13: 0 | AK13: 0 | AL13: 0 | AM13: 0 | AN13: 0 | AO13: 0 | AP13: 0 | AQ13: 0 | AR13: 0 | AS13: 0 | AT13: 0 | AU13: 0 | AV13: 0 | AW13: 0 | AX13: 0 | AY13: 0 | AZ13: 0 | BA13: 0 | BB13: 0 | BC13: 0 | BD13: =SUM(E13:BC13) -> 77422.2 | BE13: =SUM(E13:W13) -> 46922.2 | BF13: =SUM(X13:AI13) -> 30500 | BG13: =SUM(AJ13:BC13) -> 0
C14: 309 | D14: Autres charges du personnel | E14: 4143.55 | F14: 472.7 | G14: 1299 | H14: 0 | I14: 17588.83 | J14: 29057.87 | K14: 17846.6 | L14: 244825.18 | M14: 24614.15 | N14: 940 | O14: 36873.5 | P14: 10482.8 | Q14: 1736 | R14: 2404.45 | S14: 4021.95 | T14: 4978.4 | U14: 6459.4 | V14: 4373.55 | W14: 27362.7 | X14: 2882.7 | Y14: 26631.2 | Z14: 22658.7 | AA14: 0 | AB14: 7852.45 | AC14: 11118.4 | AD14: 5993.3 | AE14: 4611.5 | AF14: 18725.6 | AG14: 16787.6 | AH14: 0 | AI14: 370.2 | AJ14: 7292.1 | AK14: 3346 | AL14: 11408.4 | AM14: 5209.19 | AN14: 19544.35 | AO14: 7346.85 | AP14: 5312.35 | AQ14: 8023.35 | AR14: 900.3 | AS14: 7291.9 | AT14: 2092.97 | AU14: 7874.55 | AV14: 12572.55 | AW14: 1285.4 | AX14: 1265.25 | AY14: 7176.51 | AZ14: 5144.3 | BA14: 11646.95 | BB14: 55522.45 | BC14: 0 | BD14: =SUM(E14:BC14) -> 737368 | BE14: =SUM(E14:W14) -> 439480.63 | BF14: =SUM(X14:AI14) -> 117631.65 | BG14: =SUM(AJ14:BC14) -> 180255.72
B16: 31 | D16: Charges de biens et de services et autres charges d'exploitation | E16: =E17+E18+E19+E20+E21+E22+E23+E24+E25+E26 -> 597375.05 | F16: =F17+F18+F19+F20+F21+F22+F23+F24+F25+F26 -> 201802.98 | G16: =G17+G18+G19+G20+G21+G22+G23+G24+G25+G26 -> 171913.56 | H16: =H17+H18+H19+H20+H21+H22+H23+H24+H25+H26 -> 537755.8 | I16: =I17+I18+I19+I20+I21+I22+I23+I24+I25+I26 -> 4231856.3 | J16: =J17+J18+J19+J20+J21+J22+J23+J24+J25+J26 -> 3175860.9 | K16: =K17+K18+K19+K20+K21+K22+K23+K24+K25+K26 -> 1846362.1 | L16: =L17+L18+L19+L20+L21+L22+L23+L24+L25+L26 -> 37726336 | ... BG16: =BG17+BG18+BG19+BG20+BG21+BG22+BG23+BG24+BG25+BG26 -> 22862876
C17: 310 | D17: Charges de matériel et de marchandises | E17: 60361.57 | F17: 11406.9 | G17: 12809.95 | H17: 35774.88 | I17: 398834.11 | J17: 274980.17 | K17: 201622.35 | L17: 1975227.4 | M17: 187189.36 | N17: 4234.6 | O17: 641823.2 | P17: 62265.81 | Q17: 3544.41 | R17: 33026.85 | S17: 19024.95 | T17: 63301.41 | U17: 18704.1 | V17: 60043.99 | W17: 249334.38 | X17: 88132.74 | Y17: 144402.2 | Z17: 266997.75 | AA17: 31983.45 | AB17: 88469.9 | AC17: 71793.6 | AD17: 65908.16 | AE17: 110698.8 | AF17: 270304.2 | AG17: 419381.12 | AH17: 17343.31 | AI17: 14356.75 | AJ17: 255179.95 | AK17: 92564.19 | AL17: 71243.75 | AM17: 16113.77 | AN17: 148430.77 | AO17: 110120.6 | AP17: 16494.1 | AQ17: 127117.65 | AR17: 76443.55 | AS17: 117166.14 | AT17: 46995.94 | AU17: 265608.15 | AV17: 29133.13 | AW17: 36203.27 | AX17: 26785.77 | AY17: 71608.95 | AZ17: 19391.4 | BA17: 108954.18 | BB17: 829023.39 | BC17: 66048.75 | BD17: =SUM(E17:BC17) -> 8433909.7 | BE17: =SUM(E17:W17) -> 4313510.4 | BF17: =SUM(X17:AI17) -> 1589772 | BG17: =SUM(AJ17:BC17) -> 2530627.4
C18: 311 | D18: Immobilisations ne pouvant être portées à l'actif | E18: 44414.85 | F18: 1823.6 | G18: 4750.08 | H18: 5345.95 | I18: 54216.53 | J18: 50458.31 | K18: 26250.13 | L18: 428532.43 | M18: 115005.85 | N18: 51359.2 | O18: 133236 | P18: 33017.3 | Q18: 2721 | R18: 15130.14 | S18: 15480.4 | T18: 73316.15 | U18: 3646.19 | V18: 16125 | W18: 72045.79 | X18: 6539.2 | Y18: 35573.14 | Z18: 105010.77 | AA18: 0 | AB18: 16011.9 | AC18: 48832.34 | AD18: 18011.35 | AE18: 42764.75 | AF18: 80680.04 | AG18: 13067.8 | AH18: 7000 | AI18: 802.5 | AJ18: 92863.33 | AK18: 6774.85 | AL18: 40912.2 | AM18: 13195.1 | AN18: 16725.7 | AO18: 30334.47 | AP18: 19532.6 | AQ18: 45038.62 | AR18: 18924 | AS18: 77697.46 | AT18: 12488.65 | AU18: 91367 | AV18: 6392.57 | AW18: 14562.45 | AX18: 4590.7 | AY18: 46378.7 | AZ18: 17617.2 | BA18: 50598.21 | BB18: 170758.44 | BC18: 35968.75 | BD18: =SUM(E18:BC18) -> 2333889.7 | BE18: =SUM(E18:W18) -> 1146874.9 | BF18: =SUM(X18:AI18) -> 374293.79 | BG18: =SUM(AJ18:BC18) -> 812721
C19: 312 | D19: Alimentations et éliminations des biens-fonds du PA | E19: 90500.75 | F19: 47973.73 | G19: 18953.85 | H19: 200500.7 | I19: 1969498.1 | J19: 1653766.4 | K19: 434734.89 | L19: 28308976 | M19: 1512739.6 | N19: 11077.7 | O19: 950434.7 | P19: 42577.95 | Q19: 7527.05 | R19: 36467.32 | S19: 74079.4 | T19: 357696.35 | U19: 66328.6 | V19: 54302.35 | W19: 182763.09 | X19: 137920 | Y19: 263040.9 | Z19: 441435.05 | AA19: 38592.5 | AB19: 134740.05 | AC19: 185676.16 | AD19: 208939.45 | AE19: 133100.75 | AF19: 389158.9 | AG19: 660599.85 | AH19: 96754.8 | AI19: 24167.05 | AJ19: 101645.3 | AK19: 104547.25 | AL19: 261144.1 | AM19: 31662.25 | AN19: 327840.3 | AO19: 221961.8 | AP19: 98673 | AQ19: 160884.6 | AR19: 139006.7 | AS19: 158603.9 | AT19: 51197 | AU19: 338739.73 | AV19: 32487.55 | AW19: 90381.45 | AX19: 96019.05 | AY19: 264554.9 | AZ19: 64245.3 | BA19: 276741.07 | BB19: 691185.01 | BC19: 27793.6 | BD19: =SUM(E19:BC19) -> 42274338 | BE19: =SUM(E19:W19) -> 36020899 | BF19: =SUM(X19:AI19) -> 2714125.5 | BG19: =SUM(AJ19:BC19) -> 3539313.9
C20: 313 | D20: Prestations de services et honoraires | E20: 167671.21 | F20: 88558.12 | G20: 95334.29 | H20: 124746.73 | I20: 791616.41 | J20: 706491.81 | K20: 405191.88 | L20: 3508810.7 | M20: 246679.36 | N20: 40328.71 | O20: 1440977.8 | P20: 69473.29 | Q20: 34019.25 | R20: 82804.23 | S20: 136758.21 | T20: 180673.27 | U20: 80136.16 | V20: 256723.92 | W20: 631166.76 | X20: 124497.2 | Y20: 388431.14 | Z20: 1122677.8 | AA20: 96020.15 | AB20: 302139.65 | AC20: 294660.19 | AD20: 237496.5 | AE20: 534075.11 | AF20: 726096.97 | AG20: 812987.88 | AH20: 144315.15 | AI20: 44387.87 | AJ20: 325083.18 | AK20: 565800.46 | AL20: 463359.21 | AM20: 119648.68 | AN20: 356132.62 | AO20: 120812.13 | AP20: 131104.15 | AQ20: 683077.75 | AR20: 153386.12 | AS20: 403564.48 | AT20: 106169.07 | AU20: 506743.73 | AV20: 239042.48 | AW20: 50378.99 | AX20: 94321.71 | AY20: 491000.81 | AZ20: 293980.17 | BA20: 318564.09 | BB20: 2247797.6 | BC20: 128156.74 | BD20: =SUM(E20:BC20) -> 21714072 | BE20: =SUM(E20:W20) -> 9088162.1 | BF20: =SUM(X20:AI20) -> 4827785.6 | BG20: =SUM(AJ20:BC20) -> 7798124.2
C21: 314 | D21: Gros entretien et entretien courant du PA | E21: 131974.35 | F21: 32777.74 | G21: 54316.1 | H21: 43411.49 | I21: 446352.48 | J21: 257937.92 | K21: 533317.86 | L21: 1074125.7 | M21: 208615.17 | N21: 30246.75 | O21: 819147.45 | P21: 108075.94 | Q21: 10015.05 | R21: 44269.7 | S21: 36977.31 | T21: 206023.4 | U21: 48156.35 | V21: 56518.4 | W21: 376597.89 | X21: 45572.65 | Y21: 242917.95 | Z21: 440838.79 | AA21: 13711.6 | AB21: 155019.3 | AC21: 152825.7 | AD21: 55089.85 | AE21: 301108.01 | AF21: 494031.07 | AG21: 569966.51 | AH21: 43166.51 | AI21: 31912.25 | AJ21: 191735.6 | AK21: 314483.46 | AL21: 217475.7 | AM21: 13456.35 | AN21: 558779.08 | AO21: 100060.05 | AP21: 124813.85 | AQ21: 342460.35 | AR21: 107980.7 | AS21: 102863.65 | AT21: 31188.75 | AU21: 243377.87 | AV21: 110967.39 | AW21: 78837.25 | AX21: 104151.9 | AY21: 208545.87 | AZ21: 58636.01 | BA21: 184839.3 | BB21: 1056201.8 | BC21: 109995.65 | BD21: =SUM(E21:BC21) -> 11325868 | BE21: =SUM(E21:W21) -> 4518857 | BF21: =SUM(X21:AI21) -> 2546160.2 | BG21: =SUM(AJ21:BC21) -> 4260850.6
C22: 315 | D22: Entretien des biens mobiliers et des immobilisations corporelles du PA | E22: 55447.55 | F22: 12387.1 | G22: 7855.25 | H22: 19732.4 | I22: 184512.49 | J22: 22236.4 | K22: 84710.82 | L22: 962161.68 | M22: 87377.38 | N22: 6467.55 | O22: 297039.75 | P22: 18768.85 | Q22: 1830.1 | R22: 18798.52 | S22: 26617.35 | T22: 30183.5 | U22: 6890.1 | V22: 41528.35 | W22: 139684.33 | X22: 1601.25 | Y22: 97205.15 | Z22: 65169.1 | AA22: 7893.1 | AB22: 32739 | AC22: 57617 | AD22: 40417.05 | AE22: 18324.4 | AF22: 157029.37 | AG22: 45248.9 | AH22: 10081.88 | AI22: 7498.9 | AJ22: 24813.81 | AK22: 95602.82 | AL22: 57479.69 | AM22: 1593.1 | AN22: 94580 | AO22: 47964.05 | AP22: 36167.15 | AQ22: 96852.95 | AR22: 42775.45 | AS22: 65533.05 | AT22: 6946.85 | AU22: 62451.26 | AV22: 43084.4 | AW22: 27136.95 | AX22: 22191.6 | AY22: 42835.55 | AZ22: 15712.45 | BA22: 57818.63 | BB22: 444509.37 | BC22: 32357.9 | BD22: =SUM(E22:BC22) -> 3883461.6 | BE22: =SUM(E22:W22) -> 2024229.5 | BF22: =SUM(X22:AI22) -> 540825.1 | BG22: =SUM(AJ22:BC22) -> 1318407
C23: 316 | D23: Loyers - crédits-bails (leasing) - baux à fermes - taxes d'utilisation | E23: 3877.2 | F23: 3256.45 | G23: 710.9 | H23: 86238.2 | I23: 38996.45 | J23: 34737.05 | K23: 43011.75 | L23: 773693.2 | M23: 27390.2 | N23: 1200 | O23: 112829.5 | P23: 21.75 | Q23: 850 | R23: 0 | S23: 0 | T23: 538.5 | U23: 0 | V23: 4800 | W23: 127359.7 | X23: 20392.14 | Y23: 33855.45 | Z23: 38380 | AA23: 2415.5 | AB23: 1160 | AC23: 38305.8 | AD23: 4674.45 | AE23: 0 | AF23: 7822.35 | AG23: 204642.71 | AH23: 2100 | AI23: 0 | AJ23: 0 | AK23: 6301.75 | AL23: 16446.65 | AM23: 0 | AN23: 36000 | AO23: 38416.35 | AP23: 20000 | AQ23: 87441.4 | AR23: 24150.95 | AS23: 0 | AT23: 0 | AU23: 23303.3 | AV23: 19056.7 | AW23: 0 | AX23: 3684.4 | AY23: 34977.45 | AZ23: 0 | BA23: 5508 | BB23: 713335.88 | BC23: 600 | BD23: =SUM(E23:BC23) -> 2642482.1 | BE23: =SUM(E23:W23) -> 1259510.8 | BF23: =SUM(X23:AI23) -> 353748.4 | BG23: =SUM(AJ23:BC23) -> 1029222.8
C24: 317 | D24: Indemnités et dédommagements | E24: 20034.3 | F24: 3238.4 | G24: 872.55 | H24: 7029.85 | I24: 75651.55 | J24: 50748.52 | K24: 24418 | L24: 74308.24 | M24: 18626.45 | N24: 291 | O24: 62560 | P24: 3459 | Q24: 337 | R24: 3491.85 | S24: 7484.25 | T24: 57798.8 | U24: 982.8 | V24: 2850.7 | W24: 43411.25 | X24: 6389.2 | Y24: 32092.8 | Z24: 54654.6 | AA24: 764.5 | AB24: 4626.8 | AC24: 5190.7 | AD24: 5018.15 | AE24: 18.95 | AF24: 24130.3 | AG24: 35776 | AH24: 1470.4 | AI24: 1964.4 | AJ24: 31141.53 | AK24: 13951.6 | AL24: 25139.35 | AM24: 151.75 | AN24: 31787.8 | AO24: 2653.45 | AP24: 1109.5 | AQ24: 21681.05 | AR24: 9818.1 | AS24: 11722.35 | AT24: 1883.5 | AU24: 57556.15 | AV24: 3568.1 | AW24: 541.3 | AX24: 3577.35 | AY24: 22956.95 | AZ24: 3194.65 | BA24: 20784.9 | BB24: 64809.46 | BC24: 5876.85 | BD24: =SUM(E24:BC24) -> 963597 | BE24: =SUM(E24:W24) -> 457594.51 | BF24: =SUM(X24:AI24) -> 172096.8 | BG24: =SUM(AJ24:BC24) -> 333905.69
C25: 318 | D25: Réévaluations de créances | E25: 21664.77 | F25: 280.94 | G25: -28380.41 | H25: 9932.25 | I25: 236894.2 | J25: 97571.78 | K25: 72987.14 | L25: 467592.63 | M25: 21419.07 | N25: 31.86 | O25: 198835.27 | P25: 17120.59 | Q25: 3.34 | R25: 34161.77 | S25: 12251.28 | T25: 15858.65 | U25: 479.68 | V25: 17378.08 | W25: 117433.52 | X25: 16533.3 | Y25: 64181.14 | Z25: 35046.07 | AA25: 1823.41 | AB25: -54875.09 | AC25: 9273.68 | AD25: 7475.09 | AE25: 62202.97 | AF25: 67276.71 | AG25: 78566.62 | AH25: 166.19 | AI25: 3416.99 | AJ25: 137412.39 | AK25: 32400.16 | AL25: 65229.57 | AM25: 25746.4 | AN25: 78032.36 | AO25: 44995.58 | AP25: 19629.17 | AQ25: 52949.59 | AR25: 34217.41 | AS25: 46353.12 | AT25: -178887.98 | AU25: 7180.76 | AV25: 14633.62 | AW25: 6639.25 | AX25: 22781.13 | AY25: 55051.59 | AZ25: 20416.88 | BA25: 13064.78 | BB25: 328199.05 | BC25: 78797.19 | BD25: =SUM(E25:BC25) -> 2509445.5 | BE25: =SUM(E25:W25) -> 1313516.4 | BF25: =SUM(X25:AI25) -> 291087.08 | BG25: =SUM(AJ25:BC25) -> 904842.02
C26: 319 | D26: Divers charges d'exploitation | E26: 1428.5 | F26: 100 | G26: 4691 | H26: 5043.35 | I26: 35283.96 | J26: 26932.55 | K26: 20117.29 | L26: 152908.45 | M26: 57238.95 | N26: 900 | O26: 19212.2 | P26: 1088 | Q26: 2238.1 | R26: 0 | S26: 1452.4 | T26: 2297.9 | U26: 1887.75 | V26: 1624 | W26: 4688.2 | X26: 2575 | Y26: 20869.25 | Z26: 17274.6 | AA26: 8701.2 | AB26: 2181.55 | AC26: 16585.2 | AD26: 1976.8 | AE26: 804.6 | AF26: 32912.7 | AG26: 12915.6 | AH26: 1775.75 | AI26: 2437.7 | AJ26: 11564.2 | AK26: 17188.7 | AL26: 0 | AM26: 0 | AN26: 21014 | AO26: 1086.15 | AP26: 1466.8 | AQ26: 22074.25 | AR26: 43013.15 | AS26: 4617.15 | AT26: 3984.25 | AU26: 21000 | AV26: 3555.04 | AW26: 1152 | AX26: 0 | AY26: 3479 | AZ26: 0 | BA26: 10762.15 | BB26: 164464.54 | BC26: 4440.45 | BD26: =SUM(E26:BC26) -> 795004.38 | BE26: =SUM(E26:W26) -> 339132.6 | BF26: =SUM(X26:AI26) -> 121009.95 | BG26: =SUM(AJ26:BC26) -> 334861.83
B28: 33 | D28: Amortissements du patrimoine administratif | E28: =E29+E30 -> 271969.69 | F28: =F29+F30 -> 89135 | G28: =G29+G30 -> 78515.15 | H28: =H29+H30 -> 135852.9 | I28: =I29+I30 -> 1007048.9 | J28: =J29+J30 -> 1027120.3 | K28: =K29+K30 -> 584488.3 | L28: =L29+L30 -> 6377739.1 | ... BG28: =BG29+BG30 -> 8587344
C29: 330 | D29: Amortissements des immobilisations corporelles du PA | E29: 271969.69 | F29: 76855 | G29: 76768.65 | H29: 135852.9 | I29: 1007048.9 | J29: 1000141.1 | K29: 582500.6 | L29: 6260685.8 | M29: 396594.05 | N29: 61045.22 | O29: 1436879.1 | P29: 128942.3 | Q29: 15734 | R29: 66919.41 | S29: 76090.75 | T29: 135383.76 | U29: 40503.31 | V29: 111778.78 | W29: 936877.39 | X29: 78474 | Y29: 312679.9 | Z29: 511059.05 | AA29: 13768.27 | AB29: 91291.65 | AC29: 343843.12 | AD29: 163879 | AE29: 106426.61 | AF29: 510622.45 | AG29: 806595.85 | AH29: 66058.9 | AI29: 15168.64 | AJ29: 438356.4 | AK29: 353864.8 | AL29: 283815 | AM29: 42916 | AN29: 633425.07 | AO29: 109400 | AP29: 446741.61 | AQ29: 176374.45 | AR29: 155650 | AS29: 253126 | AT29: 68380 | AU29: 725074.05 | AV29: 118961.96 | AW29: 78732.3 | AX29: 171465 | AY29: 533515.05 | AZ29: 98904.95 | BA29: 385062.9 | BB29: 3118294 | BC29: 92300 | BD29: =SUM(E29:BC29) -> 24122798 | BE29: =SUM(E29:W29) -> 12818571 | BF29: =SUM(X29:AI29) -> 3019867.4 | BG29: =SUM(AJ29:BC29) -> 8284359.6
C30: 332 | D30: Amortissements des immobilisations incorporelles du PA | E30: 0 | F30: 12280 | G30: 1746.5 | H30: 0 | I30: 0 | J30: 26979.19 | K30: 1987.7 | L30: 117053.37 | M30: 11830 | N30: 0 | O30: 63576.2 | P30: 0 | Q30: 0 | R30: 0 | S30: 0 | T30: 5642.18 | U30: 0 | V30: 19952.75 | W30: 30615.67 | X30: 4500 | Y30: 600 | Z30: 0 | AA30: 0 | AB30: 9974.12 | AC30: 0 | AD30: 0 | AE30: 0 | AF30: 0 | AG30: 45343 | AH30: 5750 | AI30: 0 | AJ30: 0 | AK30: 0 | AL30: 19750 | AM30: 0 | AN30: 10400 | AO30: 0 | AP30: 0 | AQ30: 35450 | AR30: 0 | AS30: 1000 | AT30: 2223.75 | AU30: 23547.15 | AV30: 0 | AW30: 0 | AX30: 1500 | AY30: 43450 | AZ30: 960 | BA30: 50484.45 | BB30: 114219.09 | BC30: 0 | BD30: =SUM(E30:BC30) -> 660815.12 | BE30: =SUM(E30:W30) -> 291663.56 | BF30: =SUM(X30:AI30) -> 66167.12 | BG30: =SUM(AJ30:BC30) -> 302984.44
B32: 34 | D32: Charges financières | E32: =E33+E34+E35+E36+E37+E38 -> 156645.15 | F32: =F33+F34+F35+F36+F37+F38 -> 41407.5 | G32: =G33+G34+G35+G36+G37+G38 -> 71642.9 | H32: =H33+H34+H35+H36+H37+H38 -> 75086.97 | I32: =I33+I34+I35+I36+I37+I38 -> 465914.24 | J32: =J33+J34+J35+J36+J37+J38 -> 363924.84 | K32: =K33+K34+K35+K36+K37+K38 -> 225427.17 | L32: =L33+L34+L35+L36+L37+L38 -> 3137579 | ... BG32: =BG33+BG34+BG35+BG36+BG37+BG38 -> 3573806
C33: 340 | D33: Charges d'intérets | E33: 156645.15 | F33: 30817.39 | G33: 53361.35 | H33: 60888.62 | I33: 296135.36 | J33: 322862.84 | K33: 155775.39 | L33: 2529551.1 | M33: 56437.21 | N33: 6710.34 | O33: 450297.84 | P33: 38594.86 | Q33: 8899.5 | R33: 21426.75 | S33: 66129.07 | T33: 41844.2 | U33: 16995.22 | V33: 34228.76 | W33: 196047.92 | X33: 4762.57 | Y33: 135578.05 | Z33: 9613.4 | AA33: 4805.45 | AB33: 62402.87 | AC33: 69810.15 | AD33: 45431.34 | AE33: 7765.71 | AF33: 42075.34 | AG33: 139010.33 | AH33: 18355.89 | AI33: 4428.46 | AJ33: 178839.76 | AK33: 124437.21 | AL33: 133165.52 | AM33: 19222.49 | AN33: 89524.44 | AO33: 86450.95 | AP33: 79824.19 | AQ33: 89935.81 | AR33: 65076.03 | AS33: 104750.79 | AT33: 21291.29 | AU33: 221196.53 | AV33: 61086.18 | AW33: 7983.25 | AX33: 16170.03 | AY33: 301713.04 | AZ33: 46856.61 | BA33: 121337.51 | BB33: 882629.73 | BC33: 45684.08 | BD33: =SUM(E33:BC33) -> 7784863.9 | BE33: =SUM(E33:W33) -> 4543648.9 | BF33: =SUM(X33:AI33) -> 544039.56 | BG33: =SUM(AJ33:BC33) -> 2697175.4
C34: 341 | D34: Pertes sur les placements financiers et les immobilisations du PF | E34: 0 | F34: 0 | G34: 0 | H34: 0 | I34: 0 | J34: 0 | K34: 0 | L34: 0 | M34: 0 | N34: 0 | O34: 0 | P34: 0 | Q34: 0 | R34: 0 | S34: 0 | T34: 0 | U34: 0 | V34: 0 | W34: 14990.66 | X34: 0 | Y34: 0 | Z34: 0 | AA34: 0 | AB34: 0 | AC34: 0 | AD34: 0 | AE34: 0 | AF34: 0 | AG34: 0 | AH34: 2000 | AI34: 0 | AJ34: 0 | AK34: 1230.3 | AL34: 0 | AM34: 0 | AN34: 0 | AO34: 0 | AP34: 0 | AQ34: 0 | AR34: 0 | AS34: 0 | AT34: 0 | AU34: 0 | AV34: 0 | AW34: 0 | AX34: 0 | AY34: 0 | AZ34: 0 | BA34: 0 | BB34: 42039.5 | BC34: 0 | BD34: =SUM(E34:BC34) -> 60260.46 | BE34: =SUM(E34:W34) -> 14990.66 | BF34: =SUM(X34:AI34) -> 2000 | BG34: =SUM(AJ34:BC34) -> 43269.8
C35: 342 | D35: Frais d'acquisitions des capitaux et frais administratifs | E35: 0 | F35: 0 | G35: 0 | H35: 0 | I35: 0 | J35: 0 | K35: 0 | L35: 0 | M35: 0 | N35: 0 | O35: 0 | P35: 0 | Q35: 0 | R35: 0 | S35: 0 | T35: 0 | U35: 0 | V35: 8850.3 | W35: 37.35 | X35: 0 | Y35: 0 | Z35: 0 | AA35: 0 | AB35: 0 | AC35: 0 | AD35: 0 | AE35: 0 | AF35: 0 | AG35: 0 | AH35: 0 | AI35: 0 | AJ35: 0 | AK35: 0 | AL35: 0 | AM35: 0 | AN35: 0 | AO35: 0 | AP35: 0 | AQ35: 0 | AR35: 0 | AS35: 0 | AT35: 0 | AU35: 0 | AV35: 0 | AW35: 0 | AX35: 0 | AY35: 0 | AZ35: 0 | BA35: 0 | BB35: 0 | BC35: 0 | BD35: =SUM(E35:BC35) -> 8887.65 | BE35: =SUM(E35:W35) -> 8887.65 | BF35: =SUM(X35:AI35) -> 0 | BG35: =SUM(AJ35:BC35) -> 0
C36: 343 | D36: Charges pour les biens-fonds du PF | E36: 0 | F36: 10589.81 | G36: 18281.55 | H36: 14198.35 | I36: 169602.88 | J36: 41052 | K36: 62999.23 | L36: 608027.84 | M36: 15007 | N36: 0 | O36: 70987.7 | P36: 7190.2 | Q36: 1926.9 | R36: 11511.15 | S36: 2564.35 | T36: 36164.1 | U36: 9606.15 | V36: 0 | W36: 14496.1 | X36: 0 | Y36: 0 | Z36: 9596.55 | AA36: 10605.8 | AB36: 14847.7 | AC36: 3036.85 | AD36: 0 | AE36: 45896.5 | AF36: 22709.9 | AG36: 22010.95 | AH36: 303.8 | AI36: 19058.8 | AJ36: 14233.2 | AK36: 48750.7 | AL36: 31813.05 | AM36: 0 | AN36: 120898 | AO36: 14314.85 | AP36: 0 | AQ36: 164015.8 | AR36: 4788.25 | AS36: 49193.65 | AT36: 0 | AU36: 0 | AV36: 13909.35 | AW36: 469.55 | AX36: 0 | AY36: 962.25 | AZ36: 1297 | BA36: 33140.51 | BB36: 295235.25 | BC36: 20752.25 | BD36: =SUM(E36:BC36) -> 2056045.8 | BE36: =SUM(E36:W36) -> 1094205.3 | BF36: =SUM(X36:AI36) -> 148066.85 | BG36: =SUM(AJ36:BC36) -> 813773.66
C37: 344 | D37: Réévaluations des immobilisations du PF | E37: 0 | F37: 0 | G37: 0 | H37: 0 | I37: 176 | J37: 10 | K37: 6652.55 | L37: 0 | M37: 10 | N37: 0 | O37: 1463 | P37: 0 | Q37: 5 | R37: 0 | S37: 0 | T37: 1632.55 | U37: 0 | V37: 0 | W37: 0 | X37: 0 | Y37: 520 | Z37: 0 | AA37: 0 | AB37: 0 | AC37: 5 | AD37: 0 | AE37: 0 | AF37: 153087.05 | AG37: 0 | AH37: 0 | AI37: 300 | AJ37: 0 | AK37: 0 | AL37: 161.55 | AM37: 0 | AN37: 0 | AO37: 0 | AP37: 0 | AQ37: 0 | AR37: 0 | AS37: 0 | AT37: 0 | AU37: 0 | AV37: 0 | AW37: 0 | AX37: 0 | AY37: 125 | AZ37: 0 | BA37: 135 | BB37: 0 | BC37: 0 | BD37: =SUM(E37:BC37) -> 164282.7 | BE37: =SUM(E37:W37) -> 9949.1 | BF37: =SUM(X37:AI37) -> 153912.05 | BG37: =SUM(AJ37:BC37) -> 421.55
C38: 349 | D38: Autres charges financières | E38: 0 | F38: 0.3 | G38: 0 | H38: 0 | I38: 0 | J38: 0 | K38: 0 | L38: 0 | M38: 0.26 | N38: 0 | O38: 0 | P38: 0 | Q38: 0 | R38: 0 | S38: 0 | T38: 0 | U38: 0 | V38: 0 | W38: 95 | X38: 2817.8 | Y38: 0 | Z38: 0 | AA38: 1406.71 | AB38: 0 | AC38: 0 | AD38: 0 | AE38: 19.5 | AF38: 9.64 | AG38: 0 | AH38: 0 | AI38: 0 | AJ38: 0 | AK38: 7983.3 | AL38: 0 | AM38: 916.55 | AN38: 0 | AO38: 3867 | AP38: 0 | AQ38: 0 | AR38: 2024.8 | AS38: 0 | AT38: 0 | AU38: 0 | AV38: 18.55 | AW38: 1664.6 | AX38: 0 | AY38: 0 | AZ38: 0 | BA38: 0 | BB38: 0 | BC38: 2690.75 | BD38: =SUM(E38:BC38) -> 23514.76 | BE38: =SUM(E38:W38) -> 95.56 | BF38: =SUM(X38:AI38) -> 4253.65 | BG38: =SUM(AJ38:BC38) -> 19165.55
B40: 35 | D40: Attributions aux financements spéciaux des capitaux de tiers | E40: =E41+E42 -> 9169.55 | F40: =F41+F42 -> 18787.24 | G40: =G41+G42 -> 64197.5 | H40: =H41+H42 -> 0 | I40: =I41+I42 -> 433297.06 | J40: =J41+J42 -> 191890.75 | K40: =K41+K42 -> 214405.7 | L40: =L41+L42 -> 0 | ... BG40: =BG41+BG42 -> 2292744.2
C41: 350 | D41: Attributions aux financements spéciaux des capitaux de tiers | E41: 0 | F41: 0 | G41: 0 | H41: 0 | I41: 0 | J41: 0 | K41: 0 | L41: 0 | M41: 0 | N41: 9500 | O41: 0 | P41: 0 | Q41: 0 | R41: 0 | S41: 97828 | T41: 0 | U41: 0 | V41: 0 | W41: 0 | X41: 0 | Y41: 0 | Z41: 0 | AA41: 0 | AB41: 0 | AC41: 0 | AD41: 0 | AE41: 0 | AF41: 0 | AG41: 0 | AH41: 0 | AI41: 0 | AJ41: 0 | AK41: 0 | AL41: 0 | AM41: 0 | AN41: 0 | AO41: 0 | AP41: 0 | AQ41: 0 | AR41: 0 | AS41: 6705 | AT41: 0 | AU41: 15693.93 | AV41: 0 | AW41: 135.72 | AX41: 0 | AY41: 0 | AZ41: 0 | BA41: 0 | BB41: 0 | BC41: 0 | BD41: =SUM(E41:BC41) -> 129862.65 | BE41: =SUM(E41:W41) -> 107328 | BF41: =SUM(X41:AI41) -> 0 | BG41: =SUM(AJ41:BC41) -> 22534.65
C42: 351 | D42: Attributions aux financements spéciaux du capital propres | E42: 9169.55 | F42: 18787.24 | G42: 64197.5 | H42: 0 | I42: 433297.06 | J42: 191890.75 | K42: 214405.7 | L42: 0 | M42: 104202.19 | N42: 0 | O42: 1015205.8 | P42: 0 | Q42: 0 | R42: 126370 | S42: 0 | T42: 94394 | U42: 4808.45 | V42: 0 | W42: 0 | X42: 51812.1 | Y42: 1564.35 | Z42: 135879.62 | AA42: 6071 | AB42: 68838 | AC42: 6587 | AD42: 3878.14 | AE42: 20257.45 | AF42: 68654.45 | AG42: 112273.62 | AH42: 1143.8 | AI42: 3530.75 | AJ42: 228874.55 | AK42: 174342.2 | AL42: 80358.82 | AM42: 0 | AN42: 0 | AO42: 13297.81 | AP42: 2175 | AQ42: 122673.8 | AR42: 19646.85 | AS42: 155858.9 | AT42: 25295.75 | AU42: 211842.04 | AV42: 13924 | AW42: 37419.29 | AX42: 254.82 | AY42: 7325.7 | AZ42: 159180.69 | BA42: 23417.32 | BB42: 986875 | BC42: 7447.05 | BD42: =SUM(E42:BC42) -> 5027428.2 | BE42: =SUM(E42:W42) -> 2276728.3 | BF42: =SUM(X42:AI42) -> 480490.28 | BG42: =SUM(AJ42:BC42) -> 2270209.6
B44: 36 | D44: Charges de transferts | E44: =E45+E46+E47+E48+E49+E50+E51+E52 -> 2345563.3 | F44: =F45+F46+F47+F48+F49+F50+F51+F52 -> 654032.8 | G44: =G45+G46+G47+G48+G49+G50+G51+G52 -> 1087397.1 | H44: =H45+H46+H47+H48+H49+H50+H51+H52 -> 1029945.8 | I44: =I45+I46+I47+I48+I49+I50+I51+I52 -> 7923859.2 | J44: =J45+J46+J47+J48+J49+J50+J51+J52 -> 6872706.2 | K44: =K45+K46+K47+K48+K49+K50+K51+K52 -> 6793787.7 | L44: =L45+L46+L47+L48+L49+L50+L51+L52 -> 44381760 | ... BG44: =BG45+BG46+BG47+BG48+BG49+BG50+BG51+BG52 -> 66074166
C45: 360 | D45: Parts de revenus destinés à des collectivités publiques | E45: 5729.8 | F45: 1380 | G45: 1480 | H45: 960 | I45: 17277.82 | J45: 124428.85 | K45: 4300 | L45: 26576.65 | M45: 2980 | N45: 640 | O45: 103464.6 | P45: 1580 | Q45: 200 | R45: 1460 | S45: 960 | T45: 8050.5 | U45: 880 | V45: 900 | W45: 7240 | X45: 2260 | Y45: 10969.7 | Z45: 0 | AA45: 2416.75 | AB45: 4330 | AC45: 7357.1 | AD45: 4770 | AE45: 6636.45 | AF45: 18910 | AG45: 23350 | AH45: 2130 | AI45: 3004.1 | AJ45: 4510 | AK45: 5460 | AL45: 4410 | AM45: 868 | AN45: 70 | AO45: 420 | AP45: 1880 | AQ45: 6870 | AR45: 2520 | AS45: 2940 | AT45: 1570 | AU45: 5620 | AV45: 1880 | AW45: 0 | AX45: 1800 | AY45: 3700 | AZ45: 3490 | BA45: 4400 | BB45: 17762.45 | BC45: 2060 | BD45: =SUM(E45:BC45) -> 468852.77 | BE45: =SUM(E45:W45) -> 310488.22 | BF45: =SUM(X45:AI45) -> 86134.1 | BG45: =SUM(AJ45:BC45) -> 72230.45
C46: 361 | D46: Dédommagements aux collectivités publiques | E46: 1790032.2 | F46: 419258.9 | G46: 883953.05 | H46: 708666.93 | I46: 4881499.6 | J46: 4492830.1 | K46: 4984679.4 | L46: 19311602 | M46: 2778276.7 | N46: 141289.5 | O46: 12800044 | P46: 834768.8 | Q46: 181373.1 | R46: 727450.06 | S46: 566388.75 | T46: 1325705.6 | U46: 454484.15 | V46: 751261.9 | W46: 4499742.9 | X46: 520567.75 | Y46: 2104937.1 | Z46: 2587878.6 | AA46: 301436.9 | AB46: 959065.6 | AC46: 1322704.7 | AD46: 833872.2 | AE46: 995601.53 | AF46: 3461838.9 | AG46: 3246086.8 | AH46: 413167.26 | AI46: 201926.8 | AJ46: 3921665 | AK46: 1880208.1 | AL46: 2205873.8 | AM46: 140145.95 | AN46: 1596469.7 | AO46: 1346120.6 | AP46: 1174902.4 | AQ46: 2265739.2 | AR46: 1500795.9 | AS46: 1891517.7 | AT46: 590595.8 | AU46: 5358734.2 | AV46: 1565898.4 | AW46: 643629.56 | AX46: 513153.22 | AY46: 3155215 | AZ46: 711736.3 | BA46: 2004906.2 | BB46: 9068505.6 | BC46: 1067083.7 | BD46: =SUM(E46:BC46) -> 1.2208529e+08 | BE46: =SUM(E46:W46) -> 62533308 | BF46: =SUM(X46:AI46) -> 16949084 | BG46: =SUM(AJ46:BC46) -> 42602896
...

Sheet Graphique par nature
A4: Charges
A5: 30 Charges du personnel | B5: ='4.1 Comptes 2023 natures'!BD6 -> 74638884
A6: 31 Charges de biens et de services et autres charges d'exploitation | B6: ='4.1 Comptes 2023 natures'!BD16 -> 96876068
A7: 33 Amortissements du patrimoine administratif | B7: ='4.1 Comptes 2023 natures'!BD28 -> 24783613
A8: 34 Charges financières | B8: ='4.1 Comptes 2023 natures'!BD32 -> 10097855
A9: 35 Attributions aux financements spéciaux des capitaux de tiers | B9: ='4.1 Comptes 2023 natures'!BD40 -> 5157290.8
A10: 36 Charges de transferts | B10: ='4.1 Comptes 2023 natures'!BD44 -> 2.0169565e+08
A11: 37 Subventions à redistribuer | B11: ='4.1 Comptes 2023 natures'!BD54 -> 2662318.8
A12: 38 Charges extraordinaires | B12: ='4.1 Comptes 2023 natures'!BD57 -> 11718851
A13: 39 Imputations internes | B13: ='4.1 Comptes 2023 natures'!BD65 -> 7962557.8
A15: Revenus
A16: 40 Revenus fiscaux | B16: ='4.1 Comptes 2023 natures'!BD77 -> 2.4002464e+08
A17: 41 Revenus de patentes et de concessions | B17: ='4.1 Comptes 2023 natures'!BD83 -> 1087943.8
A18: 42 Taxes | B18: ='4.1 Comptes 2023 natures'!BD89 -> 1.0117329e+08
A19: 43 Revenus divers | B19: ='4.1 Comptes 2023 natures'!BD100 -> 2342089.6
A20: 44 Revenus financiers | B20: ='4.1 Comptes 2023 natures'!BD106 -> 19052522
A21: 45 Prélèvements sur les financements spéciaux | B21: ='4.1 Comptes 2023 natures'!BD118 -> 2705214.4
A22: 46 Revenus de transfert | B22: ='4.1 Comptes 2023 natures'!BD122 -> 63761571
A23: 47 Subventions à redistribuer | B23: ='4.1 Comptes 2023 natures'!BD129 -> 2823492.4
A24: 48 Revenus extraordinaires | B24: ='4.1 Comptes 2023 natures'!BD132 -> 1955015.1
A25: 49 Imputations internes | B25: ='4.1 Comptes 2023 natures'!BD141 -> 7971794.2

Sheet Résultats par commune
A1: Clôture du compte de résutlats global par commune (90)
A3: Communes | B3: Résultat général | C3: Résultat FS | D3: Résultat global | E3: Résultat par hab. | F3: Attribution R.P.B | G3: Prélèvement R.P.B
B4: Compte 900 | C4: Compte 901 | D4: Compte 90 | E4: Compte 90 par hab. | F4: Compte 389 | G4: Compte 489
A5: Boécourt | B5: ='4.1 Comptes 2023 natures'!E155 -> 23179.87 | C5: ='4.1 Comptes 2023 natures'!E156 -> 274400.28 | D5: ='4.1 Comptes 2023 natures'!E154 -> 297580.15 | E5: ='4.9 Comptes 2023 par habitant'!E154 -> 309.65676 | F5: ='4.1 Comptes 2023 natures'!E63 -> 0 | G5: ='4.1 Comptes 2023 natures'!E139 -> 7472.87
A6: Bourrignon | B6: ='4.1 Comptes 2023 natures'!F155 -> 114823.3 | C6: ='4.1 Comptes 2023 natures'!F156 -> 51613.27 | D6: ='4.1 Comptes 2023 natures'!F154 -> 166436.57 | E6: ='4.9 Comptes 2023 par habitant'!F154 -> 637.68801 | F6: ='4.1 Comptes 2023 natures'!F63 -> 0 | G6: ='4.1 Comptes 2023 natures'!F139 -> 0
A7: Châtillon | B7: ='4.1 Comptes 2023 natures'!G155 -> 51061.06 | C7: ='4.1 Comptes 2023 natures'!G156 -> 60359.21 | D7: ='4.1 Comptes 2023 natures'!G154 -> 111420.27 | E7: ='4.9 Comptes 2023 par habitant'!G154 -> 225.54711 | F7: ='4.1 Comptes 2023 natures'!G63 -> 0 | G7: ='4.1 Comptes 2023 natures'!G139 -> 0
A8: Courchapoix | B8: ='4.1 Comptes 2023 natures'!H155 -> -62293.63 | C8: ='4.1 Comptes 2023 natures'!H156 -> 185669.36 | D8: ='4.1 Comptes 2023 natures'!H154 -> 123375.73 | E8: ='4.9 Comptes 2023 par habitant'!H154 -> 277.24883 | F8: ='4.1 Comptes 2023 natures'!H63 -> 0 | G8: ='4.1 Comptes 2023 natures'!H139 -> 2572.45
A9: Courrendlin | B9: ='4.1 Comptes 2023 natures'!I155 -> 33918.5 | C9: ='4.1 Comptes 2023 natures'!I156 -> 123719.15 | D9: ='4.1 Comptes 2023 natures'!I154 -> 157637.65 | E9: ='4.9 Comptes 2023 par habitant'!I154 -> 42.988178 | F9: ='4.1 Comptes 2023 natures'!I63 -> 150000 | G9: ='4.1 Comptes 2023 natures'!I139 -> 164654.8
A10: Courroux | B10: ='4.1 Comptes 2023 natures'!J155 -> 490967.6 | C10: ='4.1 Comptes 2023 natures'!J156 -> -213981.23 | D10: ='4.1 Comptes 2023 natures'!J154 -> 276986.37 | E10: ='4.9 Comptes 2023 par habitant'!J154 -> 81.562535 | F10: ='4.1 Comptes 2023 natures'!J63 -> 190359.86 | G10: ='4.1 Comptes 2023 natures'!J139 -> 0
A11: Courtételle | B11: ='4.1 Comptes 2023 natures'!K155 -> 15593.4 | C11: ='4.1 Comptes 2023 natures'!K156 -> 28753.05 | D11: ='4.1 Comptes 2023 natures'!K154 -> 44346.45 | E11: ='4.9 Comptes 2023 par habitant'!K154 -> 16.279901 | F11: ='4.1 Comptes 2023 natures'!K63 -> 900000 | G11: ='4.1 Comptes 2023 natures'!K139 -> 14467.75
A12: Delémont | B12: ='4.1 Comptes 2023 natures'!L155 -> -2174361.6 | C12: ='4.1 Comptes 2023 natures'!L156 -> 1256534.9 | D12: ='4.1 Comptes 2023 natures'!L154 -> -917826.71 | E12: ='4.9 Comptes 2023 par habitant'!L154 -> -72.048568 | F12: ='4.1 Comptes 2023 natures'!L63 -> 0 | G12: ='4.1 Comptes 2023 natures'!L139 -> 1253909
A13: Develier | B13: ='4.1 Comptes 2023 natures'!M155 -> 30502.48 | C13: ='4.1 Comptes 2023 natures'!M156 -> 205982.75 | D13: ='4.1 Comptes 2023 natures'!M154 -> 236485.23 | E13: ='4.9 Comptes 2023 par habitant'!M154 -> 172.36533 | F13: ='4.1 Comptes 2023 natures'!M63 -> 0 | G13: ='4.1 Comptes 2023 natures'!M139 -> 10700
A14: Ederswiler | B14: ='4.1 Comptes 2023 natures'!N155 -> -15903.22 | C14: ='4.1 Comptes 2023 natures'!N156 -> 5534.34 | D14: ='4.1 Comptes 2023 natures'!N154 -> -10368.88 | E14: ='4.9 Comptes 2023 par habitant'!N154 -> -88.622906 | F14: ='4.1 Comptes 2023 natures'!N63 -> 0 | G14: ='4.1 Comptes 2023 natures'!N139 -> 0
A15: Haute-Sorne | B15: ='4.1 Comptes 2023 natures'!O155 -> -610295.42 | C15: ='4.1 Comptes 2023 natures'!O156 -> 223698.82 | D15: ='4.1 Comptes 2023 natures'!O154 -> -386596.6 | E15: ='4.9 Comptes 2023 par habitant'!O154 -> -52.512442 | F15: ='4.1 Comptes 2023 natures'!O63 -> 0 | G15: ='4.1 Comptes 2023 natures'!O139 -> 413099.54
A16: Mervelier | B16: ='4.1 Comptes 2023 natures'!P155 -> 129779.38 | C16: ='4.1 Comptes 2023 natures'!P156 -> 64898.12 | D16: ='4.1 Comptes 2023 natures'!P154 -> 194677.5 | E16: ='4.9 Comptes 2023 par habitant'!P154 -> 363.88318 | F16: ='4.1 Comptes 2023 natures'!P63 -> 0 | G16: ='4.1 Comptes 2023 natures'!P139 -> 3001.3
A17: Mettembert | B17: ='4.1 Comptes 2023 natures'!Q155 -> -40694.73 | C17: ='4.1 Comptes 2023 natures'!Q156 -> 24850.27 | D17: ='4.1 Comptes 2023 natures'!Q154 -> -15844.46 | E17: ='4.9 Comptes 2023 par habitant'!Q154 -> -141.46839 | F17: ='4.1 Comptes 2023 natures'!Q63 -> 0 | G17: ='4.1 Comptes 2023 natures'!Q139 -> 0
A18: Movelier | B18: ='4.1 Comptes 2023 natures'!R155 -> 50997.63 | C18: ='4.1 Comptes 2023 natures'!R156 -> -48281.74 | D18: ='4.1 Comptes 2023 natures'!R154 -> 2715.89 | E18: ='4.9 Comptes 2023 par habitant'!R154 -> 6.4664048 | F18: ='4.1 Comptes 2023 natures'!R63 -> 130000 | G18: ='4.1 Comptes 2023 natures'!R139 -> 0
A19: Pleigne | B19: ='4.1 Comptes 2023 natures'!S155 -> -37329.83 | C19: ='4.1 Comptes 2023 natures'!S156 -> -26048.83 | D19: ='4.1 Comptes 2023 natures'!S154 -> -63378.66 | E19: ='4.9 Comptes 2023 par habitant'!S154 -> -181.60074 | F19: ='4.1 Comptes 2023 natures'!S63 -> 0 | G19: ='4.1 Comptes 2023 natures'!S139 -> 0
A20: Rossemaison | B20: ='4.1 Comptes 2023 natures'!T155 -> 60782.33 | C20: ='4.1 Comptes 2023 natures'!T156 -> 58988.42 | D20: ='4.1 Comptes 2023 natures'!T154 -> 119770.75 | E20: ='4.9 Comptes 2023 par habitant'!T154 -> 163.39802 | F20: ='4.1 Comptes 2023 natures'!T63 -> 0 | G20: ='4.1 Comptes 2023 natures'!T139 -> 8700
A21: Saulcy | B21: ='4.1 Comptes 2023 natures'!U155 -> 9611.35 | C21: ='4.1 Comptes 2023 natures'!U156 -> 19001.49 | D21: ='4.1 Comptes 2023 natures'!U154 -> 28612.84 | E21: ='4.9 Comptes 2023 par habitant'!U154 -> 104.80894 | F21: ='4.1 Comptes 2023 natures'!U63 -> 20000 | G21: ='4.1 Comptes 2023 natures'!U139 -> 667.55
A22: Soyhières | B22: ='4.1 Comptes 2023 natures'!V155 -> 25754.84 | C22: ='4.1 Comptes 2023 natures'!V156 -> 27460.59 | D22: ='4.1 Comptes 2023 natures'!V154 -> 53215.43 | E22: ='4.9 Comptes 2023 par habitant'!V154 -> 123.46968 | F22: ='4.1 Comptes 2023 natures'!V63 -> 30000 | G22: ='4.1 Comptes 2023 natures'!V139 -> 0
A23: Val Terbi | B23: ='4.1 Comptes 2023 natures'!W155 -> 57003.82 | C23: ='4.1 Comptes 2023 natures'!W156 -> 111868.45 | D23: ='4.1 Comptes 2023 natures'!W154 -> 168872.27 | E23: ='4.9 Comptes 2023 par habitant'!W154 -> 51.658694 | F23: ='4.1 Comptes 2023 natures'!W63 -> 500000 | G23: ='4.1 Comptes 2023 natures'!W139 -> 13302.8
A24: Le Bémont | B24: ='4.1 Comptes 2023 natures'!X155 -> 43384.87 | C24: ='4.1 Comptes 2023 natures'!X156 -> 15751.6 | D24: ='4.1 Comptes 2023 natures'!X154 -> 59136.47 | E24: ='4.9 Comptes 2023 par habitant'!X154 -> 193.89007 | F24: ='4.1 Comptes 2023 natures'!X63 -> 0 | G24: ='4.1 Comptes 2023 natures'!X139 -> 0
A25: Les Bois | B25: ='4.1 Comptes 2023 natures'!Y155 -> 935477.29 | C25: ='4.1 Comptes 2023 natures'!Y156 -> 151635.34 | D25: ='4.1 Comptes 2023 natures'!Y154 -> 1087112.6 | E25: ='4.9 Comptes 2023 par habitant'!Y154 -> 868.30082 | F25: ='4.1 Comptes 2023 natures'!Y63 -> 0 | G25: ='4.1 Comptes 2023 natures'!Y139 -> 0
A26: Les Breuleux | B26: ='4.1 Comptes 2023 natures'!Z155 -> 2357312.5 | C26: ='4.1 Comptes 2023 natures'!Z156 -> 319856.37 | D26: ='4.1 Comptes 2023 natures'!Z154 -> 2677168.9 | E26: ='4.9 Comptes 2023 par habitant'!Z154 -> 1630.4317 | F26: ='4.1 Comptes 2023 natures'!Z63 -> 3397569.3 | G26: ='4.1 Comptes 2023 natures'!Z139 -> 0
A27: Les Enfers | B27: ='4.1 Comptes 2023 natures'!AA155 -> -8997.33 | C27: ='4.1 Comptes 2023 natures'!AA156 -> 24625.58 | D27: ='4.1 Comptes 2023 natures'!AA154 -> 15628.25 | E27: ='4.9 Comptes 2023 par habitant'!AA154 -> 104.88758 | F27: ='4.1 Comptes 2023 natures'!AA63 -> 0 | G27: ='4.1 Comptes 2023 natures'!AA139 -> 0
A28: Les Genevez | B28: ='4.1 Comptes 2023 natures'!AB155 -> 0 | C28: ='4.1 Comptes 2023 natures'!AB156 -> -260378.03 | D28: ='4.1 Comptes 2023 natures'!AB154 -> -260378.03 | E28: ='4.9 Comptes 2023 par habitant'!AB154 -> -510.54516 | F28: ='4.1 Comptes 2023 natures'!AB63 -> 0 | G28: ='4.1 Comptes 2023 natures'!AB139 -> 0
A29: Lajoux | B29: ='4.1 Comptes 2023 natures'!AC155 -> 3071.68 | C29: ='4.1 Comptes 2023 natures'!AC156 -> 8093.97 | D29: ='4.1 Comptes 2023 natures'!AC154 -> 11165.65 | E29: ='4.9 Comptes 2023 par habitant'!AC154 -> 15.726268 | F29: ='4.1 Comptes 2023 natures'!AC63 -> 371205.37 | G29: ='4.1 Comptes 2023 natures'!AC139 -> 0
A30: Montfaucon | B30: ='4.1 Comptes 2023 natures'!AD155 -> 1023.72 | C30: ='4.1 Comptes 2023 natures'!AD156 -> -17572.05 | D30: ='4.1 Comptes 2023 natures'!AD154 -> -16548.33 | E30: ='4.9 Comptes 2023 par habitant'!AD154 -> -29.237332 | F30: ='4.1 Comptes 2023 natures'!AD63 -> 0 | G30: ='4.1 Comptes 2023 natures'!AD139 -> 0
A31: Muriaux | B31: ='4.1 Comptes 2023 natures'!AE155 -> 49294.34 | C31: ='4.1 Comptes 2023 natures'!AE156 -> 29333.06 | D31: ='4.1 Comptes 2023 natures'!AE154 -> 78627.4 | E31: ='4.9 Comptes 2023 par habitant'!AE154 -> 154.77835 | F31: ='4.1 Comptes 2023 natures'!AE63 -> 460000 | G31: ='4.1 Comptes 2023 natures'!AE139 -> 0
A32: Le Noirmont | B32: ='4.1 Comptes 2023 natures'!AF155 -> 1399806.9 | C32: ='4.1 Comptes 2023 natures'!AF156 -> 338918.52 | D32: ='4.1 Comptes 2023 natures'!AF154 -> 1738725.5 | E32: ='4.9 Comptes 2023 par habitant'!AF154 -> 888.46472 | F32: ='4.1 Comptes 2023 natures'!AF63 -> 0 | G32: ='4.1 Comptes 2023 natures'!AF139 -> 0
A33: Saignelégier | B33: ='4.1 Comptes 2023 natures'!AG155 -> 217683.4 | C33: ='4.1 Comptes 2023 natures'!AG156 -> 359515.81 | D33: ='4.1 Comptes 2023 natures'!AG154 -> 577199.21 | E33: ='4.9 Comptes 2023 par habitant'!AG154 -> 224.76605 | F33: ='4.1 Comptes 2023 natures'!AG63 -> 900000 | G33: ='4.1 Comptes 2023 natures'!AG139 -> 0
A34: Saint-Brais | B34: ='4.1 Comptes 2023 natures'!AH155 -> 1520.35 | C34: ='4.1 Comptes 2023 natures'!AH156 -> 45034.14 | D34: ='4.1 Comptes 2023 natures'!AH154 -> 46554.49 | E34: ='4.9 Comptes 2023 par habitant'!AH154 -> 194.78866 | F34: ='4.1 Comptes 2023 natures'!AH63 -> 0 | G34: ='4.1 Comptes 2023 natures'!AH139 -> 0
A35: Soubey | B35: ='4.1 Comptes 2023 natures'!AI155 -> 4424.65 | C35: ='4.1 Comptes 2023 natures'!AI156 -> 100589.89 | D35: ='4.1 Comptes 2023 natures'!AI154 -> 105014.54 | E35: ='4.9 Comptes 2023 par habitant'!AI154 -> 840.11632 | F35: ='4.1 Comptes 2023 natures'!AI63 -> 80000 | G35: ='4.1 Comptes 2023 natures'!AI139 -> 0
A36: Alle | B36: ='4.1 Comptes 2023 natures'!AJ155 -> 53241 | C36: ='4.1 Comptes 2023 natures'!AJ156 -> 223981.27 | D36: ='4.1 Comptes 2023 natures'!AJ154 -> 277222.27 | E36: ='4.9 Comptes 2023 par habitant'!AJ154 -> 145.37088 | F36: ='4.1 Comptes 2023 natures'!AJ63 -> 470300.7 | G36: ='4.1 Comptes 2023 natures'!AJ139 -> 0
A37: La Baroche | B37: ='4.1 Comptes 2023 natures'!AK155 -> 20312.21 | C37: ='4.1 Comptes 2023 natures'!AK156 -> -1368.96 | D37: ='4.1 Comptes 2023 natures'!AK154 -> 18943.25 | E37: ='4.9 Comptes 2023 par habitant'!AK154 -> 16.704806 | F37: ='4.1 Comptes 2023 natures'!AK63 -> 723729.2 | G37: ='4.1 Comptes 2023 natures'!AK139 -> 0
A38: Basse-Allaine | B38: ='4.1 Comptes 2023 natures'!AL155 -> 46649.92 | C38: ='4.1 Comptes 2023 natures'!AL156 -> 26548.08 | D38: ='4.1 Comptes 2023 natures'!AL154 -> 73198 | E38: ='4.9 Comptes 2023 par habitant'!AL154 -> 60.846218 | F38: ='4.1 Comptes 2023 natures'!AL63 -> 0 | G38: ='4.1 Comptes 2023 natures'!AL139 -> 0
A39: Beurnevésin | B39: ='4.1 Comptes 2023 natures'!AM155 -> 13050.46 | C39: ='4.1 Comptes 2023 natures'!AM156 -> -40289.94 | D39: ='4.1 Comptes 2023 natures'!AM154 -> -27239.48 | E39: ='4.9 Comptes 2023 par habitant'!AM154 -> -243.20964 | F39: ='4.1 Comptes 2023 natures'!AM63 -> 15690.5 | G39: ='4.1 Comptes 2023 natures'!AM139 -> 0
A40: Boncourt | B40: ='4.1 Comptes 2023 natures'!AN155 -> 116926.76 | C40: ='4.1 Comptes 2023 natures'!AN156 -> -100135.89 | D40: ='4.1 Comptes 2023 natures'!AN154 -> 16790.87 | E40: ='4.9 Comptes 2023 par habitant'!AN154 -> 14.338915 | F40: ='4.1 Comptes 2023 natures'!AN63 -> 2170000 | G40: ='4.1 Comptes 2023 natures'!AN139 -> 0
A41: Bonfol | B41: ='4.1 Comptes 2023 natures'!AO155 -> -470965.71 | C41: ='4.1 Comptes 2023 natures'!AO156 -> 3651.03 | D41: ='4.1 Comptes 2023 natures'!AO154 -> -467314.68 | E41: ='4.9 Comptes 2023 par habitant'!AO154 -> -713.45753 | F41: ='4.1 Comptes 2023 natures'!AO63 -> 0 | G41: ='4.1 Comptes 2023 natures'!AO139 -> 607
...

Sheet 4.9 Comptes 2023 par habitant
A2: Comptes de résultats par natures 2023
