Workbook

Sheet Sommaire
A2: Rapport sur les finances communales - exercice 2021
B4: Sommaire
A6: 1 | B6: Population
A7: 1.1 | B7: Population | C7: Population
A9: 2 | B9: Compte de résultat
A10: 2.1 | B10: Compte de résultats par nature par commune | C10: Compte de résultats
A11: 2.2 | B11: Compte de résultats pas nature en Fr. par habitant | C11: Compte de résultats en Fr. par habitant
A12: 2.3 | B12: Compte de résultats par nature en Fr. par habitant par commune | C12: Compte de résultats en Fr. par commune
A13: 2.4 | B13: Vue d'ensemble | C13: Vue d'ensemble
A14: 2.5 | B14: Vue d'ensemble par commune | C14: Vue d'ensemble par commune
A15: 2.6 | B15: Résultats à 3 niveaux | C15: Résultats à 3 niveaux
A16: 2.7 | B16: Résultats à 3 nivaux par commune | C16: Résultats à 3 niveaux par commune
A17: 2.8 | B17: Autofinancement | C17: Autofinancement
A18: 2.9 | B18: Autofinancement par commune | C18: Autofinancement par commune
A19: 2.1 | B19: Compte de résultats par fonction | C19: Compte de résultats par fonction
A20: 2.11 | B20: Compte de résultats par fonction par commune | C20: Compte de résultats fonctionnel par commune
A22: 3 | B22: Bilan
A23: 3.2 | B23: Bilan de l'ensemble des communes | C23: Bilan de l'ensemble des communes
A24: 3.3 | B24: Bilan par commune | C24: Bilan par commune
A25: 3.4 | B25: Tableau du bilan | C25: Tableau du bilan
A26: 3.5 | B26: Tableau de l'endettement | C26: Endettement
A27: 3.6 | B27: Tableau de l'endettement par commune | C27: Endettement par commune
A29: 4 | B29: Comptes des investissements
A30: 4.1 | B30: Investissements de l'ensemble des communes | C30: Investissements
A31: 4.2 | B31: Investissements par commune | C31: Investissements par commune
A33: 5 | B33: Indicateurs financiers
A34: 5.1 | B34: Définition des indicateurs financiers | C34: Définition des indicateurs financiers
A35: 5.2 | B35: Quotient de l'endettement net et degré d'autofinancement | C35: Degré d'autofinancement
A36: 5.3 | B36: Quotité de la charge des intérêts et dette brute par rapport aux revenus | C36: Dette brute par rapport aux revenus
A37: 5.4 | B37: Quotité d'investissement et quotité de la charge financière | C37: Quotités d'investissement et charges financière
A38: 5.5 | B38: Quotité d'autofinancement et quotité de la charge des intérêts nets | C38: Quotité d''autofinancement
A39: 5.6 | B39: Quotient de l'excédent au bilan | C39: Quotient excédent du bilan
A40: 5.7 | B40: Récapitulatif de l'ensemble des communes | C40: Récapitulatif
A41: 5.8 | B41: Récapitulatif par commune | C41: Récapitulatif par commune

Sheet Base de données pop.
A1: N° | B1: Communes | C1: 2022 | M1: N° | N1: Communes | O1: 2022
A2: 1 | B2: Boécourt | C2: 951 | G2: Ne pas effectuer de tri avec cette feuille, c'est la base de donnée. | M2: 1 | N2: Alle | O2: =C34 -> 1882
A3: 2 | B3: Bourrignon | C3: 258 | M3: 2 | N3: Basse-Allaine | O3: =C36 -> 1217
A4: 3 | B4: Châtillon | C4: 471 | M4: 3 | N4: Beurnevésin | O4: =C37 -> 117
A5: 4 | B5: Courchapoix | C5: 441 | F5: Population par district | M5: 4 | N5: Boécourt | O5: =C2 -> 951
A6: 5 | B6: Courrendlin | C6: 3686 | F6: Delémont | H6: =SUM(C2:C20) -> 39309 | M6: 5 | N6: Boncourt | O6: =C38 -> 1205
A7: 6 | B7: Courroux | C7: 3313 | F7: Franches-Montagnes | H7: =SUM(C21:C33) -> 10433 | M7: 6 | N7: Bonfol | O7: =C39 -> 625
A8: 7 | B8: Courtételle | C8: 2654 | F8: Porrentruy | H8: =SUM(C34:C54) -> 24123 | M8: 7 | N8: Bourrignon | O8: =C3 -> 258
A9: 8 | B9: Delémont | C9: 12636 | H9: =SUM(H6:H8) -> 73865 | M9: 8 | N9: Bure | O9: =C40 -> 631
A10: 9 | B10: Develier | C10: 1360 | M10: 9 | N10: Châtillon | O10: =C4 -> 471
A11: 10 | B11: Ederswiler | C11: 112 | M11: 10 | N11: Clos du Doubs | O11: =C41 -> 1275
A12: 11 | B12: Haute-Sorne | C12: 7319 | M12: 11 | N12: Coeuve | O12: =C42 -> 718
A13: 12 | B13: Mervelier | C13: 522 | M13: 12 | N13: Cornol | O13: =C43 -> 1018
A14: 13 | B14: Mettembert | C14: 106 | M14: 13 | N14: Courchapoix | O14: =C5 -> 441
A15: 14 | B15: Movelier | C15: 425 | M15: 14 | N15: Courchavon | O15: =C44 -> 293
A16: 15 | B16: Pleigne | C16: 350 | M16: 15 | N16: Courgenay | O16: =C45 -> 2435
A17: 16 | B17: Rossemaison | C17: 733 | M17: 16 | N17: Courrendlin | O17: =C6 -> 3686
A18: 17 | B18: Saulcy | C18: 270 | M18: 17 | N18: Courroux | O18: =C7 -> 3313
A19: 18 | B19: Soyhières | C19: 417 | M19: 18 | N19: Courtedoux | O19: =C46 -> 786
A20: 19 | B20: Val Terbi | C20: 3285 | M20: 19 | N20: Courtételle | O20: =C8 -> 2654
A21: 20 | B21: Le Bémont | C21: 308 | M21: 20 | N21: Damphreux | O21: =C47 -> 184
A22: 21 | B22: Les Bois | C22: 1258 | M22: 21 | N22: Delémont | O22: =C9 -> 12636
A23: 22 | B23: Les Breuleux | C23: 1524 | M23: 22 | N23: Develier | O23: =C10 -> 1360
A24: 23 | B24: La Chaux-B. | C24: 87 | M24: 23 | N24: Ederswiler | O24: =C11 -> 112
A25: 24 | B25: Les Enfers | C25: 156 | M25: 24 | N25: Fahy | O25: =C48 -> 333
A26: 25 | B26: Les Genevez | C26: 510 | M26: 25 | N26: Fontenais | O26: =C49 -> 1674
A27: 26 | B27: Lajoux | C27: 705 | M27: 26 | N27: Grandfontaine | O27: =C50 -> 391
A28: 27 | B28: Montfaucon | C28: 551 | M28: 27 | N28: Haute-Ajoie | O28: =C51 -> 1052
A29: 28 | B29: Muriaux | C29: 511 | M29: 28 | N29: Haute-Sorne | O29: =C12 -> 7319
A30: 29 | B30: Le Noirmont | C30: 1902 | M30: 29 | N30: La Baroche | O30: =C35 -> 1114
A31: 30 | B31: Saignelégier | C31: 2575 | M31: 30 | N31: La Chaux-B. | O31: =C24 -> 87
A32: 31 | B32: Saint-Brais | C32: 228 | M32: 31 | N32: Lajoux | O32: =C27 -> 705
A33: 32 | B33: Soubey | C33: 118 | M33: 32 | N33: Le Bémont | O33: =C21 -> 308
A34: 33 | B34: Alle | C34: 1882 | M34: 33 | N34: Le Noirmont | O34: =C30 -> 1902
A35: 34 | B35: La Baroche | C35: 1114 | M35: 34 | N35: Les Bois | O35: =C22 -> 1258
A36: 35 | B36: Basse-Allaine | C36: 1217 | M36: 35 | N36: Les Breuleux | O36: =C23 -> 1524
A37: 36 | B37: Beurnevésin | C37: 117 | M37: 36 | N37: Les Enfers | O37: =C25 -> 156
A38: 37 | B38: Boncourt | C38: 1205 | M38: 37 | N38: Les Genevez | O38: =C26 -> 510
A39: 38 | B39: Bonfol | C39: 625 | M39: 38 | N39: Lugnez | O39: =C52 -> 186
A40: 39 | B40: Bure | C40: 631 | M40: 39 | N40: Mervelier | O40: =C13 -> 522
...

Sheet Population
B3: moins de 200 habitants | E3: 201 à 500 habitants | G3: 501 à 1'000 habitants | J3: 1'001 à 2'000 habitants | M3: 2001 à 3'000 habitant | P3: plus de 3'000 habitant
A5: 1 | B5: La Chaux | C5: ='Base de données pop.'!C24 -> 87 | D5: 9 | E5: Saint-Brais | F5: ='Base de données pop.'!C32 -> 228 | G5: 21 | H5: Les Genevez | I5: ='Base de données pop.'!C26 -> 510 | J5: 33 | K5: Cornol | L5: ='Base de données pop.'!C43 -> 1018 | M5: 45 | N5: Courgenay | O5: ='Base de données pop.'!C45 -> 2435 | P5: 48 | Q5: Val Terbi | R5: ='Base de données pop.'!C20 -> 3285
A6: 2 | B6: Mettembert | C6: ='Base de données pop.'!C14 -> 106 | D6: 10 | E6: Bourrignon | F6: ='Base de données pop.'!C3 -> 258 | G6: 22 | H6: Muriaux | I6: ='Base de données pop.'!C29 -> 511 | J6: 34 | K6: Haute-Ajoie | L6: ='Base de données pop.'!C51 -> 1052 | M6: 46 | N6: Saignelégier | O6: ='Base de données pop.'!C31 -> 2575 | P6: 49 | Q6: Courroux | R6: ='Base de données pop.'!C7 -> 3313
A7: 3 | B7: Ederswiler | C7: ='Base de données pop.'!C11 -> 112 | D7: 11 | E7: Saulcy | F7: ='Base de données pop.'!C18 -> 270 | G7: 23 | H7: Mervelier | I7: ='Base de données pop.'!C13 -> 522 | J7: 35 | K7: La Baroche | L7: ='Base de données pop.'!C35 -> 1114 | M7: 47 | N7: Courtételle | O7: ='Base de données pop.'!C8 -> 2654 | P7: 50 | Q7: Courrendlin | R7: ='Base de données pop.'!C6 -> 3686
A8: 4 | B8: Beurnevésin | C8: ='Base de données pop.'!C37 -> 117 | D8: 12 | E8: Courchavon | F8: ='Base de données pop.'!C44 -> 293 | G8: 24 | H8: Vendlincourt | I8: ='Base de données pop.'!C54 -> 546 | J8: 36 | K8: Boncourt | L8: ='Base de données pop.'!C38 -> 1205 | O8: =SUM(O5:O7) -> 7664 | P8: 51 | Q8: Porrentruy | R8: ='Base de données pop.'!C53 -> 6441
A9: 5 | B9: Soubey | C9: ='Base de données pop.'!C33 -> 118 | D9: 13 | E9: Le Bémont | F9: ='Base de données pop.'!C21 -> 308 | G9: 25 | H9: Montfaucon | I9: ='Base de données pop.'!C28 -> 551 | J9: 37 | K9: Basse-Allaine | L9: ='Base de données pop.'!C36 -> 1217 | N9: moyenne | O9: =O8/5 -> 1532.8 | P9: 52 | Q9: Haute-Sorne | R9: ='Base de données pop.'!C12 -> 7319
A10: 6 | B10: Les Enfers | C10: ='Base de données pop.'!C25 -> 156 | D10: 14 | E10: Fahy | F10: ='Base de données pop.'!C48 -> 333 | G10: 26 | H10: Bonfol | I10: ='Base de données pop.'!C39 -> 625 | J10: 38 | K10: Les Bois | L10: ='Base de données pop.'!C22 -> 1258 | P10: 53 | Q10: Delémont | R10: ='Base de données pop.'!C9 -> 12636
A11: 7 | B11: Lugnez | C11: ='Base de données pop.'!C52 -> 186 | D11: 15 | E11: Pleigne | F11: ='Base de données pop.'!C16 -> 350 | G11: 27 | H11: Bure | I11: ='Base de données pop.'!C40 -> 631 | J11: 39 | K11: Clos du Doubs | L11: ='Base de données pop.'!C41 -> 1275 | R11: =SUM(R5:R10) -> 36680
A12: 8 | B12: Damphreux | C12: ='Base de données pop.'!C47 -> 184 | D12: 16 | E12: Grandfontaine | F12: ='Base de données pop.'!C50 -> 391 | G12: 28 | H12: Lajoux | I12: ='Base de données pop.'!C27 -> 705 | J12: 40 | K12: Develier | L12: ='Base de données pop.'!C10 -> 1360 | Q12: moyenne | R12: =R11/4 -> 9170
C13: =SUM(C5:C12) -> 1066 | D13: 17 | E13: Soyhières | F13: ='Base de données pop.'!C19 -> 417 | G13: 29 | H13: Coeuve | I13: ='Base de données pop.'!C42 -> 718 | J13: 41 | K13: Les Breuleux | L13: ='Base de données pop.'!C23 -> 1524
B14: moyenne | C14: =C13/8 -> 133.25 | D14: 18 | E14: Movelier | F14: ='Base de données pop.'!C15 -> 425 | G14: 30 | H14: Rossemaison | I14: ='Base de données pop.'!C17 -> 733 | J14: 42 | K14: Fontenais | L14: ='Base de données pop.'!C49 -> 1674 | S14: =C13+F17+I17+L17+O8+R11 -> 73865
D15: 19 | E15: Courchapoix | F15: ='Base de données pop.'!C5 -> 441 | G15: 31 | H15: Courdedoux | I15: ='Base de données pop.'!C46 -> 786 | J15: 43 | K15: Alle | L15: ='Base de données pop.'!C34 -> 1882 | S15: =S14/53 -> 1393.6792
D16: 20 | E16: Châtillon | F16: ='Base de données pop.'!C4 -> 471 | G16: 32 | H16: Boécourt | I16: ='Base de données pop.'!C2 -> 951 | J16: 44 | K16: Le Noirmont | L16: ='Base de données pop.'!C30 -> 1902 | U16: MOINS DE 1000 HABITANTS
F17: =SUM(F5:F16) -> 4185 | I17: =SUM(I5:I16) -> 7789 | L17: =SUM(L5:L16) -> 16481 | U17: =C13+F17+I17 -> 13040
E18: moyenne | F18: =F17/13 -> 321.92308 | H18: moyenne | I18: =I17/11 -> 708.09091 | K18: moyenne | L18: =L17/12 -> 1373.4167
B21: =C13+F17+I17+L17+O8+R11 -> 73865
K23: Par Disctrict | L23: Delémont | O23: 39303
B24: 8 communes de moins 200 habitants | C24: =C13 -> 1066 | E24: =C24*100/B21 -> 1.4431734 | L24: Franches-Montagnes | O24: 10432
B25: 13 communes de 200 à 500 habitants | C25: =F17 -> 4185 | E25: =C25*100/B21 -> 5.6657416 | F25: =E24+E25 -> 7.1089149 | L25: Porrentruy | O25: 24116
B26: 11 communes de 501 à 1'000 habitants | C26: =I17 -> 7789 | E26: =C26*100/B21 -> 10.544913 | L26: Total | O26: =SUM(O23:O25) -> 73851
B27: 12 communes de 1'001 à 2'000 habitants | C27: =L17 -> 16481 | E27: =C27*100/B21 -> 22.312327
B28: 3 communes de 2'001 à 3'000 habitants | C28: =O8 -> 7664 | E28: =C28*100/B21 -> 10.375685
B29: 6 communes de plus 3'000 habitants | C29: =R11 -> 36680 | E29: =C29*100/B21 -> 49.65816
C30: =SUM(C24:C29) -> 73865 | E30: =C30*100/B21 -> 100

Sheet 4.1 Comptes 2022 natures
A2: Comptes de résultats par natures 2022
A3: Comptes consolidés de l'ensemble des communes et par district | E3: ='Base de données pop.'!C2 -> 951 | F3: ='Base de données pop.'!C3 -> 258 | G3: ='Base de données pop.'!C4 -> 471 | H3: ='Base de données pop.'!C5 -> 441 | I3: ='Base de données pop.'!C6 -> 3686 | J3: ='Base de données pop.'!C7 -> 3313 | K3: ='Base de données pop.'!C8 -> 2654 | L3: ='Base de données pop.'!C9 -> 12636 | M3: ='Base de données pop.'!C10 -> 1360 | N3: ='Base de données pop.'!C11 -> 112 | O3: ='Base de données pop.'!C12 -> 7319 | P3: ='Base de données pop.'!C13 -> 522 | Q3: ='Base de données pop.'!C14 -> 106 | R3: ='Base de données pop.'!C15 -> 425 | S3: ='Base de données pop.'!C16 -> 350 | T3: ='Base de données pop.'!C17 -> 733 | U3: ='Base de données pop.'!C18 -> 270 | V3: ='Base de données pop.'!C19 -> 417 | W3: ='Base de données pop.'!C20 -> 3285 | X3: ='Base de données pop.'!C21 -> 308 | Y3: ='Base de données pop.'!C22 -> 1258 | Z3: ='Base de données pop.'!C23 -> 1524 | AA3: ='Base de données pop.'!C24 -> 87 | AB3: ='Base de données pop.'!C25 -> 156 | AC3: ='Base de données pop.'!C26 -> 510 | AD3: ='Base de données pop.'!C27 -> 705 | AE3: ='Base de données pop.'!C28 -> 551 | AF3: ='Base de données pop.'!C29 -> 511 | AG3: ='Base de données pop.'!C30 -> 1902 | AH3: ='Base de données pop.'!C31 -> 2575 | AI3: ='Base de données pop.'!C32 -> 228 | AJ3: ='Base de données pop.'!C33 -> 118 | AK3: ='Base de données pop.'!C34 -> 1882 | AL3: ='Base de données pop.'!C35 -> 1114 | AM3: ='Base de données pop.'!C36 -> 1217 | AN3: ='Base de données pop.'!C37 -> 117 | AO3: ='Base de données pop.'!C38 -> 1205 | AP3: ='Base de données pop.'!C39 -> 625 | AQ3: ='Base de données pop.'!C40 -> 631 | AR3: ='Base de données pop.'!C41 -> 1275 | AS3: ='Base de données pop.'!C42 -> 718 | AT3: ='Base de données pop.'!C43 -> 1018 | AU3: ='Base de données pop.'!C44 -> 293 | AV3: ='Base de données pop.'!C45 -> 2435 | AW3: ='Base de données pop.'!C46 -> 786 | AX3: ='Base de données pop.'!C47 -> 184 | AY3: ='Base de données pop.'!C48 -> 333 | AZ3: ='Base de données pop.'!C49 -> 1674 | BA3: ='Base de données pop.'!C50 -> 391 | BB3: ='Base de données pop.'!C51 -> 1052 | BC3: ='Base de données pop.'!C52 -> 186 | BD3: ='Base de données pop.'!C53 -> 6441 | BE3: ='Base de données pop.'!C54 -> 546 | BF3: =SUM(E3:BE3) -> 73865 | BG3: =SUM(E3:W3) -> 39309 | BH3: =SUM(X3:AJ3) -> 10433 | BI3: =SUM(AK3:BE3) -> 24123
E4: Boécourt | F4: Bourrignon | G4: Châtillon | H4: Courchapoix | I4: Courrendlin | J4: Courroux | K4: Courtételle | L4: Delémont | M4: Develier | N4: Ederswiler | O4: Haute-Sorne | P4: Mervelier | Q4: Mettembert | R4: Movelier | S4: Pleigne | T4: Rossemaison | U4: Saulcy | V4: Soyhières | W4: Val Terbi | X4: Le Bémont | Y4: Les Bois | Z4: Les Breuleux | AA4: La Chaux-B. | AB4: Les Enfers | AC4: Les Genevez | AD4: Lajoux | AE4: Montfaucon | AF4: Muriaux | AG4: Le Noirmont | AH4: Saignelégier | AI4: Saint-Brais | AJ4: Soubey | AK4: Alle | AL4: La Baroche | AM4: Basse-Allaine | AN4: Beurnevésin | AO4: Boncourt | AP4: Bonfol | AQ4: Bure | AR4: Clos du Doubs | AS4: Coeuve | AT4: Cornol | AU4: Courchavon | AV4: Courgenay | AW4: Courtedoux | AX4: Damphreux | AY4: Fahy | AZ4: Fontenais | BA4: Grandfontaine | BB4: Haute-Ajoie | BC4: Lugnez | BD4: Porrentruy | BE4: Vendlincourt | BF4: Total | BG4: Delémont | BH4: Franches-Montagnes | BI4: Porrentruy
A5: 3 | D5: Charges | E5: =E6+E16+E28+E32+E40+E44+E54+E57+E65 -> 3735431.2 | F5: =F6+F16+F28+F32+F40+F44+F54+F57+F65 -> 1254678.5 | G5: =G6+G16+G28+G32+G40+G44+G54+G57+G65 -> 1612463.1 | H5: =H6+H16+H28+H32+H40+H44+H54+H57+H65 -> 1979558 | I5: =I6+I16+I28+I32+I40+I44+I54+I57+I65 -> 16511229 | J5: =J6+J16+J28+J32+J40+J44+J54+J57+J65 -> 14125789 | K5: =K6+K16+K28+K32+K40+K44+K54+K57+K65 -> 11523053 | L5: =L6+L16+L28+L32+L40+L44+L54+L57+L65 -> 1.0891553e+08 | ... BI5: =BI6+BI16+BI28+BI32+BI40+BI44+BI54+BI57+BI65 -> 1.2822921e+08
B6: 30 | D6: Charges du personnel | E6: =E7+E8+E9+E10+E11+E12+E13+E14 -> 474056.55 | F6: =F7+F8+F9+F10+F11+F12+F13+F14 -> 55628.95 | G6: =G7+G8+G9+G10+G11+G12+G13+G14 -> 130298.9 | H6: =H7+H8+H9+H10+H11+H12+H13+H14 -> 307735.6 | I6: =I7+I8+I9+I10+I11+I12+I13+I14 -> 2761930.8 | J6: =J7+J8+J9+J10+J11+J12+J13+J14 -> 3005501.5 | K6: =K7+K8+K9+K10+K11+K12+K13+K14 -> 1153633.3 | L6: =L7+L8+L9+L10+L11+L12+L13+L14 -> 24870275 | ... BI6: =BI7+BI8+BI9+BI10+BI11+BI12+BI13+BI14 -> 22472528
C7: 300 | D7: Autorités et commissions | E7: 44845 | F7: 21132.75 | G7: 26642.7 | H7: 44106.25 | I7: 176465 | J7: 143841.3 | K7: 125738 | L7: 806929.25 | M7: 70262.5 | N7: 17893.15 | O7: 340805.95 | P7: 45128.1 | Q7: 15849.5 | R7: 18700 | S7: 27910 | T7: 58838.5 | U7: 12409.65 | V7: 56077.35 | W7: 102827 | X7: 49656.85 | Y7: 54372.85 | Z7: 84720 | AA7: 6985 | AB7: 11829 | AC7: 21150.95 | AD7: 25124.8 | AE7: 46623.75 | AF7: 25752.75 | AG7: 93148 | AH7: 59454.6 | AI7: 19774.4 | AJ7: 12915 | AK7: 85620.8 | AL7: 48441.6 | AM7: 51637.9 | AN7: 20267.65 | AO7: 92365 | AP7: 32375.6 | AQ7: 44417.5 | AR7: 83728.75 | AS7: 49195.5 | AT7: 41404.5 | AU7: 13040 | AV7: 59512.5 | AW7: 53031.5 | AX7: 11468.8 | AY7: 15690 | AZ7: 55634 | BA7: 18938.75 | BB7: 55198.4 | BC7: 16066.15 | BD7: 247922.05 | BE7: 26953.4 | BF7: =SUM(E7:BE7) -> 3790820.2 | BG7: =SUM(E7:W7) -> 2156402 | BH7: =SUM(X7:AJ7) -> 511507.95 | BI7: =SUM(AK7:BE7) -> 1122910.3
C8: 301 | D8: Personnel administratif et d'exploitation | E8: 356986.4 | F8: 30302.5 | G8: 86406.3 | H8: 217464.7 | I8: 2064785.9 | J8: 2272423.5 | K8: 813652.5 | L8: 19725388 | M8: 971663.25 | N8: 34797.96 | O8: 2840284.2 | P8: 114665.05 | Q8: 46154.5 | R8: 182398.6 | S8: 116446.9 | T8: 186959.9 | U8: 84006.45 | V8: 214442.25 | W8: 1861688.7 | X8: 64217.3 | Y8: 1280372.4 | Z8: 1442294.1 | AA8: 65818.1 | AB8: 50586.75 | AC8: 308249.5 | AD8: 428392.52 | AE8: 322147.91 | AF8: 309477.2 | AG8: 785489 | AH8: 1496815.2 | AI8: 76046 | AJ8: 43583.6 | AK8: 580804.4 | AL8: 504807.55 | AM8: 367678.45 | AN8: 40113.65 | AO8: 1095629.9 | AP8: 681378.1 | AQ8: 147476.7 | AR8: 982174.14 | AS8: 302037.9 | AT8: 403642.15 | AU8: 76639.95 | AV8: 752461.05 | AW8: 350307.93 | AX8: 55694.21 | AY8: 117566.4 | AZ8: 660255.55 | BA8: 92898 | BB8: 1033197.9 | BC8: 50978.05 | BD8: 8973296.1 | BE8: 244328.5 | BF8: =SUM(E8:BE8) -> 56407774 | BG8: =SUM(E8:W8) -> 32220918 | BH8: =SUM(X8:AJ8) -> 6673489.6 | BI8: =SUM(AK8:BE8) -> 17513367
C9: 302 | D9: Enseignants | E9: 0 | F9: 0 | G9: 0 | H9: 0 | I9: 0 | J9: 0 | K9: 0 | L9: 0 | M9: 0 | N9: 0 | O9: 0 | P9: 0 | Q9: 0 | R9: 0 | S9: 0 | T9: 0 | U9: 0 | V9: 0 | W9: 0 | X9: 0 | Y9: 0 | Z9: 0 | AA9: 0 | AB9: 0 | AC9: 0 | AD9: 0 | AE9: 0 | AF9: 0 | AG9: 4625 | AH9: 0 | AI9: 0 | AJ9: 0 | AK9: 0 | AL9: 0 | AM9: 0 | AN9: 0 | AO9: 0 | AP9: 0 | AQ9: 0 | AR9: 0 | AS9: 0 | AT9: 0 | AU9: 0 | AV9: 0 | AW9: 0 | AX9: 0 | AY9: 0 | AZ9: 0 | BA9: 0 | BB9: 0 | BC9: 0 | BD9: 0 | BE9: 0 | BF9: =SUM(E9:BE9) -> 4625 | BG9: =SUM(E9:W9) -> 0 | BH9: =SUM(X9:AJ9) -> 4625 | BI9: =SUM(AK9:BE9) -> 0
C10: 303 | D10: Personnel temporaire administratif et d'exploitation | E10: 0 | F10: 0 | G10: 0 | H10: 0 | I10: 0 | J10: 0 | K10: 0 | L10: 0 | M10: 3679.75 | N10: 0 | O10: 0 | P10: 0 | Q10: 0 | R10: 0 | S10: 0 | T10: 0 | U10: 0 | V10: 0 | W10: 0 | X10: 0 | Y10: 0 | Z10: 0 | AA10: 0 | AB10: 0 | AC10: 0 | AD10: 0 | AE10: 0 | AF10: 0 | AG10: 0 | AH10: 0 | AI10: 0 | AJ10: 0 | AK10: 0 | AL10: 0 | AM10: 3431.25 | AN10: 0 | AO10: 0 | AP10: 0 | AQ10: 0 | AR10: 0 | AS10: 348 | AT10: 0 | AU10: 0 | AV10: 0 | AW10: 225 | AX10: 0 | AY10: 0 | AZ10: 0 | BA10: 0 | BB10: 0 | BC10: 0 | BD10: 0 | BE10: 0 | BF10: =SUM(E10:BE10) -> 7684 | BG10: =SUM(E10:W10) -> 3679.75 | BH10: =SUM(X10:AJ10) -> 0 | BI10: =SUM(AK10:BE10) -> 4004.25
C11: 304 | D11: Allocations et indemnités | E11: 0 | F11: 0 | G11: 0 | H11: 0 | I11: 0 | J11: 17914.6 | K11: 0 | L11: 0 | M11: 0 | N11: 0 | O11: 0 | P11: 0 | Q11: 0 | R11: 0 | S11: 0 | T11: 0 | U11: 0 | V11: 0 | W11: 0 | X11: 0 | Y11: 0 | Z11: 0 | AA11: 0 | AB11: 0 | AC11: 0 | AD11: 0 | AE11: 0 | AF11: 0 | AG11: 1788.35 | AH11: 4000 | AI11: 0 | AJ11: 0 | AK11: 0 | AL11: 0 | AM11: 0 | AN11: 0 | AO11: 0 | AP11: 0 | AQ11: 0 | AR11: 0 | AS11: 0 | AT11: 0 | AU11: 0 | AV11: 0 | AW11: 0 | AX11: 0 | AY11: 0 | AZ11: 0 | BA11: 0 | BB11: 0 | BC11: 0 | BD11: 0 | BE11: 0 | BF11: =SUM(E11:BE11) -> 23702.95 | BG11: =SUM(E11:W11) -> 17914.6 | BH11: =SUM(X11:AJ11) -> 5788.35 | BI11: =SUM(AK11:BE11) -> 0
C12: 305 | D12: Charges de l'employeur | E12: 71318.15 | F12: 3616.15 | G12: 14481.45 | H12: 43486.25 | I12: 486452.1 | J12: 535838.55 | K12: 195261.25 | L12: 4055630 | M12: 181566.35 | N12: 5016.19 | O12: 574510.1 | P12: 23363.35 | Q12: 7793.1 | R12: 38815.7 | S12: 24657.45 | T12: 40493.9 | U12: 12159.95 | V12: 38457.55 | W12: 372993 | X12: 9332.95 | Y12: 206596.65 | Z12: 273357.25 | AA12: 9735.8 | AB12: 6703 | AC12: 60199.15 | AD12: 78957.85 | AE12: 88851.54 | AF12: 54945.95 | AG12: 185750.3 | AH12: 287917.8 | AI12: 13154.8 | AJ12: 7871.2 | AK12: 99393.95 | AL12: 109705.6 | AM12: 66203.1 | AN12: 11222.6 | AO12: 202919.85 | AP12: 131361.8 | AQ12: 32588.05 | AR12: 176659.95 | AS12: 68252 | AT12: 68440.4 | AU12: 16433.5 | AV12: 175892.18 | AW12: 66755.55 | AX12: 9850.65 | AY12: 20369.85 | AZ12: 143177.1 | BA12: 21070.36 | BB12: 203713.45 | BC12: 12126.94 | BD12: 1913749.7 | BE12: 49833.8 | BF12: =SUM(E12:BE12) -> 11609005 | BG12: =SUM(E12:W12) -> 6725910.5 | BH12: =SUM(X12:AJ12) -> 1283374.2 | BI12: =SUM(AK12:BE12) -> 3599720.3
C13: 306 | D13: Prestations sociales de l'employeur | E13: 0 | F13: 0 | G13: 0 | H13: 0 | I13: 3029.75 | J13: 0 | K13: 0 | L13: 45078.3 | M13: 0 | N13: 0 | O13: 0 | P13: 0 | Q13: 0 | R13: 0 | S13: 0 | T13: 0 | U13: 0 | V13: 0 | W13: 0 | X13: 0 | Y13: 0 | Z13: 500 | AA13: 0 | AB13: 0 | AC13: 0 | AD13: 0 | AE13: 0 | AF13: 0 | AG13: 0 | AH13: 0 | AI13: 0 | AJ13: 0 | AK13: 0 | AL13: 0 | AM13: 0 | AN13: 0 | AO13: 0 | AP13: 7581.25 | AQ13: 0 | AR13: 0 | AS13: 0 | AT13: 0 | AU13: 0 | AV13: 0 | AW13: 0 | AX13: 0 | AY13: 0 | AZ13: 0 | BA13: 0 | BB13: 0 | BC13: 0 | BD13: 0 | BE13: 0 | BF13: =SUM(E13:BE13) -> 56189.3 | BG13: =SUM(E13:W13) -> 48108.05 | BH13: =SUM(X13:AJ13) -> 500 | BI13: =SUM(AK13:BE13) -> 7581.25
C14: 309 | D14: Autres charges du personnel | E14: 907 | F14: 577.55 | G14: 2768.45 | H14: 2678.4 | I14: 31198 | J14: 35483.59 | K14: 18981.55 | L14: 237249.71 | M14: 25304.57 | N14: 3825.95 | O14: 23559.15 | P14: 8383.15 | Q14: 9066.68 | R14: 2160.15 | S14: 7802.4 | T14: 7531.35 | U14: 7250 | V14: 14077.55 | W14: 23286.15 | X14: 1758.3 | Y14: 8643.4 | Z14: 60943.79 | AA14: 731.3 | AB14: 0 | AC14: 8383.2 | AD14: 11984.15 | AE14: 9410.35 | AF14: 3477.05 | AG14: 38497.3 | AH14: 19559.6 | AI14: 240.3 | AJ14: 0 | AK14: 2749.35 | AL14: 3161.95 | AM14: 9603.2 | AN14: 1280.17 | AO14: 37740.41 | AP14: 0 | AQ14: 8856.77 | AR14: 9523.75 | AS14: 4736.5 | AT14: 8644.9 | AU14: 8284.75 | AV14: 7598.45 | AW14: 9678.2 | AX14: 1011.8 | AY14: 243.4 | AZ14: 5044.1 | BA14: 5928.7 | BB14: 22080.8 | BC14: 791.5 | BD14: 77986.68 | BE14: 0 | BF14: =SUM(E14:BE14) -> 850665.47 | BG14: =SUM(E14:W14) -> 462091.35 | BH14: =SUM(X14:AJ14) -> 163628.74 | BI14: =SUM(AK14:BE14) -> 224945.38
B16: 31 | D16: Charges de biens et de services et autres charges d'exploitation | E16: =E17+E18+E19+E20+E21+E22+E23+E24+E25+E26 -> 583887.39 | F16: =F17+F18+F19+F20+F21+F22+F23+F24+F25+F26 -> 229366.63 | G16: =G17+G18+G19+G20+G21+G22+G23+G24+G25+G26 -> 283655.17 | H16: =H17+H18+H19+H20+H21+H22+H23+H24+H25+H26 -> 418572.44 | I16: =I17+I18+I19+I20+I21+I22+I23+I24+I25+I26 -> 3969854.4 | J16: =J17+J18+J19+J20+J21+J22+J23+J24+J25+J26 -> 3095151 | K16: =K17+K18+K19+K20+K21+K22+K23+K24+K25+K26 -> 1907924.2 | L16: =L17+L18+L19+L20+L21+L22+L23+L24+L25+L26 -> 28949573 | ... BI16: =BI17+BI18+BI19+BI20+BI21+BI22+BI23+BI24+BI25+BI26 -> 23084160
C17: 310 | D17: Charges de matériel et de marchandises | E17: 71520.05 | F17: 12786.45 | G17: 27793.55 | H17: 34804.61 | I17: 350063.01 | J17: 266725.54 | K17: 198925.25 | L17: 2209272.1 | M17: 205043.2 | N17: 5446.35 | O17: 689938.1 | P17: 75534.63 | Q17: 7422.84 | R17: 34345.7 | S17: 23838.7 | T17: 63452.71 | U17: 23737.96 | V17: 56264.4 | W17: 256949.56 | X17: 87895.43 | Y17: 128006.9 | Z17: 331011.38 | AA17: 2228.8 | AB17: 41956.15 | AC17: 86336.7 | AD17: 68619.9 | AE17: 89055.25 | AF17: 94869.8 | AG17: 253021.41 | AH17: 414264.6 | AI17: 13059 | AJ17: 46940.68 | AK17: 247868 | AL17: 101058.06 | AM17: 74544.39 | AN17: 9479.4 | AO17: 213297.85 | AP17: 72147.31 | AQ17: 17352.75 | AR17: 113594.93 | AS17: 65577.54 | AT17: 100270.55 | AU17: 29621.44 | AV17: 240819.2 | AW17: 35483.79 | AX17: 12800 | AY17: 37102.08 | AZ17: 80110.96 | BA17: 14107.15 | BB17: 106800.41 | BC17: 25053.2 | BD17: 738549.21 | BE17: 51729.35 | BF17: =SUM(E17:BE17) -> 8658498.3 | BG17: =SUM(E17:W17) -> 4613864.7 | BH17: =SUM(X17:AJ17) -> 1657266 | BI17: =SUM(AK17:BE17) -> 2387367.6
C18: 311 | D18: Immobilisations ne pouvant être portées à l'actif | E18: 23290.6 | F18: 13356.35 | G18: 6434.85 | H18: 9879.55 | I18: 112567.06 | J18: 136297.13 | K18: 33984.9 | L18: 646700.14 | M18: 81939.15 | N18: 9633.65 | O18: 145570.15 | P18: 66232.9 | Q18: 2888.75 | R18: 12655.35 | S18: 10267.8 | T18: 20405.15 | U18: 129.8 | V18: 16583.25 | W18: 58433.71 | X18: 4594.59 | Y18: 36922.7 | Z18: 98887.21 | AA18: 0 | AB18: 0 | AC18: 6971.15 | AD18: 52309.89 | AE18: 16226.12 | AF18: 24665.2 | AG18: 106675.9 | AH18: 57105.67 | AI18: 3371 | AJ18: 1500 | AK18: 101201.68 | AL18: 8069.58 | AM18: 35077.35 | AN18: 29142.55 | AO18: 48653.44 | AP18: 23687.43 | AQ18: 8561.8 | AR18: 47980.7 | AS18: 24628.99 | AT18: 47491.35 | AU18: 28261.95 | AV18: 141486 | AW18: 30423.65 | AX18: 754.85 | AY18: 3013.85 | AZ18: 50554.6 | BA18: 6762.1 | BB18: 49276.78 | BC18: 0 | BD18: 251427.17 | BE18: 22578.35 | BF18: =SUM(E18:BE18) -> 2775513.8 | BG18: =SUM(E18:W18) -> 1407250.2 | BH18: =SUM(X18:AJ18) -> 409229.43 | BI18: =SUM(AK18:BE18) -> 959034.17
C19: 312 | D19: Alimentations et éliminations des biens-fonds du PA | E19: 109076.9 | F19: 49190.93 | G19: 18108.1 | H19: 163356.8 | I19: 1747285.9 | J19: 1507531.5 | K19: 553193.7 | L19: 19257306 | M19: 1168823 | N19: 15754.47 | O19: 428294.8 | P19: 48284.7 | Q19: 10436.2 | R19: 37552.35 | S19: 65939.3 | T19: 349559.05 | U19: 70241.66 | V19: 57676.8 | W19: 208619.05 | X19: 135891.95 | Y19: 282399.15 | Z19: 412005.55 | AA19: 36788.5 | AB19: 40030.2 | AC19: 145635.6 | AD19: 193801.94 | AE19: 188775.1 | AF19: 136588.4 | AG19: 328893.95 | AH19: 612699.85 | AI19: 120781.4 | AJ19: 25517.45 | AK19: 129552.5 | AL19: 87659.2 | AM19: 242078.35 | AN19: 35690.95 | AO19: 367685.05 | AP19: 238170.6 | AQ19: 102450.45 | AR19: 158196.95 | AS19: 129877.65 | AT19: 174936.4 | AU19: 61847.65 | AV19: 308335.85 | AW19: 44925 | AX19: 41951.55 | AY19: 81390.65 | AZ19: 271144.32 | BA19: 65822.45 | BB19: 252392.8 | BC19: 30316.8 | BD19: 560029.22 | BE19: 43772.95 | BF19: =SUM(E19:BE19) -> 31954267 | BG19: =SUM(E19:W19) -> 25866231 | BH19: =SUM(X19:AJ19) -> 2659809 | BI19: =SUM(AK19:BE19) -> 3428227.3
C20: 313 | D20: Prestations de services et honoraires | E20: 201212.12 | F20: 93087.69 | G20: 138066.53 | H20: 53794.03 | I20: 785408.62 | J20: 612595.12 | K20: 430831.43 | L20: 3331566.7 | M20: 276192.21 | N20: 29146.93 | O20: 1291790.9 | P20: 111670.78 | Q20: 26038.37 | R20: 70626.38 | S20: 144454.51 | T20: 155221.93 | U20: 54938.55 | V20: 246475.5 | W20: 671324.38 | X20: 214149.29 | Y20: 340542.58 | Z20: 1065764.5 | AA20: 35622.7 | AB20: 125771.85 | AC20: 285336.14 | AD20: 274256.81 | AE20: 429624.56 | AF20: 478182.96 | AG20: 596620.39 | AH20: 739548.07 | AI20: 111695.91 | AJ20: 75049.87 | AK20: 357832.28 | AL20: 577928.23 | AM20: 416157.87 | AN20: 61232.03 | AO20: 477353.59 | AP20: 100913.6 | AQ20: 131806.33 | AR20: 531749.1 | AS20: 179967.73 | AT20: 253712.89 | AU20: 114218.06 | AV20: 377408.19 | AW20: 229333.42 | AX20: 38612.98 | AY20: 65076.18 | AZ20: 390308.02 | BA20: 131856.52 | BB20: 303034.52 | BC20: 39171.86 | BD20: 2292471.7 | BE20: 144041.32 | BF20: =SUM(E20:BE20) -> 20710795 | BG20: =SUM(E20:W20) -> 8724442.7 | BH20: =SUM(X20:AJ20) -> 4772165.6 | BI20: =SUM(AK20:BE20) -> 7214186.4
C21: 314 | D21: Gros entretien et entretien courant du PA | E21: 117627.35 | F21: 37046.78 | G21: 44655.6 | H21: 36701.7 | I21: 413569.85 | J21: 266569.56 | K21: 430852.85 | L21: 1058424.1 | M21: 267836 | N21: 24921.35 | O21: 842978 | P21: 111517.45 | Q21: 5186.5 | R21: 34954.55 | S21: 71818.9 | T21: 113594.55 | U21: 52055.67 | V21: 80832.7 | W21: 185529.06 | X21: 53241.65 | Y21: 195555.35 | Z21: 433417.11 | AA21: 38698.1 | AB21: 25870.7 | AC21: 141392.71 | AD21: 105832.6 | AE21: 146072.75 | AF21: 236694.24 | AG21: 438510.41 | AH21: 583434.97 | AI21: 36314 | AJ21: 25199.25 | AK21: 265751.63 | AL21: 303854.55 | AM21: 259925.55 | AN21: 5146.35 | AO21: 578298.76 | AP21: 76537.45 | AQ21: 135297.75 | AR21: 394866.45 | AS21: 78711.8 | AT21: 108147.7 | AU21: 48276.3 | AV21: 229323.9 | AW21: 116681.94 | AX21: 70168.35 | AY21: 69223.29 | AZ21: 213848.2 | BA21: 47011.88 | BB21: 171168.99 | BC21: 21436.8 | BD21: 942530.77 | BE21: 184753.65 | BF21: =SUM(E21:BE21) -> 10977868 | BG21: =SUM(E21:W21) -> 4196672.5 | BH21: =SUM(X21:AJ21) -> 2460233.8 | BI21: =SUM(AK21:BE21) -> 4320962.1
C22: 315 | D22: Entretien des biens mobiliers et des immobilisations corporelles du PA | E22: 50105.4 | F22: 13407.45 | G22: 3413.65 | H22: 27725.6 | I22: 175135.7 | J22: 30265.7 | K22: 73128.15 | L22: 902994.89 | M22: 80403.85 | N22: 1773.9 | O22: 304774.5 | P22: 20622.4 | Q22: 1743 | R22: 51673.5 | S22: 25792.3 | T22: 6207.3 | U22: 8673.3 | V22: 44914.15 | W22: 143637.34 | X22: 1319.95 | Y22: 143480.15 | Z22: 94422.35 | AA22: 5008.9 | AB22: 6543.3 | AC22: 43185.6 | AD22: 78108.75 | AE22: 66823.65 | AF22: 17466.79 | AG22: 94300.24 | AH22: 43100 | AI22: 19142.8 | AJ22: 10271.1 | AK22: 22688.9 | AL22: 105641.31 | AM22: 53478.04 | AN22: 0 | AO22: 87830.25 | AP22: 31116.8 | AQ22: 39589.3 | AR22: 90855.4 | AS22: 40347.6 | AT22: 17483.51 | AU22: 6706.05 | AV22: 44884.95 | AW22: 59665.53 | AX22: 3904.05 | AY22: 21624.85 | AZ22: 61188 | BA22: 7670.4 | BB22: 73705.9 | BC22: 367.5 | BD22: 458697.33 | BE22: 50558.9 | BF22: =SUM(E22:BE22) -> 3867570.2 | BG22: =SUM(E22:W22) -> 1966392.1 | BH22: =SUM(X22:AJ22) -> 623173.58 | BI22: =SUM(AK22:BE22) -> 1278004.6
C23: 316 | D23: Loyers - crédits-bails (leasing) - baux à fermes - taxes d'utilisation | E23: 3877.2 | F23: 2753.2 | G23: 710.8 | H23: 64165.65 | I23: 77181.15 | J23: 36753.15 | K23: 36519.2 | L23: 785752.55 | M23: 26898.25 | N23: 1200 | O23: 109130.8 | P23: 0 | Q23: 850 | R23: 0 | S23: 0 | T23: 538.5 | U23: 0 | V23: 4800 | W23: 118451.85 | X23: 21465.5 | Y23: 32600 | Z23: 82688 | AA23: 0 | AB23: 1325.35 | AC23: 1140 | AD23: 50472.8 | AE23: 4035.95 | AF23: 0 | AG23: 6629.06 | AH23: 202920.9 | AI23: 2100 | AJ23: 0 | AK23: 0 | AL23: 7767.65 | AM23: 20411.55 | AN23: 600 | AO23: 41454.5 | AP23: 37823.4 | AQ23: 0 | AR23: 45895.1 | AS23: 24137.7 | AT23: 0 | AU23: 0 | AV23: 16096 | AW23: 19816.3 | AX23: 0 | AY23: 3461.6 | AZ23: 32964.4 | BA23: 0 | BB23: 7851.8 | BC23: 0 | BD23: 769410.55 | BE23: 600 | BF23: =SUM(E23:BE23) -> 2703250.4 | BG23: =SUM(E23:W23) -> 1269582.3 | BH23: =SUM(X23:AJ23) -> 405377.56 | BI23: =SUM(AK23:BE23) -> 1028290.6
C24: 317 | D24: Indemnités et dédommagements | E24: 22594.15 | F24: 2493.5 | G24: 1017.5 | H24: 5687.65 | I24: 79816.35 | J24: 45698.55 | K24: 24782.3 | L24: 84128.15 | M24: 23870.1 | N24: 0 | O24: 77961.85 | P24: 4229.4 | Q24: 839.1 | R24: 3822.2 | S24: 7729.45 | T24: 61241.55 | U24: 1053.65 | V24: 3530.45 | W24: 36176.15 | X24: 7133.3 | Y24: 8866 | Z24: 47721.8 | AA24: 2316.48 | AB24: 712.95 | AC24: 5629.9 | AD24: 4844.7 | AE24: 3763.3 | AF24: 0 | AG24: 33826.5 | AH24: 27168.3 | AI24: 2675 | AJ24: 1028.75 | AK24: 53473.2 | AL24: 15786.95 | AM24: 19694.65 | AN24: 391.8 | AO24: 34240.65 | AP24: 3574.8 | AQ24: 445.25 | AR24: 26123.45 | AS24: 16161.65 | AT24: 11525.85 | AU24: 1910.8 | AV24: 47736.42 | AW24: 8007.8 | AX24: 796.6 | AY24: 3034.75 | AZ24: 24639.05 | BA24: 2750.8 | BB24: 20593.9 | BC24: 110 | BD24: 52151.66 | BE24: 6780.45 | BF24: =SUM(E24:BE24) -> 982289.51 | BG24: =SUM(E24:W24) -> 486672.05 | BH24: =SUM(X24:AJ24) -> 145686.98 | BI24: =SUM(AK24:BE24) -> 349930.48
C25: 318 | D25: Réévaluations de créances | E25: -25400.88 | F25: 4844.28 | G25: 32596.24 | H25: 15620.9 | I25: 187709.23 | J25: 162075.28 | K25: 96777.45 | L25: 544662.49 | M25: 30955.2 | N25: -220.12 | O25: 209703.83 | P25: 10569.26 | Q25: 8.09 | R25: 37966.78 | S25: 26084.86 | T25: -38299.11 | U25: 14019.23 | V25: 35738.12 | W25: 91489 | X25: 2557.18 | Y25: 71055.94 | Z25: 62897.86 | AA25: 2451.91 | AB25: 7678.22 | AC25: 9823.9 | AD25: 2066.17 | AE25: 15780.62 | AF25: 19422.15 | AG25: 42045.28 | AH25: 80811.99 | AI25: 8234.28 | AJ25: 1271.83 | AK25: 72490.4 | AL25: 64794.8 | AM25: 70388.31 | AN25: 58191.57 | AO25: 42844.32 | AP25: 52185.81 | AQ25: 43139.21 | AR25: 71246.18 | AS25: 16890.65 | AT25: 82216.46 | AU25: 86491.22 | AV25: 141894.59 | AW25: 29178.3 | AX25: 1341.64 | AY25: 42060.61 | AZ25: 94265.52 | BA25: 20093.74 | BB25: 52442.7 | BC25: 13596.68 | BD25: 636680.63 | BE25: 51783.61 | BF25: =SUM(E25:BE25) -> 3507214.4 | BG25: =SUM(E25:W25) -> 1436900.1 | BH25: =SUM(X25:AJ25) -> 326097.33 | BI25: =SUM(AK25:BE25) -> 1744216.9
C26: 319 | D26: Divers charges d'exploitation | E26: 9984.5 | F26: 400 | G26: 10858.35 | H26: 6835.95 | I26: 41117.62 | J26: 30639.46 | K26: 28928.96 | L26: 128765.7 | M26: 59525.9 | N26: 8853.1 | O26: 13981.1 | P26: 1106.6 | Q26: 2333.75 | R26: 0 | S26: 10853.15 | T26: 6452.1 | U26: 1801.45 | V26: 2995.7 | W26: 9967.35 | X26: 2584.85 | Y26: 14096.05 | Z26: 16610.8 | AA26: 756 | AB26: 3185.15 | AC26: 1437.6 | AD26: 14298.7 | AE26: 1235.85 | AF26: 124.4 | AG26: 23818.3 | AH26: 28505.2 | AI26: 1271.95 | AJ26: 3301.9 | AK26: 6634.15 | AL26: 29581.15 | AM26: 6402.15 | AN26: 0 | AO26: 30844.53 | AP26: 2037.95 | AQ26: 1430.1 | AR26: 21819.55 | AS26: 6497.5 | AT26: 15202.5 | AU26: 4275.05 | AV26: 21000 | AW26: 12381.95 | AX26: 2647.75 | AY26: 0 | AZ26: 4018.16 | BA26: 2473.1 | BB26: 7493.8 | BC26: 3594.2 | BD26: 190850.1 | BE26: 4756.55 | BF26: =SUM(E26:BE26) -> 860567.73 | BG26: =SUM(E26:W26) -> 375400.74 | BH26: =SUM(X26:AJ26) -> 111226.75 | BI26: =SUM(AK26:BE26) -> 373940.24
B28: 33 | D28: Amortissements du patrimoine administratif | E28: =E29+E30 -> 273439.17 | F28: =F29+F30 -> 83034 | G28: =G29+G30 -> 78515.15 | H28: =H29+H30 -> 93170.3 | I28: =I29+I30 -> 858686.09 | J28: =J29+J30 -> 1089085.6 | K28: =K29+K30 -> 632517.34 | L28: =L29+L30 -> 5967644.8 | ... BI28: =BI29+BI30 -> 8833268
C29: 330 | D29: Amortissements des immobilisations corporelles du PA | E29: 273439.17 | F29: 70754 | G29: 76768.65 | H29: 93170.3 | I29: 858686.09 | J29: 1068489.1 | K29: 630529.64 | L29: 5850591.4 | M29: 603738.35 | N29: 50799.23 | O29: 1330450.2 | P29: 122720.55 | Q29: 12625 | R29: 87650 | S29: 105668.5 | T29: 168872.25 | U29: 40149.85 | V29: 117543 | W29: 1075545.6 | X29: 59856.25 | Y29: 291371.95 | Z29: 498784 | AA29: 98769.65 | AB29: 163116.93 | AC29: 93759.9 | AD29: 282477.6 | AE29: 124708.45 | AF29: 102124.94 | AG29: 595644.83 | AH29: 735415.9 | AI29: 62896.45 | AJ29: 158021.36 | AK29: 423638.75 | AL29: 393262.8 | AM29: 251180 | AN29: 42915 | AO29: 599537.27 | AP29: 112200 | AQ29: 224974.41 | AR29: 931593.77 | AS29: 171826.95 | AT29: 263837.2 | AU29: 129587.55 | AV29: 824557.2 | AW29: 115334.4 | AX29: 33410 | AY29: 171465 | AZ29: 527973.1 | BA29: 45390 | BB29: 391467.29 | BC29: 25245 | BD29: 2782111.7 | BE29: 92350 | BF29: =SUM(E29:BE29) -> 24458997 | BG29: =SUM(E29:W29) -> 12638191 | BH29: =SUM(X29:AJ29) -> 3266948.2 | BI29: =SUM(AK29:BE29) -> 8553857.4
C30: 332 | D30: Amortissements des immobilisations incorporelles du PA | E30: 0 | F30: 12280 | G30: 1746.5 | H30: 0 | I30: 0 | J30: 20596.49 | K30: 1987.7 | L30: 117053.37 | M30: 9430 | N30: 0 | O30: 53168.05 | P30: 0 | Q30: 0 | R30: 0 | S30: 0 | T30: 0 | U30: 0 | V30: 22248.85 | W30: 26100.57 | X30: 0 | Y30: 5000 | Z30: 0 | AA30: 0 | AB30: 0 | AC30: 0 | AD30: 0 | AE30: 0 | AF30: 0 | AG30: 15167.4 | AH30: 40165 | AI30: 0 | AJ30: 0 | AK30: 0 | AL30: 0 | AM30: 19750 | AN30: 0 | AO30: 10400 | AP30: 0 | AQ30: 0 | AR30: 40469.3 | AS30: 2200 | AT30: 768 | AU30: 0 | AV30: 17447.4 | AW30: 0 | AX30: 0 | AY30: 4500 | AZ30: 53225 | BA30: 960 | BB30: 484.45 | BC30: 0 | BD30: 129206.47 | BE30: 0 | BF30: =SUM(E30:BE30) -> 604354.55 | BG30: =SUM(E30:W30) -> 264611.53 | BH30: =SUM(X30:AJ30) -> 60332.4 | BI30: =SUM(AK30:BE30) -> 279410.62
B32: 34 | D32: Charges financières | E32: =E33+E34+E35+E36+E37+E38 -> 54405.36 | F32: =F33+F34+F35+F36+F37+F38 -> 124634.59 | G32: =G33+G34+G35+G36+G37+G38 -> 74666.79 | H32: =H33+H34+H35+H36+H37+H38 -> 80672.25 | I32: =I33+I34+I35+I36+I37+I38 -> 457925.83 | J32: =J33+J34+J35+J36+J37+J38 -> 209906.22 | K32: =K33+K34+K35+K36+K37+K38 -> 163713.56 | L32: =L33+L34+L35+L36+L37+L38 -> 2157423.1 | ... BI32: =BI33+BI34+BI35+BI36+BI37+BI38 -> 3149441.8
C33: 340 | D33: Charges d'intérets | E33: 54405.36 | F33: 28132.15 | G33: 54021.44 | H33: 57098.85 | I33: 295408.9 | J33: 193845.61 | K33: 102743.65 | L33: 1809808.4 | M33: 42381.92 | N33: 7268.05 | O33: 295834.36 | P33: 39196.45 | Q33: 8151.88 | R33: 38763.06 | S33: 64754.02 | T33: 45109.47 | U33: 10053.27 | V33: 35619.34 | W33: 166137.12 | X33: 8239.19 | Y33: 128326.63 | Z33: 10311.48 | AA33: 4795.67 | AB33: 3587.37 | AC33: 62106.16 | AD33: 57177.8 | AE33: 35078.6 | AF33: 15061.15 | AG33: 46459.57 | AH33: 132611.03 | AI33: 16870.37 | AJ33: 4578.28 | AK33: 156374.1 | AL33: 119078.56 | AM33: 129201.11 | AN33: 19633.92 | AO33: 60213.33 | AP33: 74155.97 | AQ33: 60049.79 | AR33: 78368.46 | AS33: 68359.52 | AT33: 105867.22 | AU33: 22266.65 | AV33: 190311.65 | AW33: 60249.21 | AX33: 7077.6 | AY33: 14484.84 | AZ33: 285893.94 | BA33: 18908.91 | BB33: 77937.43 | BC33: 278.1 | BD33: 754417.41 | BE33: 36891.27 | BF33: =SUM(E33:BE33) -> 6213955.6 | BG33: =SUM(E33:W33) -> 3348733.3 | BH33: =SUM(X33:AJ33) -> 525203.3 | BI33: =SUM(AK33:BE33) -> 2340019
C34: 341 | D34: Pertes sur les placements financiers et les immobilisations du PF | E34: 0 | F34: 0 | G34: 0 | H34: 0 | I34: 0 | J34: 0 | K34: 0 | L34: 0 | M34: 0 | N34: 0 | O34: 0 | P34: 0 | Q34: 0 | R34: 109160.4 | S34: 0 | T34: 0 | U34: 0 | V34: 0 | W34: 0 | X34: 0 | Y34: 0 | Z34: 0 | AA34: 0 | AB34: 0 | AC34: 0 | AD34: 6800.85 | AE34: 0 | AF34: 0 | AG34: 0 | AH34: 0 | AI34: 0 | AJ34: 0 | AK34: 0 | AL34: 1038.1 | AM34: 0 | AN34: 0 | AO34: 0 | AP34: 0 | AQ34: 0 | AR34: 0 | AS34: 0 | AT34: 0 | AU34: 0 | AV34: 0 | AW34: 0 | AX34: 0 | AY34: 0 | AZ34: 0 | BA34: 0 | BB34: 0 | BC34: 0 | BD34: 42543.14 | BE34: 0 | BF34: =SUM(E34:BE34) -> 159542.49 | BG34: =SUM(E34:W34) -> 109160.4 | BH34: =SUM(X34:AJ34) -> 6800.85 | BI34: =SUM(AK34:BE34) -> 43581.24
C35: 342 | D35: Frais d'acquisitions des capitaux et frais administratifs | E35: 0 | F35: 0 | G35: 0 | H35: 0 | I35: 0 | J35: 0 | K35: 0 | L35: 0 | M35: 0 | N35: 0 | O35: 0 | P35: 0 | Q35: 0 | R35: 0 | S35: 0 | T35: 0 | U35: 0 | V35: 0 | W35: 15.64 | X35: 0 | Y35: 0 | Z35: 0 | AA35: 0 | AB35: 0 | AC35: 0 | AD35: 0 | AE35: 0 | AF35: 0 | AG35: 0 | AH35: 0 | AI35: 200 | AJ35: 0 | AK35: 0 | AL35: 0 | AM35: 0 | AN35: 0 | AO35: 0 | AP35: 0 | AQ35: 0 | AR35: 0 | AS35: 0 | AT35: 0 | AU35: 0 | AV35: 0 | AW35: 0 | AX35: 0 | AY35: 0 | AZ35: 0 | BA35: 0 | BB35: 0 | BC35: 0 | BD35: 0 | BE35: 0 | BF35: =SUM(E35:BE35) -> 215.64 | BG35: =SUM(E35:W35) -> 15.64 | BH35: =SUM(X35:AJ35) -> 200 | BI35: =SUM(AK35:BE35) -> 0
C36: 343 | D36: Charges pour les biens-fonds du PF | E36: 0 | F36: 9181.59 | G36: 20645.35 | H36: 23573.4 | I36: 162516.93 | J36: 16060.61 | K36: 60179.27 | L36: 347614.65 | M36: 8620.1 | N36: 0 | O36: 75817.45 | P36: 8452.75 | Q36: 2314.85 | R36: 14081.3 | S36: 1109.95 | T36: 8579.4 | U36: 5381.99 | V36: 10640.35 | W36: 19387.86 | X36: -328.05 | Y36: 0 | Z36: 6621.15 | AA36: 719.15 | AB36: 8120.6 | AC36: 16425.65 | AD36: 3655.45 | AE36: 0 | AF36: 73738.1 | AG36: 39582.55 | AH36: 21541.75 | AI36: 82.25 | AJ36: 26979.25 | AK36: 19964.5 | AL36: 56815 | AM36: 22414.1 | AN36: 0 | AO36: 150065.95 | AP36: 5484.65 | AQ36: 0 | AR36: 179370.25 | AS36: 6316.67 | AT36: 46764.65 | AU36: 0 | AV36: 0 | AW36: 14884.75 | AX36: 0 | AY36: 0 | AZ36: 7440.35 | BA36: 5017.85 | BB36: 29912.35 | BC36: 351.8 | BD36: 97606.05 | BE36: 18949.2 | BF36: =SUM(E36:BE36) -> 1652653.8 | BG36: =SUM(E36:W36) -> 794157.8 | BH36: =SUM(X36:AJ36) -> 197137.85 | BI36: =SUM(AK36:BE36) -> 661358.12
C37: 344 | D37: Réévaluations des immobilisations du PF | E37: 0 | F37: 87320 | G37: 0 | H37: 0 | I37: 0 | J37: 0 | K37: 790.64 | L37: 0 | M37: 0 | N37: 0 | O37: 0 | P37: 0 | Q37: 0 | R37: 0 | S37: 0 | T37: 920.25 | U37: 0 | V37: 0 | W37: 0 | X37: 0 | Y37: 0 | Z37: 0 | AA37: 0 | AB37: 0 | AC37: 0 | AD37: 0 | AE37: 0 | AF37: 0 | AG37: 0 | AH37: 0 | AI37: 0 | AJ37: 3103 | AK37: 0 | AL37: 0 | AM37: 0 | AN37: 0 | AO37: 0 | AP37: 0 | AQ37: 0 | AR37: 0 | AS37: 0 | AT37: 0 | AU37: 0 | AV37: 0 | AW37: 0 | AX37: 200 | AY37: 0 | AZ37: 0 | BA37: 0 | BB37: 2418 | BC37: 0 | BD37: 84477 | BE37: 0 | BF37: =SUM(E37:BE37) -> 179228.89 | BG37: =SUM(E37:W37) -> 89030.89 | BH37: =SUM(X37:AJ37) -> 3103 | BI37: =SUM(AK37:BE37) -> 87095
C38: 349 | D38: Autres charges financières | E38: 0 | F38: 0.85 | G38: 0 | H38: 0 | I38: 0 | J38: 0 | K38: 0 | L38: 0 | M38: 4.43 | N38: 0 | O38: 0 | P38: 0 | Q38: 0 | R38: 0 | S38: 0 | T38: 0 | U38: 0 | V38: 0 | W38: -61 | X38: 4354.92 | Y38: 0 | Z38: 0 | AA38: 0 | AB38: 2609.35 | AC38: 0 | AD38: 0 | AE38: 0 | AF38: 0 | AG38: 7098.97 | AH38: 0 | AI38: 0.05 | AJ38: 146.5 | AK38: 0 | AL38: 8201.23 | AM38: 0 | AN38: 788.1 | AO38: 0 | AP38: 3243.7 | AQ38: 0 | AR38: 0 | AS38: 1566.23 | AT38: 0 | AU38: 0 | AV38: 0 | AW38: 229.45 | AX38: 906.55 | AY38: 0 | AZ38: 0 | BA38: 0 | BB38: 0 | BC38: 0 | BD38: 0 | BE38: 2453.2 | BF38: =SUM(E38:BE38) -> 31542.53 | BG38: =SUM(E38:W38) -> -55.72 | BH38: =SUM(X38:AJ38) -> 14209.79 | BI38: =SUM(AK38:BE38) -> 17388.46
B40: 35 | D40: Attributions aux financements spéciaux des capitaux de tiers | E40: =E41+E42 -> 13669.95 | F40: =F41+F42 -> 22425.32 | G40: =G41+G42 -> 5326.55 | H40: =H41+H42 -> 0 | I40: =I41+I42 -> 287118.55 | J40: =J41+J42 -> 8240.7 | K40: =K41+K42 -> 29873.4 | L40: =L41+L42 -> 0 | ... BI40: =BI41+BI42 -> 1002810.7
C41: 350 | D41: Attributions aux financements spéciaux des capitaux de tiers | E41: 0 | F41: 0 | G41: 0 | H41: 0 | I41: 12819.55 | J41: 0 | K41: 0 | L41: 0 | M41: 0 | N41: 19000 | O41: 0 | P41: 0 | Q41: 0 | R41: 0 | S41: 0 | T41: 0 | U41: 0 | V41: 0 | W41: 0 | X41: 0 | Y41: 0 | Z41: 0 | AA41: 0 | AB41: 0 | AC41: 0 | AD41: 0 | AE41: 0 | AF41: 0 | AG41: 0 | AH41: 0 | AI41: 105.25 | AJ41: 0 | AK41: 0 | AL41: 0 | AM41: 0 | AN41: 0 | AO41: 0 | AP41: 0 | AQ41: 0 | AR41: 0 | AS41: 0 | AT41: 20000 | AU41: 0 | AV41: 15433.45 | AW41: 0 | AX41: 0 | AY41: 0 | AZ41: 0 | BA41: 0 | BB41: 0 | BC41: 0 | BD41: 0 | BE41: 0 | BF41: =SUM(E41:BE41) -> 67358.25 | BG41: =SUM(E41:W41) -> 31819.55 | BH41: =SUM(X41:AJ41) -> 105.25 | BI41: =SUM(AK41:BE41) -> 35433.45
C42: 351 | D42: Attributions aux financements spéciaux du capital propres | E42: 13669.95 | F42: 22425.32 | G42: 5326.55 | H42: 0 | I42: 274299 | J42: 8240.7 | K42: 29873.4 | L42: 0 | M42: 94598.63 | N42: 0 | O42: 998890 | P42: 0 | Q42: 0 | R42: 0 | S42: 0 | T42: 0 | U42: 0 | V42: 0 | W42: 0 | X42: 28915.25 | Y42: 323.15 | Z42: 122878 | AA42: 12281.9 | AB42: 8938.8 | AC42: 12454 | AD42: 4699 | AE42: 16453.51 | AF42: 0 | AG42: 32708.1 | AH42: 83053.6 | AI42: 1481.35 | AJ42: 3000 | AK42: 2696.1 | AL42: 44906.47 | AM42: 8438.27 | AN42: 0 | AO42: 0 | AP42: 10.25 | AQ42: 1740 | AR42: 250436.1 | AS42: 114117.9 | AT42: 235280 | AU42: 1402.95 | AV42: 192938.14 | AW42: 16960 | AX42: 59.85 | AY42: 0 | AZ42: 1391.7 | BA42: 1144.44 | BB42: 71263.19 | BC42: 444.15 | BD42: 13630.41 | BE42: 10517.29 | BF42: =SUM(E42:BE42) -> 2741887.4 | BG42: =SUM(E42:W42) -> 1447323.6 | BH42: =SUM(X42:AJ42) -> 327186.66 | BI42: =SUM(AK42:BE42) -> 967377.21
B44: 36 | D44: Charges de transferts | E44: =E45+E46+E47+E48+E49+E50+E51+E52 -> 2335972.8 | F44: =F45+F46+F47+F48+F49+F50+F51+F52 -> 715593.75 | G44: =G45+G46+G47+G48+G49+G50+G51+G52 -> 1029040.4 | H44: =H45+H46+H47+H48+H49+H50+H51+H52 -> 1038611.9 | I44: =I45+I46+I47+I48+I49+I50+I51+I52 -> 7564693.6 | J44: =J45+J46+J47+J48+J49+J50+J51+J52 -> 6645093.5 | K44: =K45+K46+K47+K48+K49+K50+K51+K52 -> 6799432 | L44: =L45+L46+L47+L48+L49+L50+L51+L52 -> 42498373 | ... BI44: =BI45+BI46+BI47+BI48+BI49+BI50+BI51+BI52 -> 65836127
C45: 360 | D45: Parts de revenus destinés à des collectivités publiques | E45: 5823.35 | F45: 1540 | G45: 1480 | H45: 1020 | I45: 18033.75 | J45: 120560.35 | K45: 4420 | L45: 29125.75 | M45: 2720 | N45: 680 | O45: 93112.3 | P45: 1340 | Q45: 220 | R45: 1520 | S45: 1040 | T45: 6528.85 | U45: 920 | V45: 1440 | W45: 7280 | X45: 2510 | Y45: 2304.55 | Z45: 0 | AA45: 805 | AB45: 2104.5 | AC45: 4565 | AD45: 13286.15 | AE45: 4235 | AF45: 5080 | AG45: 18750 | AH45: 23240 | AI45: 2275 | AJ45: 3483.25 | AK45: 4525 | AL45: 4400 | AM45: 4665 | AN45: 936 | AO45: 1120 | AP45: 525 | AQ45: 1800 | AR45: 6475 | AS45: 2410 | AT45: 3120 | AU45: 1585 | AV45: 6000 | AW45: 1760 | AX45: 0 | AY45: 70 | AZ45: 4945 | BA45: 3275 | BB45: 6885 | BC45: 401.9 | BD45: 17530 | BE45: 2240 | BF45: =SUM(E45:BE45) -> 456110.7 | BG45: =SUM(E45:W45) -> 298804.35 | BH45: =SUM(X45:AJ45) -> 82638.45 | BI45: =SUM(AK45:BE45) -> 74667.9
C46: 361 | D46: Dédommagements aux collectivités publiques | E46: 1730003.4 | F46: 476459.45 | G46: 836856.94 | H46: 743646.4 | I46: 4724297.7 | J46: 4308067.7 | K46: 4834795.4 | L46: 18497662 | M46: 2546451.9 | N46: 141150.35 | O46: 11812216 | P46: 869096.42 | Q46: 190263.44 | R46: 655084.04 | S46: 545345.99 | T46: 1491743.5 | U46: 444383.69 | V46: 760702.18 | W46: 4341798.8 | X46: 465871.25 | Y46: 2062068 | Z46: 2369758.9 | AA46: 160288 | AB46: 260539.86 | AC46: 965885.45 | AD46: 1405504.5 | AE46: 798007.45 | AF46: 994346 | AG46: 3364191.3 | AH46: 3178730.7 | AI46: 397076.26 | AJ46: 214527.1 | AK46: 4004133.8 | AL46: 1877001.1 | AM46: 2191741.7 | AN46: 133400.9 | AO46: 1277343.9 | AP46: 1350814.4 | AQ46: 1192765 | AR46: 2241368.4 | AS46: 1507807.2 | AT46: 1833220 | AU46: 567637.02 | AV46: 5212640.2 | AW46: 1373001.1 | AX46: 318760.3 | AY46: 537273.8 | AZ46: 3042432.1 | BA46: 770575.38 | BB46: 1997511.9 | BC46: 429756.49 | BD46: 9100282.8 | BE46: 1071138.3 | BF46: =SUM(E46:BE46) -> 1.1861743e+08 | BG46: =SUM(E46:W46) -> 59950025 | BH46: =SUM(X46:AJ46) -> 16636795 | BI46: =SUM(AK46:BE46) -> 42030606
...

Sheet Graphique par nature
A4: Charges
A5: 30 Charges du personnel | B5: ='4.1 Comptes 2022 natures'!BF6 -> 72750466
A6: 31 Charges de biens et de services et autres charges d'exploitation | B6: ='4.1 Comptes 2022 natures'!BF16 -> 86997835
A7: 33 Amortissements du patrimoine administratif | B7: ='4.1 Comptes 2022 natures'!BF28 -> 25063351
A8: 34 Charges financières | B8: ='4.1 Comptes 2022 natures'!BF32 -> 8237138.9
A9: 35 Attributions aux financements spéciaux des capitaux de tiers | B9: ='4.1 Comptes 2022 natures'!BF40 -> 2809245.7
A10: 36 Charges de transferts | B10: ='4.1 Comptes 2022 natures'!BF44 -> 1.9649413e+08
A11: 37 Subventions à redistribuer | B11: ='4.1 Comptes 2022 natures'!BF54 -> 2688304.3
A12: 38 Charges extraordinaires | B12: ='4.1 Comptes 2022 natures'!BF57 -> 6661203.8
A13: 39 Imputations internes | B13: ='4.1 Comptes 2022 natures'!BF65 -> 6706821.9
A15: Revenus
A16: 40 Revenus fiscaux | B16: ='4.1 Comptes 2022 natures'!BF77 -> 2.2423936e+08
A17: 41 Revenus de patentes et de concessions | B17: ='4.1 Comptes 2022 natures'!BF83 -> 1218755.6
A18: 42 Taxes | B18: ='4.1 Comptes 2022 natures'!BF89 -> 90551826
A19: 43 Revenus divers | B19: ='4.1 Comptes 2022 natures'!BF100 -> 2316555.2
A20: 44 Revenus financiers | B20: ='4.1 Comptes 2022 natures'!BF106 -> 14057802
A21: 45 Prélèvements sur les financements spéciaux | B21: ='4.1 Comptes 2022 natures'!BF118 -> 4005363.8
A22: 46 Revenus de transfert | B22: ='4.1 Comptes 2022 natures'!BF122 -> 66093643
A23: 47 Subventions à redistribuer | B23: ='4.1 Comptes 2022 natures'!BF129 -> 2342384.3
A24: 48 Revenus extraordinaires | B24: ='4.1 Comptes 2022 natures'!BF132 -> 4457240.2
A25: 49 Imputations internes | B25: ='4.1 Comptes 2022 natures'!BF141 -> 6714147.8

Sheet Résultats par commune
A1: Clôture du compte de résutlats global par commune (90)
A3: Communes | B3: Résultat général | C3: Résultat FS | D3: Résultat global | E3: Résultat par hab. | F3: Attribution R.P.B | G3: Prélèvement R.P.B
B4: Compte 900 | C4: Compte 901 | D4: Compte 90 | E4: Compte 90 par hab. | F4: Compte 389 | G4: Compte 489
A5: Boécourt | B5: ='4.1 Comptes 2022 natures'!E155 -> -206117.81 | C5: ='4.1 Comptes 2022 natures'!E156 -> 322300.57 | D5: ='4.1 Comptes 2022 natures'!E154 -> 116182.76 | E5: ='4.9 Comptes 2022 par habitant'!E154 -> 122.16904 | F5: ='4.1 Comptes 2022 natures'!E63 -> 0 | G5: ='4.1 Comptes 2022 natures'!E139 -> 7472.67
A6: Bourrignon | B6: ='4.1 Comptes 2022 natures'!F155 -> -230931.74 | C6: ='4.1 Comptes 2022 natures'!F156 -> 30133.32 | D6: ='4.1 Comptes 2022 natures'!F154 -> -200798.42 | E6: ='4.9 Comptes 2022 par habitant'!F154 -> -778.28845 | F6: ='4.1 Comptes 2022 natures'!F63 -> 0 | G6: ='4.1 Comptes 2022 natures'!F139 -> 0
A7: Châtillon | B7: ='4.1 Comptes 2022 natures'!G155 -> 236110.02 | C7: ='4.1 Comptes 2022 natures'!G156 -> 41330.6 | D7: ='4.1 Comptes 2022 natures'!G154 -> 277440.62 | E7: ='4.9 Comptes 2022 par habitant'!G154 -> 589.0459 | F7: ='4.1 Comptes 2022 natures'!G63 -> 0 | G7: ='4.1 Comptes 2022 natures'!G139 -> 0
A8: Courchapoix | B8: ='4.1 Comptes 2022 natures'!H155 -> -99527.26 | C8: ='4.1 Comptes 2022 natures'!H156 -> 44631.25 | D8: ='4.1 Comptes 2022 natures'!H154 -> -54896.01 | E8: ='4.9 Comptes 2022 par habitant'!H154 -> -124.48075 | F8: ='4.1 Comptes 2022 natures'!H63 -> 0 | G8: ='4.1 Comptes 2022 natures'!H139 -> 0
A9: Courrendlin | B9: ='4.1 Comptes 2022 natures'!I155 -> 7190.95 | C9: ='4.1 Comptes 2022 natures'!I156 -> 159583.27 | D9: ='4.1 Comptes 2022 natures'!I154 -> 166774.22 | E9: ='4.9 Comptes 2022 par habitant'!I154 -> 45.245312 | F9: ='4.1 Comptes 2022 natures'!I63 -> 300000 | G9: ='4.1 Comptes 2022 natures'!I139 -> 0
A10: Courroux | B10: ='4.1 Comptes 2022 natures'!J155 -> 0 | C10: ='4.1 Comptes 2022 natures'!J156 -> 317394.89 | D10: ='4.1 Comptes 2022 natures'!J154 -> 317394.89 | E10: ='4.9 Comptes 2022 par habitant'!J154 -> 95.802864 | F10: ='4.1 Comptes 2022 natures'!J63 -> 0 | G10: ='4.1 Comptes 2022 natures'!J139 -> 190359.86
A11: Courtételle | B11: ='4.1 Comptes 2022 natures'!K155 -> 23773.27 | C11: ='4.1 Comptes 2022 natures'!K156 -> 445908.69 | D11: ='4.1 Comptes 2022 natures'!K154 -> 469681.96 | E11: ='4.9 Comptes 2022 par habitant'!K154 -> 176.97135 | F11: ='4.1 Comptes 2022 natures'!K63 -> 650000 | G11: ='4.1 Comptes 2022 natures'!K139 -> 144677.5
A12: Delémont | B12: ='4.1 Comptes 2022 natures'!L155 -> -3253493.7 | C12: ='4.1 Comptes 2022 natures'!L156 -> 2211365.2 | D12: ='4.1 Comptes 2022 natures'!L154 -> -1042128.6 | E12: ='4.9 Comptes 2022 par habitant'!L154 -> -82.47298 | F12: ='4.1 Comptes 2022 natures'!L63 -> 0 | G12: ='4.1 Comptes 2022 natures'!L139 -> 2500000
A13: Develier | B13: ='4.1 Comptes 2022 natures'!M155 -> -288991.67 | C13: ='4.1 Comptes 2022 natures'!M156 -> 175778.23 | D13: ='4.1 Comptes 2022 natures'!M154 -> -113213.44 | E13: ='4.9 Comptes 2022 par habitant'!M154 -> -83.245176 | F13: ='4.1 Comptes 2022 natures'!M63 -> 0 | G13: ='4.1 Comptes 2022 natures'!M139 -> 10700
A14: Ederswiler | B14: ='4.1 Comptes 2022 natures'!N155 -> 3099.99 | C14: ='4.1 Comptes 2022 natures'!N156 -> 2001.08 | D14: ='4.1 Comptes 2022 natures'!N154 -> 5101.07 | E14: ='4.9 Comptes 2022 par habitant'!N154 -> 45.545268 | F14: ='4.1 Comptes 2022 natures'!N63 -> 0 | G14: ='4.1 Comptes 2022 natures'!N139 -> 0
A15: Haute-Sorne | B15: ='4.1 Comptes 2022 natures'!O155 -> 383432.05 | C15: ='4.1 Comptes 2022 natures'!O156 -> 702588.75 | D15: ='4.1 Comptes 2022 natures'!O154 -> 1086020.8 | E15: ='4.9 Comptes 2022 par habitant'!O154 -> 148.38377 | F15: ='4.1 Comptes 2022 natures'!O63 -> 383300 | G15: ='4.1 Comptes 2022 natures'!O139 -> 60684.04
A16: Mervelier | B16: ='4.1 Comptes 2022 natures'!P155 -> -86729.27 | C16: ='4.1 Comptes 2022 natures'!P156 -> 34808.21 | D16: ='4.1 Comptes 2022 natures'!P154 -> -51921.06 | E16: ='4.9 Comptes 2022 par habitant'!P154 -> -99.465632 | F16: ='4.1 Comptes 2022 natures'!P63 -> 337.1 | G16: ='4.1 Comptes 2022 natures'!P139 -> 29578.3
A17: Mettembert | B17: ='4.1 Comptes 2022 natures'!Q155 -> 1958.96 | C17: ='4.1 Comptes 2022 natures'!Q156 -> 25374.65 | D17: ='4.1 Comptes 2022 natures'!Q154 -> 27333.61 | E17: ='4.9 Comptes 2022 par habitant'!Q154 -> 257.86425 | F17: ='4.1 Comptes 2022 natures'!Q63 -> 0 | G17: ='4.1 Comptes 2022 natures'!Q139 -> 0
A18: Movelier | B18: ='4.1 Comptes 2022 natures'!R155 -> -32883.71 | C18: ='4.1 Comptes 2022 natures'!R156 -> -20394.82 | D18: ='4.1 Comptes 2022 natures'!R154 -> -53278.53 | E18: ='4.9 Comptes 2022 par habitant'!R154 -> -125.36125 | F18: ='4.1 Comptes 2022 natures'!R63 -> 0 | G18: ='4.1 Comptes 2022 natures'!R139 -> 0
A19: Pleigne | B19: ='4.1 Comptes 2022 natures'!S155 -> 137834.77 | C19: ='4.1 Comptes 2022 natures'!S156 -> 66205.73 | D19: ='4.1 Comptes 2022 natures'!S154 -> 204040.5 | E19: ='4.9 Comptes 2022 par habitant'!S154 -> 582.97286 | F19: ='4.1 Comptes 2022 natures'!S63 -> 0 | G19: ='4.1 Comptes 2022 natures'!S139 -> 240001.25
A20: Rossemaison | B20: ='4.1 Comptes 2022 natures'!T155 -> 100618.68 | C20: ='4.1 Comptes 2022 natures'!T156 -> 168853.41 | D20: ='4.1 Comptes 2022 natures'!T154 -> 269472.09 | E20: ='4.9 Comptes 2022 par habitant'!T154 -> 367.62905 | F20: ='4.1 Comptes 2022 natures'!T63 -> 95000 | G20: ='4.1 Comptes 2022 natures'!T139 -> 26100
A21: Saulcy | B21: ='4.1 Comptes 2022 natures'!U155 -> -91225.19 | C21: ='4.1 Comptes 2022 natures'!U156 -> 38742.15 | D21: ='4.1 Comptes 2022 natures'!U154 -> -52483.04 | E21: ='4.9 Comptes 2022 par habitant'!U154 -> -194.38163 | F21: ='4.1 Comptes 2022 natures'!U63 -> 0 | G21: ='4.1 Comptes 2022 natures'!U139 -> 40667.55
A22: Soyhières | B22: ='4.1 Comptes 2022 natures'!V155 -> -83842.03 | C22: ='4.1 Comptes 2022 natures'!V156 -> 49400.92 | D22: ='4.1 Comptes 2022 natures'!V154 -> -34441.11 | E22: ='4.9 Comptes 2022 par habitant'!V154 -> -82.59259 | F22: ='4.1 Comptes 2022 natures'!V63 -> 0 | G22: ='4.1 Comptes 2022 natures'!V139 -> 0
A23: Val Terbi | B23: ='4.1 Comptes 2022 natures'!W155 -> 9425.38 | C23: ='4.1 Comptes 2022 natures'!W156 -> 409019.68 | D23: ='4.1 Comptes 2022 natures'!W154 -> 418445.06 | E23: ='4.9 Comptes 2022 par habitant'!W154 -> 127.38054 | F23: ='4.1 Comptes 2022 natures'!W63 -> 600000 | G23: ='4.1 Comptes 2022 natures'!W139 -> 133028
A24: Le Bémont | B24: ='4.1 Comptes 2022 natures'!X155 -> 71279.27 | C24: ='4.1 Comptes 2022 natures'!X156 -> -7184.85 | D24: ='4.1 Comptes 2022 natures'!X154 -> 64094.42 | E24: ='4.9 Comptes 2022 par habitant'!X154 -> 208.09877 | F24: ='4.1 Comptes 2022 natures'!X63 -> 0 | G24: ='4.1 Comptes 2022 natures'!X139 -> 0
A25: Les Bois | B25: ='4.1 Comptes 2022 natures'!Y155 -> 762175.92 | C25: ='4.1 Comptes 2022 natures'!Y156 -> 116963.83 | D25: ='4.1 Comptes 2022 natures'!Y154 -> 879139.75 | E25: ='4.9 Comptes 2022 par habitant'!Y154 -> 698.83923 | F25: ='4.1 Comptes 2022 natures'!Y63 -> 0 | G25: ='4.1 Comptes 2022 natures'!Y139 -> 0
A26: Les Breuleux | B26: ='4.1 Comptes 2022 natures'!Z155 -> 1599945.3 | C26: ='4.1 Comptes 2022 natures'!Z156 -> 266556.25 | D26: ='4.1 Comptes 2022 natures'!Z154 -> 1866501.6 | E26: ='4.9 Comptes 2022 par habitant'!Z154 -> 1224.7386 | F26: ='4.1 Comptes 2022 natures'!Z63 -> 1000000 | G26: ='4.1 Comptes 2022 natures'!Z139 -> 0
A27: La Chaux-B. | B27: ='4.1 Comptes 2022 natures'!AA155 -> -113818.35 | C27: ='4.1 Comptes 2022 natures'!AA156 -> -2759.2 | D27: ='4.1 Comptes 2022 natures'!AA154 -> -116577.55 | E27: ='4.9 Comptes 2022 par habitant'!AA154 -> -1339.9718 | F27: ='4.1 Comptes 2022 natures'!AA63 -> 0 | G27: ='4.1 Comptes 2022 natures'!AA139 -> 0
A28: Les Enfers | B28: ='4.1 Comptes 2022 natures'!AB155 -> 5979.36 | C28: ='4.1 Comptes 2022 natures'!AB156 -> 31729.85 | D28: ='4.1 Comptes 2022 natures'!AB154 -> 37709.21 | E28: ='4.9 Comptes 2022 par habitant'!AB154 -> 241.72571 | F28: ='4.1 Comptes 2022 natures'!AB63 -> 35000 | G28: ='4.1 Comptes 2022 natures'!AB139 -> 0
A29: Les Genevez | B29: ='4.1 Comptes 2022 natures'!AC155 -> 7580.24 | C29: ='4.1 Comptes 2022 natures'!AC156 -> -243.21 | D29: ='4.1 Comptes 2022 natures'!AC154 -> 7337.03 | E29: ='4.9 Comptes 2022 par habitant'!AC154 -> 14.386333 | F29: ='4.1 Comptes 2022 natures'!AC63 -> 0 | G29: ='4.1 Comptes 2022 natures'!AC139 -> 0
A30: Lajoux | B30: ='4.1 Comptes 2022 natures'!AD155 -> -70858.69 | C30: ='4.1 Comptes 2022 natures'!AD156 -> 125128.83 | D30: ='4.1 Comptes 2022 natures'!AD154 -> 54270.14 | E30: ='4.9 Comptes 2022 par habitant'!AD154 -> 76.978922 | F30: ='4.1 Comptes 2022 natures'!AD63 -> 0 | G30: ='4.1 Comptes 2022 natures'!AD139 -> 0
A31: Montfaucon | B31: ='4.1 Comptes 2022 natures'!AE155 -> -144543.5 | C31: ='4.1 Comptes 2022 natures'!AE156 -> -113762.3 | D31: ='4.1 Comptes 2022 natures'!AE154 -> -258305.8 | E31: ='4.9 Comptes 2022 par habitant'!AE154 -> -468.79456 | F31: ='4.1 Comptes 2022 natures'!AE63 -> 0 | G31: ='4.1 Comptes 2022 natures'!AE139 -> 96
A32: Muriaux | B32: ='4.1 Comptes 2022 natures'!AF155 -> -209245.59 | C32: ='4.1 Comptes 2022 natures'!AF156 -> 83282.86 | D32: ='4.1 Comptes 2022 natures'!AF154 -> -125962.73 | E32: ='4.9 Comptes 2022 par habitant'!AF154 -> -246.50241 | F32: ='4.1 Comptes 2022 natures'!AF63 -> 0 | G32: ='4.1 Comptes 2022 natures'!AF139 -> 0
A33: Le Noirmont | B33: ='4.1 Comptes 2022 natures'!AG155 -> 570704.15 | C33: ='4.1 Comptes 2022 natures'!AG156 -> 579665.13 | D33: ='4.1 Comptes 2022 natures'!AG154 -> 1150369.3 | E33: ='4.9 Comptes 2022 par habitant'!AG154 -> 604.82086 | F33: ='4.1 Comptes 2022 natures'!AG63 -> 0 | G33: ='4.1 Comptes 2022 natures'!AG139 -> 0
A34: Saignelégier | B34: ='4.1 Comptes 2022 natures'!AH155 -> 89717.45 | C34: ='4.1 Comptes 2022 natures'!AH156 -> 405918 | D34: ='4.1 Comptes 2022 natures'!AH154 -> 495635.45 | E34: ='4.9 Comptes 2022 par habitant'!AH154 -> 192.47979 | F34: ='4.1 Comptes 2022 natures'!AH63 -> 350000 | G34: ='4.1 Comptes 2022 natures'!AH139 -> 0
A35: Saint-Brais | B35: ='4.1 Comptes 2022 natures'!AI155 -> -6155.02 | C35: ='4.1 Comptes 2022 natures'!AI156 -> 54787.13 | D35: ='4.1 Comptes 2022 natures'!AI154 -> 48632.11 | E35: ='4.9 Comptes 2022 par habitant'!AI154 -> 213.29873 | F35: ='4.1 Comptes 2022 natures'!AI63 -> 50000 | G35: ='4.1 Comptes 2022 natures'!AI139 -> 0
A36: Soubey | B36: ='4.1 Comptes 2022 natures'!AJ155 -> 4342.35 | C36: ='4.1 Comptes 2022 natures'!AJ156 -> 45010.42 | D36: ='4.1 Comptes 2022 natures'!AJ154 -> 49352.77 | E36: ='4.9 Comptes 2022 par habitant'!AJ154 -> 418.24381 | F36: ='4.1 Comptes 2022 natures'!AJ63 -> 170000 | G36: ='4.1 Comptes 2022 natures'!AJ139 -> 0
A37: Alle | B37: ='4.1 Comptes 2022 natures'!AK155 -> 450000 | C37: ='4.1 Comptes 2022 natures'!AK156 -> 167262.02 | D37: ='4.1 Comptes 2022 natures'!AK154 -> 617262.02 | E37: ='4.9 Comptes 2022 par habitant'!AK154 -> 327.98194 | F37: ='4.1 Comptes 2022 natures'!AK63 -> 367367.02 | G37: ='4.1 Comptes 2022 natures'!AK139 -> 0
A38: La Baroche | B38: ='4.1 Comptes 2022 natures'!AL155 -> 42549.12 | C38: ='4.1 Comptes 2022 natures'!AL156 -> 57892.7 | D38: ='4.1 Comptes 2022 natures'!AL154 -> 100441.82 | E38: ='4.9 Comptes 2022 par habitant'!AL154 -> 90.163214 | F38: ='4.1 Comptes 2022 natures'!AL63 -> 163343.7 | G38: ='4.1 Comptes 2022 natures'!AL139 -> 40000
A39: Basse-Allaine | B39: ='4.1 Comptes 2022 natures'!AM155 -> -59505.94 | C39: ='4.1 Comptes 2022 natures'!AM156 -> 37079.43 | D39: ='4.1 Comptes 2022 natures'!AM154 -> -22426.51 | E39: ='4.9 Comptes 2022 par habitant'!AM154 -> -18.427699 | F39: ='4.1 Comptes 2022 natures'!AM63 -> 0 | G39: ='4.1 Comptes 2022 natures'!AM139 -> 0
A40: Beurnevésin | B40: ='4.1 Comptes 2022 natures'!AN155 -> -471.3 | C40: ='4.1 Comptes 2022 natures'!AN156 -> -8970.94 | D40: ='4.1 Comptes 2022 natures'!AN154 -> -9442.24 | E40: ='4.9 Comptes 2022 par habitant'!AN154 -> -80.702906 | F40: ='4.1 Comptes 2022 natures'!AN63 -> 12358 | G40: ='4.1 Comptes 2022 natures'!AN139 -> 4800
A41: Boncourt | B41: ='4.1 Comptes 2022 natures'!AO155 -> 53245.44 | C41: ='4.1 Comptes 2022 natures'!AO156 -> 59413.84 | D41: ='4.1 Comptes 2022 natures'!AO154 -> 112659.28 | E41: ='4.9 Comptes 2022 par habitant'!AO154 -> 93.493178 | F41: ='4.1 Comptes 2022 natures'!AO63 -> 1900000 | G41: ='4.1 Comptes 2022 natures'!AO139 -> 0
...

Sheet 4.2 Comptes 2022 par commune
A2: Comptes de résultats par natures 2022
D4: Veuillez choisir votre commune ci-dessous
A5: Communes : | D5: Boécourt
E7: CHF
