Workbook

Sheet Autoévaluation ASSC
A1: Auto-évaluation
A2: Procédure de validation des aquis d'Assistant/e en soins et santé communautaire CFC Auto-évaluation
A4: Pour chaque objectif évaluateur, indiquer dans la ligne jaune, le pourcentage auquel vous correspondez. 100% étant considéré comme pratiqué de manière régulière, 0% étant pas pratiqué.
A6: Compétences Communes
A7: A. Professionalisme et orientation client
A8: a1 | B8: Agir en tant que professionnel et membre de l'équipe (compétence obligatoire)
B10: Total en % | C10: =SUM(C9)/1 -> 0
A11: a2 | B11: Etablir des relations professionnelles avec les clientes et clients comme avec leur entourage (compétence obligatoire)
B13: Total en % | C13: =SUM(C12)/1 -> 0
A14: a3 | B14: Agir selon ses observations et de manière conforme à la situation (compétence obligatoire)
B16: Total en % | C16: =SUM(C15:C15)/1 -> 0
A17: a4 | B17: Agir en fonction de la situation en tenant compte des habitudes spécifiques à l'âge, à la culture et à la réligion (compétence obligatoire)
B19: Total en % | C19: =SUM(C18:C18)/1 -> 0
A20: a5 | B20: Collaborer à l'assurance de la qualité
B22: Total en % | C22: =SUM(C21:C21)/1 -> 0
A23: B.Soins et assistance
A24: b1 | B24: Soutenir les clientes et clients pour les soins corporels (compétence obligatoire)
B26: Total en % | C26: =SUM(C25:C25)/1 -> 0
A27: b2 | B27: Soutenir les clientes et clients dans leur mobilité (compétence obligatoire)
B29: Total en % | C29: =SUM(C28:C28)/1 -> 0
A30: b3 | B30: Soutenir les clientes et clients dans la fonction d'élimination
B32: Total en % | C32: =SUM(C31:C31)/1 -> 0
A33: b4 | B33: Soutenir les clientes et clients pour leur respiration
B35: Total en % | C35: =SUM(C34:C34)/1 -> 0
A36: b5 | B36: Soutenir les clientes et clients pour leur alimentation (compétence obligatoire)
B38: Total en % | C38: =SUM(C37:C37)/1 -> 0
A39: b6 | B39: Soutenir les clientes et clients dans leur besoin de repos et de sommeil
B41: Total en % | C41: =SUM(C40:C40)/1 -> 0
A42: C. Crises, urgences et situations exigeantes
A43: c1 | B43: Réagir en cas d'urgence de manière conforme à la situation (compétence obligatoire)
B45: Total en % | C45: =SUM(C44:C44)/1 -> 0
A46: c2 | B46: Collaborer à l'accompagnement des clientes et clients en fin de vie
B48: Total en % | C48: =SUM(C47:C47)/1 -> 0
A49: c3 | B49: Participer à l'accompagnement des clientes et clients dans les situations de crise
B51: Total en % | C51: =SUM(C50:C50)/1 -> 0
A52: c4 | B52: Participer à l'accompagnement des clientes et clients souffrant d'affections chroniques, de multimorbidité ou se trouvant en situation palliative (compétence obligatoire)
B54: Total en % | C54: =SUM(C53:C53)/1 -> 0
A55: c5 | B55: Soutenir les clientes et clients présentant des troubles du comportement (compétence obligatoire)
B57: Total en % | C57: =SUM(C56:C56)/1 -> 0
A58: D. Actes médico-techniques (Compétences à acquérir en formation/ n'auto-évaluez pas ces compétences) | C58: Ce domaine de compétences n'est pas à démontrer dans le dossier VAE. Il fera l'objet d'une formation formelle après l'évaluation du dossier
A59: d1 | B59: Contrôler les signes vitaux et établir un bilan hydrique (compétence obligatoire)
A60: d2 | B60: Effectuer des prises de sang veineuses et capillaires (compétence obligatoire)
A61: d3 | B61: Préparer et administer des médicaments (compétence obligatoire)
A62: d4 | B62: Préparer des perfusions exemptes de solution médicamenteuse et les administrer lorsqu'une voie veineuse périphérique est en place et changer des perfusions contenant déjà une solution médicamenteuse
A63: d5 | B63: Préparer l'alimentation entérale et l'administrer lorsqu'une sonde gastrique est en place
A64: d6 | B64: Effectuer des injections sous-cutanées et intramusculaires (compétence obligatoire)
A65: d7 | B65: Changer les pansements de plaies du premier ou du deuxième degré en voie de guérison (compétence obligatoire)
A66: E. Maintien de la santé, promotion de la santé et hygiène
A67: e1 | B67: Se conformer aux prescriptions en matière de sécurité au travail et de protection de l'environnement, appliquer les mesures d'hygiène (compétence obligatoire)
B69: Total en % | C69: =SUM(C68:C68)/1 -> 0
A70: e2 | B70: Appliquer des mesures de prévention
B72: Total en % | C72: =SUM(C71:C71)/1 -> 0
A73: e3 | B73: Stimuler les ressources des clientes et clients (compétence obligatoire)
B75: Total en % | C75: =SUM(C74:C74)/1 -> 0
A76: e4 | B76: Informer et accompagner les clientes et clients en matière d'alimentation
B78: Total en % | C78: =SUM(C77:C77)/1 -> 0
A79: F. Organisation de la vie quotidienne
A80: f1 | B80: Organiser de manière professionnelle les activités quotidiennes avec les différents groupes de clientes et clients
B82: Total en % | C82: =SUM(C81:C81)/1 -> 0
A83: f2 | B83: Soutenir les clientes et clients dans la structuration de leur journée et les aider à se tenir à leur programme
B85: Total en % | C85: =SUM(C84:C84)/1 -> 0
A86: f3 | B86: Détecter les besoins individuels des clientes et clients en termes de sexualité et créer le cadre approprié
B88: Total en % | C88: =SUM(C87:C87)/1 -> 0
A89: G. | B89: Intendance
A90: g1 | B90: Soutenir les clientes et clients dans leur apparence extérieure et dans le choix d'un habillement adapté à la situation
B92: Total en % | C92: =SUM(C91:C91)/1 -> 0
A93: g2 | B93: Veiller à un environnement propre et sûr prenant en compte les besoins personnels
B95: Total en % | C95: =SUM(C94:C94)/1 -> 0
A96: H | B96: Administration et logistique
A97: h1 | B97: Collaborer à la préparation des entrées et des sorties et à leur déroulement
B99: Total en % | C99: =SUM(C98:C98)/1 -> 0
A100: h2 | B100: Utiliser les technologies de l'information et de la communication propres à l'établissement
B102: Total en % | C102: =SUM(C101:C101)/1 -> 0
A103: h3 | B103: Organiser les transports des clientes et clients
B105: Total en % | C105: =SUM(C104:C104)/1 -> 0
A106: h4 | B106: Gérer le matériel d'usage et les médicaments
B108: Total en % | C108: =SUM(C107:C107)/1 -> 0
A109: h5 | B109: Entretenir les appareils et le mobilier
B111: Total en % | C111: =SUM(C110:C110)/1 -> 0
B112: MOYENNE TOTALE | C112: =SUM(C10+C13+C16+C19+C22+C26+C29+C32+C35+C38+C41+C45+C48+C51+C54+C57+C69+C72+C75+C78+C82+C85+C88+C92+C95+C99+C102+C105+C108+C111)/30 -> 0

Sheet Résultats ASSC
A1: Résultats VAE CFC ASSC
A2: a1 | B2: Agir en tant que professionnel et membre de l'équipe | C2: ='Autoévaluation ASSC'!C10 -> 0
A3: a2 | B3: Etablir des relations professionnelles avec les clientes et clients comme avec leur entourage | C3: ='Autoévaluation ASSC'!C13 -> 0
A4: a3 | B4: Agir selon ses observations et de manière conforme à la situation | C4: ='Autoévaluation ASSC'!C16 -> 0
A5: a4 | B5: Agir en fonction de la situation en tenant compte des habitudes spécifiques à l'âge, à la culture et à la réligion | C5: ='Autoévaluation ASSC'!C19 -> 0
A6: a5 | B6: Collaborer à l'assurance de la qualité | C6: ='Autoévaluation ASSC'!C22 -> 0
A7: A | B7: Mise en œuvre de compétences transversales | C7: =SUM(C2:C6)/5 -> 0
A8: b1 | B8: Soutenir les clientes et clients pour les soins corporels | C8: ='Autoévaluation ASSC'!C26 -> 0
A9: b2 | B9: Soutenir les clientes et clients dans leur mobilité | C9: ='Autoévaluation ASSC'!C29 -> 0
A10: b3 | B10: Soutenir les clientes et clients dans la fonction d'élimination | C10: ='Autoévaluation ASSC'!C32 -> 0
A11: b4 | B11: Soutenir les clientes et clients pour leur respiration | C11: ='Autoévaluation ASSC'!C35 -> 0
A12: b5 | B12: Soutenir les clientes et clients pour leur alimentation | C12: ='Autoévaluation ASSC'!C38 -> 0
A13: b6 | B13: Soutenir les clientes et clients dans leur besoin de repos et de sommeil | C13: ='Autoévaluation ASSC'!C41 -> 0
A14: B | B14: Soins et assistance | C14: =SUM(C8:C13)/6 -> 0
A15: c1 | B15: Réagir en cas d'urgence de manière conforme à la situation | C15: ='Autoévaluation ASSC'!C45 -> 0
A16: c2 | B16: Collaborer à l'accompagnement des clientes et clients en fin de vie | C16: ='Autoévaluation ASSC'!C48 -> 0
A17: c3 | B17: Participer à l'accompagnement des clientes et clients dans les situations de crise | C17: ='Autoévaluation ASSC'!C51 -> 0
A18: c4 | B18: Participer à l'accompagnement des clientes et clients souffrant d'affections chroniques, de multimorbidité ou se trouvant en situation palliative | C18: ='Autoévaluation ASSC'!C54 -> 0
A19: c5 | B19: Soutenir les clientes et clients présentant des troubles du comportement | C19: ='Autoévaluation ASSC'!C57 -> 0
A20: C | B20: Crises, urgences et situations exigeantes | C20: =SUM(C15:C19)/5 -> 0
A21: d1 | B21: Contrôler les signes vitaux et établir un bilan hydrique
A22: d2 | B22: Effectuer des prises de sang veineuses et capillaires
A23: d3 | B23: Préparer et administer des médicaments
A24: d4 | B24: Préparer des perfusions exemptes de solution médicamenteuse et les administrer lorsqu'une voie veineuse périphérique est en place et changer des perfusions contenant déjà une solution médicamenteuse
A25: d5 | B25: Préparer l'alimentation entérale et l'administrer lorsqu'une sonde gastrique est en place
A26: d6 | B26: Effectuer des injections sous-cutanées et intramusculaires
A27: d7 | B27: Changer les pansements de plaies du premier ou du deuxième degré en voie de guérison
A28: D. | B28: Actes médico-techniques - Ne pas auto-évaluer
A29: e1 | B29: Se conformer aux prescriptions en matière de sécurité au travail et de protection de l'environnement, appliquer les mesures d'hygiène | C29: ='Autoévaluation ASSC'!C69 -> 0
A30: e2 | B30: Appliquer des mesures de prévention | C30: ='Autoévaluation ASSC'!C72 -> 0
A31: e3 | B31: Stimuler les ressources des clientes et clients | C31: ='Autoévaluation ASSC'!C75 -> 0
A32: e4 | B32: Informer et accompagner les clientes et clients en matière d'alimentation | C32: ='Autoévaluation ASSC'!C78 -> 0
A33: E. | B33: Maintien de la santé, promotion de la santé et hygiène | C33: =SUM(C29:C32)/4 -> 0
A34: f1 | B34: Organiser de manière professionnelle les activités quotidiennes avec les différents groupes de clientes et clients | C34: ='Autoévaluation ASSC'!C82 -> 0
A35: f2 | B35: Soutenir les clientes et clients dans la structuration de leur journée et les aider à se tenir à leur programme | C35: ='Autoévaluation ASSC'!C85 -> 0
A36: f3 | B36: Détecter les besoins individuels des clientes et clients en termes de sexualité et créer le cadre approprié | C36: ='Autoévaluation ASSC'!C88 -> 0
A37: F. | B37: Organisation de la vie quotidienne | C37: =SUM(C34:C36)/3 -> 0
A38: g1 | B38: Soutenir les clientes et clients dans leur apparence extérieure et dans le choix d'un habillement adapté à la situation | C38: ='Autoévaluation ASSC'!C85 -> 0
A39: g2 | B39: Veiller à un environnement propre et sûr prenant en compte les besoins personnels | C39: ='Autoévaluation ASSC'!C95 -> 0
A40: G. | B40: Intendance | C40: =SUM(C38:C39)/2 -> 0
A41: h1 | B41: Collaborer à la préparation des entrées et des sorties et à leur déroulement | C41: ='Autoévaluation ASSC'!C99 -> 0
A42: h2 | B42: Utiliser les technologies de l'information et de la communication propres à l'établissement | C42: ='Autoévaluation ASSC'!C102 -> 0
A43: h3 | B43: Organiser les transports des clientes et clients | C43: ='Autoévaluation ASSC'!C102 -> 0
A44: h4 | B44: Gérer le matériel d'usage et les médicaments | C44: ='Autoévaluation ASSC'!C108 -> 0
A45: h5 | B45: Entretenir les appareils et le mobilier | C45: ='Autoévaluation ASSC'!C111 -> 0
A46: H. | B46: Administration et logistique | C46: =SUM(C41:C45)/5 -> 0
B47: Moyenne générale | C47: =(C7+C14+C20+C33+C37+C40+C46)/7 -> 0
