Workbook

Sheet Autoévaluation ASSC
A1: Auto-évaluation
A2: Procédure de validation des aquis d'Assistant/e en soins et santé communautaire CFC Auto-évaluation
A4: Pour chaque objectif évaluateur, indiquer dans la ligne jaune, le pourcentage auquel vous correspondez. 100% étant considéré comme pratiqué de manière régulière, 0% étant pas pratiqué.
A6: Compétences Communes
A7: A. Professionalisme et orientation client
A8: a1 | B8: Agir en tant que professionnel et membre de l'équipe (compétence obligatoire)
B10: Total en % | C10: =SUM(C9)/1 -> 0
A11: a2 | B11: Etablir des relations professionnelles avec les clientes et clients comme avec leur entourage (compétence obligatoire)
B13: Total en % | C13: =SUM(C12)/1 -> 0
A14: a3 | B14: Agir selon ses observations et de manière conforme à la situation (compétence obligatoire)
B16: Total en % | C16: =SUM(C15:C15)/1 -> 0
A17: a4 | B17: Agir en fonction de la situation en tenant compte des habitudes spécifiques à l'âge, à la culture et à la réligion (compétence obligatoire)
B19: Total en % | C19: =SUM(C18:C18)/1 -> 0
A20: a5 | B20: Collaborer à l'assurance de la qualité
B22: Total en % | C22: =SUM(C21:C21)/1 -> 0
A23: B.Soins et assistance
A24: b1 | B24: Soutenir les clientes et clients pour les soins corporels (compétence obligatoire)
B26: Total en % | C26: =SUM(C25:C25)/1 -> 0
A27: b2 | B27: Soutenir les clientes et clients dans leur mobilité (compétence obligatoire)
B29: Total en % | C29: =SUM(C28:C28)/1 -> 0
A30: b3 | B30: Soutenir les clientes et clients dans la fonction d'élimination
B32: Total en % | C32: =SUM(C31:C31)/1 -> 0
A33: b4 | B33: Soutenir les clientes et clients pour leur respiration
B35: Total en % | C35: =SUM(C34:C34)/1 -> 0
A36: b5 | B36: Soutenir les clientes et clients pour leur alimentation (compétence obligatoire)
B38: Total en % | C38: =SUM(C37:C37)/1 -> 0
A39: b6 | B39: Soutenir les clientes et clients dans leur besoin de repos et de sommeil
B41: Total en % | C41: =SUM(C40:C40)/1 -> 0
A42: C. Crises, urgences et situations exigeantes
A43: c1 | B43: Réagir en cas d'urgence de manière conforme à la situation (compétence obligatoire)
B45: Total en % | C45: =SUM(C44:C44)/1 -> 0
A46: c2 | B46: Collaborer à l'accompagnement des clientes et clients en fin de vie
B48: Total en % | C48: =SUM(C47:C47)/1 -> 0
A49: c3 | B49: Participer à l'accompagnement des clientes et clients dans les situations de crise
B51: Total en % | C51: =SUM(C50:C50)/1 -> 0
A52: c4 | B52: Participer à l'accompagnement des clientes et clients souffrant d'affections chroniques, de multimorbidité ou se trouvant en situation palliative (compétence obligatoire)
B54: Total en % | C54: =SUM(C53:C53)/1 -> 0
A55: c5 | B55: Soutenir les clientes et clients présentant des troubles du comportement (compétence obligatoire)
B57: Total en % | C57: =SUM(C56:C56)/1 -> 0
A58: D. Actes médico-techniques (Compétences à acquérir en formation/ n'auto-évaluez pas ces compétences) | C58: Ce domaine de compétences n'est pas à démontrer dans le dossier VAE. Il fera l'objet d'une formation formelle après l'évaluation du dossier
...

Sheet Résultats ASSC
A1: Résultats VAE CFC ASSC
A2: a1 | B2: Agir en tant que professionnel et membre de l'équipe | C2: ='Autoévaluation ASSC'!C10 -> 0
A3: a2 | B3: Etablir des relations professionnelles avec les clientes et clients comme avec leur entourage | C3: ='Autoévaluation ASSC'!C13 -> 0
A4: a3 | B4: Agir selon ses observations et de manière conforme à la situation | C4: ='Autoévaluation ASSC'!C16 -> 0
A5: a4 | B5: Agir en fonction de la situation en tenant compte des habitudes spécifiques à l'âge, à la culture et à la réligion | C5: ='Autoévaluation ASSC'!C19 -> 0
A6: a5 | B6: Collaborer à l'assurance de la qualité | C6: ='Autoévaluation ASSC'!C22 -> 0
A7: A | B7: Mise en œuvre de compétences transversales | C7: =SUM(C2:C6)/5 -> 0
A8: b1 | B8: Soutenir les clientes et clients pour les soins corporels | C8: ='Autoévaluation ASSC'!C26 -> 0
A9: b2 | B9: Soutenir les clientes et clients dans leur mobilité | C9: ='Autoévaluation ASSC'!C29 -> 0
A10: b3 | B10: Soutenir les clientes et clients dans la fonction d'élimination | C10: ='Autoévaluation ASSC'!C32 -> 0
A11: b4 | B11: Soutenir les clientes et clients pour leur respiration | C11: ='Autoévaluation ASSC'!C35 -> 0
A12: b5 | B12: Soutenir les clientes et clients pour leur alimentation | C12: ='Autoévaluation ASSC'!C38 -> 0
A13: b6 | B13: Soutenir les clientes et clients dans leur besoin de repos et de sommeil | C13: ='Autoévaluation ASSC'!C41 -> 0
A14: B | B14: Soins et assistance | C14: =SUM(C8:C13)/6 -> 0
A15: c1 | B15: Réagir en cas d'urgence de manière conforme à la situation | C15: ='Autoévaluation ASSC'!C45 -> 0
A16: c2 | B16: Collaborer à l'accompagnement des clientes et clients en fin de vie | C16: ='Autoévaluation ASSC'!C48 -> 0
A17: c3 | B17: Participer à l'accompagnement des clientes et clients dans les situations de crise | C17: ='Autoévaluation ASSC'!C51 -> 0
A18: c4 | B18: Participer à l'accompagnement des clientes et clients souffrant d'affections chroniques, de multimorbidité ou se trouvant en situation palliative | C18: ='Autoévaluation ASSC'!C54 -> 0
A19: c5 | B19: Soutenir les clientes et clients présentant des troubles du comportement | C19: ='Autoévaluation ASSC'!C57 -> 0
A20: C | B20: Crises, urgences et situations exigeantes | C20: =SUM(C15:C19)/5 -> 0
A21: d1 | B21: Contrôler les signes vitaux et établir un bilan hydrique
A22: d2 | B22: Effectuer des prises de sang veineuses et capillaires
A23: d3 | B23: Préparer et administer des médicaments
A24: d4 | B24: Préparer des perfusions exemptes de solution médicamenteuse et les administrer lorsqu'une voie veineuse périphérique est en place et changer des perfusions contenant déjà une solution médicamenteuse
A25: d5 | B25: Préparer l'alimentation entérale et l'administrer lorsqu'une sonde gastrique est en place
A26: d6 | B26: Effectuer des injections sous-cutanées et intramusculaires
A27: d7 | B27: Changer les pansements de plaies du premier ou du deuxième degré en voie de guérison
A28: D. | B28: Actes médico-techniques - Ne pas auto-évaluer
A29: e1 | B29: Se conformer aux prescriptions en matière de sécurité au travail et de protection de l'environnement, appliquer les mesures d'hygiène | C29: ='Autoévaluation ASSC'!C69 -> 0
A30: e2 | B30: Appliquer des mesures de prévention | C30: ='Autoévaluation ASSC'!C72 -> 0
A31: e3 | B31: Stimuler les ressources des clientes et clients | C31: ='Autoévaluation ASSC'!C75 -> 0
A32: e4 | B32: Informer et accompagner les clientes et clients en matière d'alimentation | C32: ='Autoévaluation ASSC'!C78 -> 0
A33: E. | B33: Maintien de la santé, promotion de la santé et hygiène | C33: =SUM(C29:C32)/4 -> 0
A34: f1 | B34: Organiser de manière professionnelle les activités quotidiennes avec les différents groupes de clientes et clients | C34: ='Autoévaluation ASSC'!C82 -> 0
A35: f2 | B35: Soutenir les clientes et clients dans la structuration de leur journée et les aider à se tenir à leur programme | C35: ='Autoévaluation ASSC'!C85 -> 0
A36: f3 | B36: Détecter les besoins individuels des clientes et clients en termes de sexualité et créer le cadre approprié | C36: ='Autoévaluation ASSC'!C88 -> 0
A37: F. | B37: Organisation de la vie quotidienne | C37: =SUM(C34:C36)/3 -> 0
A38: g1 | B38: Soutenir les clientes et clients dans leur apparence extérieure et dans le choix d'un habillement adapté à la situation | C38: ='Autoévaluation ASSC'!C85 -> 0
A39: g2 | B39: Veiller à un environnement propre et sûr prenant en compte les besoins personnels | C39: ='Autoévaluation ASSC'!C95 -> 0
A40: G. | B40: Intendance | C40: =SUM(C38:C39)/2 -> 0
...
