Workbook

Sheet Sommaire
A2: Rapport sur les finances communales - exercice 2021
B4: Sommaire
A6: 1 | B6: Population
A7: 1.1 | B7: Population | C7: Population
A9: 2 | B9: Compte de résultat
A10: 2.1 | B10: Compte de résultats par nature par commune | C10: Compte de résultats
A11: 2.2 | B11: Compte de résultats pas nature en Fr. par habitant | C11: Compte de résultats en Fr. par habitant
A12: 2.3 | B12: Compte de résultats par nature en Fr. par habitant par commune | C12: Compte de résultats en Fr. par commune
A13: 2.4 | B13: Vue d'ensemble | C13: Vue d'ensemble
A14: 2.5 | B14: Vue d'ensemble par commune | C14: Vue d'ensemble par commune
A15: 2.6 | B15: Résultats à 3 niveaux | C15: Résultats à 3 niveaux
A16: 2.7 | B16: Résultats à 3 nivaux par commune | C16: Résultats à 3 niveaux par commune
A17: 2.8 | B17: Autofinancement | C17: Autofinancement
A18: 2.9 | B18: Autofinancement par commune | C18: Autofinancement par commune
A19: 2.1 | B19: Compte de résultats par fonction | C19: Compte de résultats par fonction
A20: 2.11 | B20: Compte de résultats par fonction par commune | C20: Compte de résultats fonctionnel par commune
A22: 3 | B22: Bilan
A23: 3.2 | B23: Bilan de l'ensemble des communes | C23: Bilan de l'ensemble des communes
A24: 3.3 | B24: Bilan par commune | C24: Bilan par commune
A25: 3.4 | B25: Tableau du bilan | C25: Tableau du bilan
A26: 3.5 | B26: Tableau de l'endettement | C26: Endettement
A27: 3.6 | B27: Tableau de l'endettement par commune | C27: Endettement par commune
A29: 4 | B29: Comptes des investissements
A30: 4.1 | B30: Investissements de l'ensemble des communes | C30: Investissements
A31: 4.2 | B31: Investissements par commune | C31: Investissements par commune
A33: 5 | B33: Indicateurs financiers
A34: 5.1 | B34: Définition des indicateurs financiers | C34: Définition des indicateurs financiers
A35: 5.2 | B35: Quotient de l'endettement net et degré d'autofinancement | C35: Degré d'autofinancement
A36: 5.3 | B36: Quotité de la charge des intérêts et dette brute par rapport aux revenus | C36: Dette brute par rapport aux revenus
A37: 5.4 | B37: Quotité d'investissement et quotité de la charge financière | C37: Quotités d'investissement et charges financière
A38: 5.5 | B38: Quotité d'autofinancement et quotité de la charge des intérêts nets | C38: Quotité d''autofinancement
A39: 5.6 | B39: Quotient de l'excédent au bilan | C39: Quotient excédent du bilan
A40: 5.7 | B40: Récapitulatif de l'ensemble des communes | C40: Récapitulatif
A41: 5.8 | B41: Récapitulatif par commune | C41: Récapitulatif par commune

Sheet Base de données pop.
A1: N° | B1: Communes | C1: 2021 | M1: N° | N1: Communes | O1: 2021
A2: 1 | B2: Boécourt | C2: 947 | G2: Ne pas effectuer de tri avec cette feuille, c'est la base de donnée. | M2: 1 | N2: Alle | O2: =C34 -> 1891
A3: 2 | B3: Bourrignon | C3: 265 | M3: 2 | N3: Basse-Allaine | O3: =C36 -> 1225
A4: 3 | B4: Châtillon | C4: 469 | M4: 3 | N4: Beurnevésin | O4: =C37 -> 117
A5: 4 | B5: Courchapoix | C5: 439 | F5: Population par district | M5: 4 | N5: Boécourt | O5: =C2 -> 947
A6: 5 | B6: Courrendlin | C6: 3728 | F6: Delémont | H6: =SUM(C2:C20) -> 39125 | M6: 5 | N6: Boncourt | O6: =C38 -> 1185
A7: 6 | B7: Courroux | C7: 3345 | F7: Franches-Montagnes | H7: =SUM(C21:C33) -> 10478 | M7: 6 | N7: Bonfol | O7: =C39 -> 642
A8: 7 | B8: Courtételle | C8: 2652 | F8: Porrentruy | H8: =SUM(C34:C54) -> 24195 | M8: 7 | N8: Bourrignon | O8: =C3 -> 265
A9: 8 | B9: Delémont | C9: 12479 | H9: =SUM(H6:H8) -> 73798 | M9: 8 | N9: Bure | O9: =C40 -> 633
A10: 9 | B10: Develier | C10: 1359 | M10: 9 | N10: Châtillon | O10: =C4 -> 469
A11: 10 | B11: Ederswiler | C11: 117 | M11: 10 | N11: Clos du Doubs | O11: =C41 -> 1284
A12: 11 | B12: Haute-Sorne | C12: 7261 | M12: 11 | N12: Coeuve | O12: =C42 -> 731
A13: 12 | B13: Mervelier | C13: 538 | M13: 12 | N13: Cornol | O13: =C43 -> 1016
A14: 13 | B14: Mettembert | C14: 111 | M14: 13 | N14: Courchapoix | O14: =C5 -> 439
A15: 14 | B15: Movelier | C15: 421 | M15: 14 | N15: Courchavon | O15: =C44 -> 304
A16: 15 | B16: Pleigne | C16: 346 | M16: 15 | N16: Courgenay | O16: =C45 -> 2412
A17: 16 | B17: Rossemaison | C17: 710 | M17: 16 | N17: Courrendlin | O17: =C6 -> 3728
A18: 17 | B18: Saulcy | C18: 269 | M18: 17 | N18: Courroux | O18: =C7 -> 3345
A19: 18 | B19: Soyhières | C19: 440 | M19: 18 | N19: Courtedoux | O19: =C46 -> 735
A20: 19 | B20: Val Terbi | C20: 3229 | M20: 19 | N20: Courtételle | O20: =C8 -> 2652
A21: 20 | B21: Le Bémont | C21: 310 | M21: 20 | N21: Damphreux | O21: =C47 -> 185
A22: 21 | B22: Les Bois | C22: 1270 | M22: 21 | N22: Delémont | O22: =C9 -> 12479
A23: 22 | B23: Les Breuleux | C23: 1506 | M23: 22 | N23: Develier | O23: =C10 -> 1359
A24: 23 | B24: La Chaux-B. | C24: 96 | M24: 23 | N24: Ederswiler | O24: =C11 -> 117
A25: 24 | B25: Les Enfers | C25: 148 | M25: 24 | N25: Fahy | O25: =C48 -> 340
A26: 25 | B26: Les Genevez | C26: 518 | M26: 25 | N26: Fontenais | O26: =C49 -> 1697
A27: 26 | B27: Lajoux | C27: 701 | M27: 26 | N27: Grandfontaine | O27: =C50 -> 390
A28: 27 | B28: Montfaucon | C28: 564 | M28: 27 | N28: Haute-Ajoie | O28: =C51 -> 1073
A29: 28 | B29: Muriaux | C29: 525 | M29: 28 | N29: Haute-Sorne | O29: =C12 -> 7261
A30: 29 | B30: Le Noirmont | C30: 1909 | M30: 29 | N30: La Baroche | O30: =C35 -> 1126
A31: 30 | B31: Saignelégier | C31: 2580 | M31: 30 | N31: La Chaux-B. | O31: =C24 -> 96
A32: 31 | B32: Saint-Brais | C32: 222 | M32: 31 | N32: Lajoux | O32: =C27 -> 701
A33: 32 | B33: Soubey | C33: 129 | M33: 32 | N33: Le Bémont | O33: =C21 -> 310
A34: 33 | B34: Alle | C34: 1891 | M34: 33 | N34: Le Noirmont | O34: =C30 -> 1909
A35: 34 | B35: La Baroche | C35: 1126 | M35: 34 | N35: Les Bois | O35: =C22 -> 1270
A36: 35 | B36: Basse-Allaine | C36: 1225 | M36: 35 | N36: Les Breuleux | O36: =C23 -> 1506
A37: 36 | B37: Beurnevésin | C37: 117 | M37: 36 | N37: Les Enfers | O37: =C25 -> 148
A38: 37 | B38: Boncourt | C38: 1185 | M38: 37 | N38: Les Genevez | O38: =C26 -> 518
A39: 38 | B39: Bonfol | C39: 642 | M39: 38 | N39: Lugnez | O39: =C52 -> 184
A40: 39 | B40: Bure | C40: 633 | M40: 39 | N40: Mervelier | O40: =C13 -> 538
...

Sheet Population
B3: moins de 200 habitants | E3: 201 à 500 habitants | G3: 501 à 1'000 habitants | J3: 1'001 à 2'000 habitants | M3: 2001 à 3'000 habitant | P3: plus de 3'000 habitant
A5: 1 | B5: La Chaux | C5: ='Base de données pop.'!C24 -> 96 | D5: 9 | E5: Saint-Brais | F5: ='Base de données pop.'!C32 -> 222 | G5: 21 | H5: Les Genevez | I5: ='Base de données pop.'!C26 -> 518 | J5: 33 | K5: Cornol | L5: ='Base de données pop.'!C43 -> 1016 | M5: 45 | N5: Courgenay | O5: ='Base de données pop.'!C45 -> 2412 | P5: 48 | Q5: Val Terbi | R5: ='Base de données pop.'!C20 -> 3229
A6: 2 | B6: Mettembert | C6: ='Base de données pop.'!C14 -> 111 | D6: 10 | E6: Bourrignon | F6: ='Base de données pop.'!C3 -> 265 | G6: 22 | H6: Muriaux | I6: ='Base de données pop.'!C29 -> 525 | J6: 34 | K6: Haute-Ajoie | L6: ='Base de données pop.'!C51 -> 1073 | M6: 46 | N6: Saignelégier | O6: ='Base de données pop.'!C31 -> 2580 | P6: 49 | Q6: Courroux | R6: ='Base de données pop.'!C7 -> 3345
A7: 3 | B7: Ederswiler | C7: ='Base de données pop.'!C11 -> 117 | D7: 11 | E7: Saulcy | F7: ='Base de données pop.'!C18 -> 269 | G7: 23 | H7: Mervelier | I7: ='Base de données pop.'!C13 -> 538 | J7: 35 | K7: La Baroche | L7: ='Base de données pop.'!C35 -> 1126 | M7: 47 | N7: Courtételle | O7: ='Base de données pop.'!C8 -> 2652 | P7: 50 | Q7: Courrendlin | R7: ='Base de données pop.'!C6 -> 3728
A8: 4 | B8: Beurnevésin | C8: ='Base de données pop.'!C37 -> 117 | D8: 12 | E8: Courchavon | F8: ='Base de données pop.'!C44 -> 304 | G8: 24 | H8: Vendlincourt | I8: ='Base de données pop.'!C54 -> 559 | J8: 36 | K8: Boncourt | L8: ='Base de données pop.'!C38 -> 1185 | O8: =SUM(O5:O7) -> 7644 | P8: 51 | Q8: Porrentruy | R8: ='Base de données pop.'!C53 -> 6466
A9: 5 | B9: Soubey | C9: ='Base de données pop.'!C33 -> 129 | D9: 13 | E9: Le Bémont | F9: ='Base de données pop.'!C21 -> 310 | G9: 25 | H9: Montfaucon | I9: ='Base de données pop.'!C28 -> 564 | J9: 37 | K9: Basse-Allaine | L9: ='Base de données pop.'!C36 -> 1225 | N9: moyenne | O9: =O8/5 -> 1528.8 | P9: 52 | Q9: Haute-Sorne | R9: ='Base de données pop.'!C12 -> 7261
A10: 6 | B10: Les Enfers | C10: ='Base de données pop.'!C25 -> 148 | D10: 14 | E10: Fahy | F10: ='Base de données pop.'!C48 -> 340 | G10: 26 | H10: Bure | I10: ='Base de données pop.'!C40 -> 633 | J10: 38 | K10: Les Bois | L10: ='Base de données pop.'!C22 -> 1270 | P10: 53 | Q10: Delémont | R10: ='Base de données pop.'!C9 -> 12479
A11: 7 | B11: Lugnez | C11: ='Base de données pop.'!C52 -> 184 | D11: 15 | E11: Pleigne | F11: ='Base de données pop.'!C16 -> 346 | G11: 27 | H11: Bonfol | I11: ='Base de données pop.'!C39 -> 642 | J11: 39 | K11: Clos du Doubs | L11: ='Base de données pop.'!C41 -> 1284 | R11: =SUM(R5:R10) -> 36508
A12: 8 | B12: Damphreux | C12: ='Base de données pop.'!C47 -> 185 | D12: 16 | E12: Grandfontaine | F12: ='Base de données pop.'!C50 -> 390 | G12: 28 | H12: Lajoux | I12: ='Base de données pop.'!C27 -> 701 | J12: 40 | K12: Develier | L12: ='Base de données pop.'!C10 -> 1359 | Q12: moyenne | R12: =R11/4 -> 9127
C13: =SUM(C5:C12) -> 1087 | D13: 17 | E13: Movelier | F13: ='Base de données pop.'!C15 -> 421 | G13: 29 | H13: Rossemaison | I13: ='Base de données pop.'!C17 -> 710 | J13: 41 | K13: Les Breuleux | L13: ='Base de données pop.'!C23 -> 1506
B14: moyenne | C14: =C13/8 -> 135.875 | D14: 18 | E14: Courchapoix | F14: ='Base de données pop.'!C5 -> 439 | G14: 30 | H14: Coeuve | I14: ='Base de données pop.'!C42 -> 731 | J14: 42 | K14: Fontenais | L14: ='Base de données pop.'!C49 -> 1697 | S14: =C13+F17+I17+L17+O8+R11 -> 73798
D15: 19 | E15: Soyhières | F15: ='Base de données pop.'!C19 -> 440 | G15: 31 | H15: Courdedoux | I15: ='Base de données pop.'!C46 -> 735 | J15: 43 | K15: Alle | L15: ='Base de données pop.'!C34 -> 1891 | S15: =S14/53 -> 1392.4151
D16: 20 | E16: Châtillon | F16: ='Base de données pop.'!C4 -> 469 | G16: 32 | H16: Boécourt | I16: ='Base de données pop.'!C2 -> 947 | J16: 44 | K16: Le Noirmont | L16: ='Base de données pop.'!C30 -> 1909 | U16: MOINS DE 1000 HABITANTS
F17: =SUM(F5:F16) -> 4215 | I17: =SUM(I5:I16) -> 7803 | L17: =SUM(L5:L16) -> 16541 | U17: =C13+F17+I17 -> 13105
E18: moyenne | F18: =F17/13 -> 324.23077 | H18: moyenne | I18: =I17/11 -> 709.36364 | K18: moyenne | L18: =L17/12 -> 1378.4167
B21: =C13+F17+I17+L17+O8+R11 -> 73798
K23: Par Disctrict | L23: Delémont | O23: 39125
B24: 8 communes de moins 200 habitants | C24: =C13 -> 1087 | E24: =C24*100/B21 -> 1.4729396 | L24: Franches-Montagnes | O24: 10478
B25: 13 communes de 200 à 500 habitants | C25: =F17 -> 4215 | E25: =C25*100/B21 -> 5.7115369 | F25: =E24+E25 -> 7.1844765 | L25: Porrentruy | O25: 24195
B26: 11 communes de 501 à 1'000 habitants | C26: =I17 -> 7803 | E26: =C26*100/B21 -> 10.573457 | L26: Total | O26: =SUM(O23:O25) -> 73798
B27: 12 communes de 1'001 à 2'000 habitants | C27: =L17 -> 16541 | E27: =C27*100/B21 -> 22.413887
B28: 3 communes de 2'001 à 3'000 habitants | C28: =O8 -> 7644 | E28: =C28*100/B21 -> 10.358004
B29: 6 communes de plus 3'000 habitants | C29: =R11 -> 36508 | E29: =C29*100/B21 -> 49.470175
C30: =SUM(C24:C29) -> 73798 | E30: =C30*100/B21 -> 100

Sheet 4.1 Comptes 2021 natures
A1: Comptes de résultats par natures 2021
A2: Comptes consolidés de l'ensemble des communes et par district | E2: ='Base de données pop.'!C2 -> 947 | F2: ='Base de données pop.'!C3 -> 265 | G2: ='Base de données pop.'!C4 -> 469 | H2: ='Base de données pop.'!C5 -> 439 | I2: ='Base de données pop.'!C6 -> 3728 | J2: ='Base de données pop.'!C7 -> 3345 | K2: ='Base de données pop.'!C8 -> 2652 | L2: ='Base de données pop.'!C9 -> 12479 | M2: ='Base de données pop.'!C10 -> 1359 | N2: ='Base de données pop.'!C11 -> 117 | O2: ='Base de données pop.'!C12 -> 7261 | P2: ='Base de données pop.'!C13 -> 538 | Q2: ='Base de données pop.'!C14 -> 111 | R2: ='Base de données pop.'!C15 -> 421 | S2: ='Base de données pop.'!C16 -> 346 | T2: ='Base de données pop.'!C17 -> 710 | U2: ='Base de données pop.'!C18 -> 269 | V2: ='Base de données pop.'!C19 -> 440 | W2: ='Base de données pop.'!C20 -> 3229 | X2: ='Base de données pop.'!C21 -> 310 | Y2: ='Base de données pop.'!C22 -> 1270 | Z2: ='Base de données pop.'!C23 -> 1506 | AA2: ='Base de données pop.'!C24 -> 96 | AB2: ='Base de données pop.'!C25 -> 148 | AC2: ='Base de données pop.'!C26 -> 518 | AD2: ='Base de données pop.'!C27 -> 701 | AE2: ='Base de données pop.'!C28 -> 564 | AF2: ='Base de données pop.'!C29 -> 525 | AG2: ='Base de données pop.'!C30 -> 1909 | AH2: ='Base de données pop.'!C31 -> 2580 | AI2: ='Base de données pop.'!C32 -> 222 | AJ2: ='Base de données pop.'!C33 -> 129 | AK2: ='Base de données pop.'!C34 -> 1891 | AL2: ='Base de données pop.'!C35 -> 1126 | AM2: ='Base de données pop.'!C36 -> 1225 | AN2: ='Base de données pop.'!C37 -> 117 | AO2: ='Base de données pop.'!C38 -> 1185 | AP2: ='Base de données pop.'!C39 -> 642 | AQ2: ='Base de données pop.'!C40 -> 633 | AR2: ='Base de données pop.'!C41 -> 1284 | AS2: ='Base de données pop.'!C42 -> 731 | AT2: ='Base de données pop.'!C43 -> 1016 | AU2: ='Base de données pop.'!C44 -> 304 | AV2: ='Base de données pop.'!C45 -> 2412 | AW2: ='Base de données pop.'!C46 -> 735 | AX2: ='Base de données pop.'!C47 -> 185 | AY2: ='Base de données pop.'!C48 -> 340 | AZ2: ='Base de données pop.'!C49 -> 1697 | BA2: ='Base de données pop.'!C50 -> 390 | BB2: ='Base de données pop.'!C51 -> 1073 | BC2: ='Base de données pop.'!C52 -> 184 | BD2: ='Base de données pop.'!C53 -> 6466 | BE2: ='Base de données pop.'!C54 -> 559 | BF2: =SUM(E2:BE2) -> 73798 | BG2: ct | BH2: =SUM(X2:AJ2) -> 10478 | BI2: =SUM(AK2:BE2) -> 24195
E3: Boécourt | F3: Bourrignon | G3: Châtillon | H3: Courchapoix | I3: Courrendlin | J3: Courroux | K3: Courtételle | L3: Delémont | M3: Develier | N3: Ederswiler | O3: Haute-Sorne | P3: Mervelier | Q3: Mettembert | R3: Movelier | S3: Pleigne | T3: Rossemaison | U3: Saulcy | V3: Soyhières | W3: Val Terbi | X3: Le Bémont | Y3: Les Bois | Z3: Les Breuleux | AA3: La Chaux-B. | AB3: Les Enfers | AC3: Les Genevez | AD3: Lajoux | AE3: Montfaucon | AF3: Muriaux | AG3: Le Noirmont | AH3: Saignelégier | AI3: Saint-Brais | AJ3: Soubey | AK3: Alle | AL3: La Baroche | AM3: Basse-Allaine | AN3: Beurnevésin | AO3: Boncourt | AP3: Bonfol | AQ3: Bure | AR3: Clos du Doubs | AS3: Coeuve | AT3: Cornol | AU3: Courchavon | AV3: Courgenay | AW3: Courtedoux | AX3: Damphreux | AY3: Fahy | AZ3: Fontenais | BA3: Grandfontaine | BB3: Haute-Ajoie | BC3: Lugnez | BD3: Porrentruy | BE3: Vendlincourt | BF3: Total | BG3: Delémont | BH3: Franches-Montagnes | BI3: Porrentruy
A4: 3 | D4: Charges | E4: =E5+E15+E27+E31+E39+E43+E53+E56+E64 -> 3547928.1 | F4: =F5+F15+F27+F31+F39+F43+F53+F56+F64 -> 1104222.6 | G4: =G5+G15+G27+G31+G39+G43+G53+G56+G64 -> 1636998.7 | H4: =H5+H15+H27+H31+H39+H43+H53+H56+H64 -> 1871483.2 | I4: =I5+I15+I27+I31+I39+I43+I53+I56+I64 -> 15364623 | J4: =J5+J15+J27+J31+J39+J43+J53+J56+J64 -> 13172922 | K4: =K5+K15+K27+K31+K39+K43+K53+K56+K64 -> 10016816 | L4: =L5+L15+L27+L31+L39+L43+L53+L56+L64 -> 1.0080055e+08 | ... BI4: =BI5+BI15+BI27+BI31+BI39+BI43+BI53+BI56+BI64 -> 1.2322271e+08
B5: 30 | D5: Charges du personnel | E5: =E6+E7+E8+E9+E10+E11+E12+E13 -> 450690.3 | F5: =F6+F7+F8+F9+F10+F11+F12+F13 -> 53889.4 | G5: =G6+G7+G8+G9+G10+G11+G12+G13 -> 132393.1 | H5: =H6+H7+H8+H9+H10+H11+H12+H13 -> 258390.4 | I5: =I6+I7+I8+I9+I10+I11+I12+I13 -> 2657324.5 | J5: =J6+J7+J8+J9+J10+J11+J12+J13 -> 3047621.8 | K5: =K6+K7+K8+K9+K10+K11+K12+K13 -> 1079335.8 | L5: =L6+L7+L8+L9+L10+L11+L12+L13 -> 24161377 | ... BI5: =BI6+BI7+BI8+BI9+BI10+BI11+BI12+BI13 -> 21512718
C6: 300 | D6: Autorités et commissions | E6: 40562 | F6: 21005.75 | G6: 29595.6 | H6: 39883.85 | I6: 172990 | J6: 142933.5 | K6: 116958.8 | L6: 752043.75 | M6: 71414.5 | N6: 18321.8 | O6: 272874.05 | P6: 45464 | Q6: 14415 | R6: 19474.5 | S6: 23616.85 | T6: 61213.15 | U6: 14759.65 | V6: 61385.6 | W6: 109637.35 | X6: 31797.65 | Y6: 61360.15 | Z6: 50425.05 | AA6: 5259.5 | AB6: 11716.25 | AC6: 26451.75 | AD6: 29656.85 | AE6: 36113.75 | AF6: 26743.85 | AG6: 86800 | AH6: 60781.9 | AI6: 23237.6 | AJ6: 12759.6 | AK6: 136457.6 | AL6: 52951 | AM6: 45054.15 | AN6: 18986.3 | AO6: 90947.6 | AP6: 28573.05 | AQ6: 41365.75 | AR6: 88093.75 | AS6: 32627.4 | AT6: 40182.5 | AU6: 11720 | AV6: 56978.75 | AW6: 47462.5 | AX6: 12087.05 | AY6: 13348.9 | AZ6: 55190 | BA6: 19842.5 | BB6: 55844.2 | BC6: 12139 | BD6: 237727.8 | BE6: 27030.9 | BF6: =SUM(E6:BE6) -> 3616264.3 | BG6: =SUM(E6:W6) -> 2028549.7 | BH6: =SUM(X6:AJ6) -> 463103.9 | BI6: =SUM(AK6:BE6) -> 1124610.7
C7: 301 | D7: Personnel administratif et d'exploitation | E7: 342108.95 | F7: 29533.75 | G7: 87870.4 | H7: 188391.97 | I7: 2008127.1 | J7: 2314297.5 | K7: 755542.5 | L7: 19164611 | M7: 999556.45 | N7: 29117.4 | O7: 2811709 | P7: 100165.6 | Q7: 45432 | R7: 167946.95 | S7: 96056.69 | T7: 170246.6 | U7: 88447.75 | V7: 239954 | W7: 1811636.9 | X7: 51637.8 | Y7: 1056793.8 | Z7: 1382599.8 | AA7: 66183.25 | AB7: 49974.4 | AC7: 291625.55 | AD7: 448573.65 | AE7: 243358.35 | AF7: 267634.7 | AG7: 719854.6 | AH7: 1431118.6 | AI7: 73228.1 | AJ7: 43348.95 | AK7: 518396.06 | AL7: 491992.55 | AM7: 365025.55 | AN7: 39666.65 | AO7: 1064893.2 | AP7: 627781.25 | AQ7: 141588.95 | AR7: 926921 | AS7: 306853.85 | AT7: 360221.45 | AU7: 80999.4 | AV7: 766066.1 | AW7: 325406.06 | AX7: 65065.9 | AY7: 111916.5 | AZ7: 654344.15 | BA7: 90578.7 | BB7: 1029591.9 | BC7: 50061.4 | BD7: 8532628.6 | BE7: 239400.55 | BF7: =SUM(E7:BE7) -> 54366084 | BG7: =SUM(E7:W7) -> 31450753 | BH7: =SUM(X7:AJ7) -> 6125931.5 | BI7: =SUM(AK7:BE7) -> 16789400
C8: 302 | D8: Enseignants | E8: 0 | F8: 0 | G8: 0 | H8: 0 | I8: 0 | J8: 0 | K8: 0 | L8: 0 | M8: 0 | N8: 0 | O8: 0 | P8: 0 | Q8: 0 | R8: 0 | S8: 0 | T8: 0 | U8: 0 | V8: 0 | W8: 0 | X8: 0 | Y8: 0 | Z8: 0 | AA8: 0 | AB8: 0 | AC8: 0 | AD8: 0 | AE8: 0 | AF8: 0 | AG8: 2685 | AH8: 0 | AI8: 0 | AJ8: 0 | AK8: 0 | AL8: 0 | AM8: 0 | AN8: 0 | AO8: 0 | AP8: 0 | AQ8: 0 | AR8: 0 | AS8: 0 | AT8: 0 | AU8: 0 | AV8: 0 | AW8: 0 | AX8: 0 | AY8: 0 | AZ8: 0 | BA8: 0 | BB8: 0 | BC8: 0 | BD8: 0 | BE8: 0 | BF8: =SUM(E8:BE8) -> 2685 | BG8: =SUM(E8:W8) -> 0 | BH8: =SUM(X8:AJ8) -> 2685 | BI8: =SUM(AK8:BE8) -> 0
C9: 303 | D9: Personnel temporaire administratif et d'exploitation | E9: 0 | F9: 0 | G9: 0 | H9: 0 | I9: 0 | J9: 0 | K9: 0 | L9: 0 | M9: 4430.9 | N9: 0 | O9: 0 | P9: 0 | Q9: 0 | R9: 0 | S9: 0 | T9: 0 | U9: 0 | V9: 0 | W9: 0 | X9: 0 | Y9: 0 | Z9: 0 | AA9: 0 | AB9: 0 | AC9: 0 | AD9: 0 | AE9: 0 | AF9: 0 | AG9: 0 | AH9: 0 | AI9: 0 | AJ9: 0 | AK9: 0 | AL9: 0 | AM9: 1400 | AN9: 0 | AO9: 0 | AP9: 0 | AQ9: 0 | AR9: 0 | AS9: 0 | AT9: 0 | AU9: 0 | AV9: 0 | AW9: 165 | AX9: 0 | AY9: 0 | AZ9: 0 | BA9: 0 | BB9: 0 | BC9: 0 | BD9: 0 | BE9: 0 | BF9: =SUM(E9:BE9) -> 5995.9 | BG9: =SUM(E9:W9) -> 4430.9 | BH9: =SUM(X9:AJ9) -> 0 | BI9: =SUM(AK9:BE9) -> 1565
C10: 304 | D10: Allocations et indemnités | E10: 0 | F10: 0 | G10: 0 | H10: 0 | I10: 0 | J10: 22262.9 | K10: 0 | L10: 0 | M10: 0 | N10: 0 | O10: 0 | P10: 0 | Q10: 0 | R10: 0 | S10: 0 | T10: 0 | U10: 0 | V10: 0 | W10: 0 | X10: 0 | Y10: 0 | Z10: 0 | AA10: 0 | AB10: 0 | AC10: 0 | AD10: 0 | AE10: 0 | AF10: 0 | AG10: 2000 | AH10: 15000 | AI10: 0 | AJ10: 0 | AK10: 0 | AL10: 0 | AM10: 0 | AN10: 0 | AO10: 0 | AP10: 0 | AQ10: 0 | AR10: 0 | AS10: 0 | AT10: 0 | AU10: 0.15 | AV10: 0 | AW10: 0 | AX10: 0 | AY10: 0 | AZ10: 0 | BA10: 0 | BB10: 0 | BC10: 0 | BD10: 0 | BE10: 0 | BF10: =SUM(E10:BE10) -> 39263.05 | BG10: =SUM(E10:W10) -> 22262.9 | BH10: =SUM(X10:AJ10) -> 17000 | BI10: =SUM(AK10:BE10) -> 0.15
C11: 305 | D11: Charges de l'employeur | E11: 67257.35 | F11: 3301.8 | G11: 14825.1 | H11: 30114.58 | I11: 460421.25 | J11: 548303 | K11: 195838.15 | L11: 4015822.8 | M11: 177678.75 | N11: 5353.5 | O11: 630800.7 | P11: 22505.95 | Q11: 7699.65 | R11: 46526.4 | S11: 19951.85 | T11: 26389.1 | U11: 12895 | V11: 49844.3 | W11: 357174.65 | X11: 7461.2 | Y11: 188679.2 | Z11: 258211.85 | AA11: 10187.55 | AB11: 5972.75 | AC11: 56239.15 | AD11: 85676.9 | AE11: 48596.75 | AF11: 24287.7 | AG11: 173682.65 | AH11: 267452 | AI11: 16898.3 | AJ11: 8391.05 | AK11: 104839.1 | AL11: 111922.65 | AM11: 73454 | AN11: 11540.5 | AO11: 191508.9 | AP11: 121435.8 | AQ11: 31268.4 | AR11: 162248.9 | AS11: 67179.85 | AT11: 64362.25 | AU11: 16596.5 | AV11: 176376.2 | AW11: 65014.95 | AX11: 11879.15 | AY11: 19925.1 | AZ11: 145209.1 | BA11: 19370.87 | BB11: 197632 | BC11: 10334.78 | BD11: 1753581.4 | BE11: 48051.45 | BF11: =SUM(E11:BE11) -> 11248173 | BG11: =SUM(E11:W11) -> 6692703.9 | BH11: =SUM(X11:AJ11) -> 1151737.1 | BI11: =SUM(AK11:BE11) -> 3403731.8
C12: 306 | D12: Prestations sociales de l'employeur | E12: 0 | F12: 0 | G12: 0 | H12: 0 | I12: 3029.75 | J12: 0 | K12: 0 | L12: 51641.7 | M12: 0 | N12: 0 | O12: 0 | P12: 0 | Q12: 0 | R12: 0 | S12: 0 | T12: 0 | U12: 0 | V12: 0 | W12: 0 | X12: 0 | Y12: 0 | Z12: 500 | AA12: 0 | AB12: 0 | AC12: 0 | AD12: 0 | AE12: 4600 | AF12: 0 | AG12: 0 | AH12: 0 | AI12: 0 | AJ12: 0 | AK12: 0 | AL12: 0 | AM12: 2140 | AN12: 0 | AO12: 0 | AP12: 0 | AQ12: 0 | AR12: 0 | AS12: 0 | AT12: 0 | AU12: 0 | AV12: 0 | AW12: 0 | AX12: 0 | AY12: 0 | AZ12: 0 | BA12: 0 | BB12: 0 | BC12: 0 | BD12: 0 | BE12: 0 | BF12: =SUM(E12:BE12) -> 61911.45 | BG12: =SUM(E12:W12) -> 54671.45 | BH12: =SUM(X12:AJ12) -> 5100 | BI12: =SUM(AK12:BE12) -> 2140
C13: 309 | D13: Autres charges du personnel | E13: 762 | F13: 48.1 | G13: 102 | H13: 0 | I13: 12756.45 | J13: 19824.89 | K13: 10996.4 | L13: 177257.81 | M13: 10355.65 | N13: 1540 | O13: 35391.6 | P13: 3731.6 | Q13: 1694.85 | R13: 1537.7 | S13: 6489 | T13: 141.05 | U13: 3800 | V13: 1009.55 | W13: 18902.75 | X13: 1100 | Y13: 7555.15 | Z13: 13002.15 | AA13: 0 | AB13: 0 | AC13: 6396.5 | AD13: 13675.8 | AE13: 4571.55 | AF13: 1447.45 | AG13: 11082.7 | AH13: 12057.1 | AI13: 0 | AJ13: 0 | AK13: 3412.57 | AL13: 800 | AM13: 934.7 | AN13: 16.88 | AO13: 19418.2 | AP13: 4763.35 | AQ13: 1568.95 | AR13: 8202.35 | AS13: 1640.9 | AT13: 13559.65 | AU13: 2789.25 | AV13: 10459.6 | AW13: 17803.3 | AX13: 757.3 | AY13: 663.4 | AZ13: 4319.8 | BA13: 4323.15 | BB13: 13330.4 | BC13: 770.7 | BD13: 81317.04 | BE13: 419.25 | BF13: =SUM(E13:BE13) -> 568500.54 | BG13: =SUM(E13:W13) -> 306341.4 | BH13: =SUM(X13:AJ13) -> 70888.4 | BI13: =SUM(AK13:BE13) -> 191270.74
B15: 31 | D15: Charges de biens et de services et autres charges d'exploitation | E15: =E16+E17+E18+E19+E20+E21+E22+E23+E24+E25 -> 549823.39 | F15: =F16+F17+F18+F19+F20+F21+F22+F23+F24+F25 -> 254518.51 | G15: =G16+G17+G18+G19+G20+G21+G22+G23+G24+G25 -> 248418.09 | H15: =H16+H17+H18+H19+H20+H21+H22+H23+H24+H25 -> 410875.58 | I15: =I16+I17+I18+I19+I20+I21+I22+I23+I24+I25 -> 3068964.7 | J15: =J16+J17+J18+J19+J20+J21+J22+J23+J24+J25 -> 2179901.4 | K15: =K16+K17+K18+K19+K20+K21+K22+K23+K24+K25 -> 1530298.9 | L15: =L16+L17+L18+L19+L20+L21+L22+L23+L24+L25 -> 22441749 | ... BI15: =BI16+BI17+BI18+BI19+BI20+BI21+BI22+BI23+BI24+BI25 -> 21697487
C16: 310 | D16: Charges de matériel et de marchandises | E16: 82979.55 | F16: 19047.05 | G16: 25065.15 | H16: 35886.98 | I16: 337414.18 | J16: 254165.25 | K16: 175073.9 | L16: 2147342.6 | M16: 182333.93 | N16: 7351.5 | O16: 606605.28 | P16: 53799.2 | Q16: 7538.4 | R16: 32526.53 | S16: 26487.7 | T16: 54091.2 | U16: 22012.83 | V16: 50891.7 | W16: 249252.38 | X16: 89156.73 | Y16: 127757.31 | Z16: 274114.47 | AA16: 2542.87 | AB16: 29304.8 | AC16: 83868.71 | AD16: 68239.55 | AE16: 70888.55 | AF16: 110453.09 | AG16: 241070.54 | AH16: 402435.73 | AI16: 9298 | AJ16: 21306.06 | AK16: 185162.2 | AL16: 73270.21 | AM16: 74404.35 | AN16: 36500.6 | AO16: 215960.23 | AP16: 62854.41 | AQ16: 12612.5 | AR16: 106599.35 | AS16: 57012.89 | AT16: 97158.5 | AU16: 35814.33 | AV16: 165759.4 | AW16: 27154.99 | AX16: 12544.87 | AY16: 42437.24 | AZ16: 75672.8 | BA16: 21916.96 | BB16: 116141.95 | BC16: 14176.3 | BD16: 726095.01 | BE16: 71492.9 | BF16: =SUM(E16:BE16) -> 8131043.8 | BG16: =SUM(E16:W16) -> 4369865.4 | BH16: =SUM(X16:AJ16) -> 1530436.4 | BI16: =SUM(AK16:BE16) -> 2230742
C17: 311 | D17: Immobilisations ne pouvant être portées à l'actif | E17: 30604.4 | F17: 6200 | G17: 11514.27 | H17: 25459.75 | I17: 99929.9 | J17: 42789.81 | K17: 38038.8 | L17: 678473.94 | M17: 81693.55 | N17: 7770 | O17: 124453.09 | P17: 15915.75 | Q17: 3477.55 | R17: 3241.75 | S17: 0 | T17: 31017 | U17: 1975.5 | V17: 19442.45 | W17: 90048.86 | X17: 4562.65 | Y17: 20903.54 | Z17: 29561.43 | AA17: 0 | AB17: 204 | AC17: 4484.9 | AD17: 69052.2 | AE17: 25874.15 | AF17: 38442.9 | AG17: 84407.85 | AH17: 38599.46 | AI17: 1160.15 | AJ17: 1200 | AK17: 114822.04 | AL17: 6096.25 | AM17: 61001.25 | AN17: 9332.3 | AO17: 33239.38 | AP17: 27187.41 | AQ17: 4819.5 | AR17: 65549.35 | AS17: 26290.25 | AT17: 59680.65 | AU17: 10963.25 | AV17: 144659.65 | AW17: 30313.5 | AX17: 3231 | AY17: 8824.85 | AZ17: 80701.3 | BA17: 11617.85 | BB17: 62094.95 | BC17: 5655.45 | BD17: 234073.66 | BE17: 15891.1 | BF17: =SUM(E17:BE17) -> 2646544.5 | BG17: =SUM(E17:W17) -> 1312046.4 | BH17: =SUM(X17:AJ17) -> 318453.23 | BI17: =SUM(AK17:BE17) -> 1016044.9
C18: 312 | D18: Alimentations et éliminations des biens-fonds du PA | E18: 83786.7 | F18: 46861.55 | G18: 27368.35 | H18: 96086.75 | I18: 966970.76 | J18: 780872.75 | K18: 359895.85 | L18: 12689084 | M18: 1009509.9 | N18: 11952.5 | O18: 508076.12 | P18: 46806.95 | Q18: 9231 | R18: 38594.45 | S18: 43939.8 | T18: 152658.2 | U18: 63697.2 | V18: 54596.65 | W18: 260411.61 | X18: 130486.85 | Y18: 233323.85 | Z18: 407199.7 | AA18: 69552.45 | AB18: 38317.9 | AC18: 121498.9 | AD18: 138783.93 | AE18: 190650.7 | AF18: 132343.35 | AG18: 300663.8 | AH18: 509629.85 | AI18: 104161.06 | AJ18: 28975.25 | AK18: 132058.15 | AL18: 91307.45 | AM18: 199487.45 | AN18: 25219.35 | AO18: 344639.17 | AP18: 258727.8 | AQ18: 95458.3 | AR18: 187709.6 | AS18: 143332.55 | AT18: 165087.85 | AU18: 57967.37 | AV18: 192889.75 | AW18: 53712.5 | AX18: 38981.2 | AY18: 69689.25 | AZ18: 269781.65 | BA18: 60095.65 | BB18: 245733.37 | BC18: 34471.45 | BD18: 578983.5 | BE18: 27528.1 | BF18: =SUM(E18:BE18) -> 22928851 | BG18: =SUM(E18:W18) -> 17250401 | BH18: =SUM(X18:AJ18) -> 2405587.6 | BI18: =SUM(AK18:BE18) -> 3272861.5
C19: 313 | D19: Prestations de services et honoraires | E19: 137664.14 | F19: 93116.79 | G19: 81140.05 | H19: 74728.79 | I19: 771419.03 | J19: 630922.47 | K19: 439838.14 | L19: 3323080.9 | M19: 272838.94 | N19: 23964.35 | O19: 1384442 | P19: 117802.74 | Q19: 65068.65 | R19: 77036.83 | S19: 122758.88 | T19: 210164.41 | U19: 56677.05 | V19: 240483.46 | W19: 603821.59 | X19: 157058.36 | Y19: 377982.21 | Z19: 1001409.6 | AA19: 37401.05 | AB19: 83257.25 | AC19: 281732.53 | AD19: 334014.81 | AE19: 374701.66 | AF19: 392392.56 | AG19: 611202.68 | AH19: 742466.99 | AI19: 175318.37 | AJ19: 71141.7 | AK19: 276924.92 | AL19: 510530.73 | AM19: 425474.84 | AN19: 54424.29 | AO19: 482947.17 | AP19: 99916.84 | AQ19: 125449.52 | AR19: 579495.7 | AS19: 157245.86 | AT19: 222706.9 | AU19: 130538.8 | AV19: 449871.9 | AW19: 251352.95 | AX19: 26436.24 | AY19: 65755.87 | AZ19: 352709.8 | BA19: 147512.11 | BB19: 346963.05 | BC19: 23313.71 | BD19: 2336153.1 | BE19: 148225.19 | BF19: =SUM(E19:BE19) -> 20580998 | BG19: =SUM(E19:W19) -> 8726969.2 | BH19: =SUM(X19:AJ19) -> 4640079.7 | BI19: =SUM(AK19:BE19) -> 7213949.5
C20: 314 | D20: Gros entretien et entretien courtant du PA | E20: 183317 | F20: 55885.55 | G20: 73430.06 | H20: 72823.45 | I20: 377076.77 | J20: 227851.4 | K20: 316912.85 | L20: 1274166.1 | M20: 251241.6 | N20: 17281.5 | O20: 750356.55 | P20: 85692.7 | Q20: 4773.3 | R20: 47676.05 | S20: 50901.35 | T20: 101750.13 | U20: 54321.02 | V20: 135678.9 | W20: 287933.27 | X20: 71318.25 | Y20: 184292.05 | Z20: 580511.31 | AA20: 36102 | AB20: 31018.55 | AC20: 203923.73 | AD20: 169814.25 | AE20: 197657.5 | AF20: 239800.91 | AG20: 490143.43 | AH20: 563142.82 | AI20: 76545.4 | AJ20: 36224.15 | AK20: 196303.7 | AL20: 229581.9 | AM20: 192658.5 | AN20: 14409.05 | AO20: 580494.04 | AP20: 112368.58 | AQ20: 97571.75 | AR20: 313805.15 | AS20: 99973.1 | AT20: 101067.95 | AU20: 68887.95 | AV20: 244913.75 | AW20: 132041.85 | AX20: 10011.8 | AY20: 111634.28 | AZ20: 190687.4 | BA20: 61013.49 | BB20: 228956.21 | BC20: 34759.55 | BD20: 910040.11 | BE20: 57146.35 | BF20: =SUM(E20:BE20) -> 11237890 | BG20: =SUM(E20:W20) -> 4369069.6 | BH20: =SUM(X20:AJ20) -> 2880494.3 | BI20: =SUM(AK20:BE20) -> 3988326.5
C21: 315 | D21: Entretien des biens mobiliers et des immobilisations corporelles du PA | E21: 49935.55 | F21: 14158.25 | G21: 7399.1 | H21: 20877.15 | I21: 136852.59 | J21: 16607.45 | K21: 96871.63 | L21: 921142.08 | M21: 77186.65 | N21: 0 | O21: 265572.3 | P21: 12984.4 | Q21: 1660.1 | R21: 25540.75 | S21: 10108.6 | T21: 13549.7 | U21: 12099.25 | V21: 42300.75 | W21: 113471.7 | X21: 0 | Y21: 93021.28 | Z21: 89596.95 | AA21: 6130.8 | AB21: 11027.4 | AC21: 29801.75 | AD21: 67070.8 | AE21: 63777.95 | AF21: 6538.53 | AG21: 113961.71 | AH21: 40618.85 | AI21: 10824.85 | AJ21: 15749.55 | AK21: 28737.45 | AL21: 124531.64 | AM21: 60055.35 | AN21: 949.35 | AO21: 126514.3 | AP21: 33238.9 | AQ21: 36130.75 | AR21: 93012.5 | AS21: 25187.05 | AT21: 23289.05 | AU21: 8930.55 | AV21: 49514.35 | AW21: 38493.7 | AX21: 5687.6 | AY21: 23335.75 | AZ21: 29540.1 | BA21: 12720.7 | BB21: 87038.5 | BC21: 5535.85 | BD21: 452998.88 | BE21: 41709.5 | BF21: =SUM(E21:BE21) -> 3693590.2 | BG21: =SUM(E21:W21) -> 1838318 | BH21: =SUM(X21:AJ21) -> 548120.42 | BI21: =SUM(AK21:BE21) -> 1307151.8
C22: 316 | D22: Loyers - crédits-bails (leasing) - baux à fermes - taxes d'utilisation | E22: 3877.2 | F22: 2981.4 | G22: 710.7 | H22: 71392.55 | I22: 77392.1 | J22: 35405.5 | K22: 33077.9 | L22: 844355.6 | M22: 28402.5 | N22: 1200 | O22: 117014.1 | P22: 0 | Q22: 850 | R22: 0 | S22: 0 | T22: 788.5 | U22: 0 | V22: 4800 | W22: 117749.35 | X22: 22093.6 | Y22: 30970 | Z22: 72793.3 | AA22: 0 | AB22: 800 | AC22: 3187.95 | AD22: 41120.6 | AE22: 5443.7 | AF22: 0 | AG22: 2221.5 | AH22: 134060.35 | AI22: 2100 | AJ22: 0 | AK22: 0 | AL22: 12847.9 | AM22: 13629.5 | AN22: 600 | AO22: 39700 | AP22: 37823.4 | AQ22: 0 | AR22: 41161.3 | AS22: 24470.85 | AT22: 0 | AU22: 0 | AV22: 9200 | AW22: 21605.7 | AX22: 0 | AY22: 3573.45 | AZ22: 33624.35 | BA22: 0 | BB22: 3684.4 | BC22: 0 | BD22: 749292.2 | BE22: 600 | BF22: =SUM(E22:BE22) -> 2646601.5 | BG22: =SUM(E22:W22) -> 1339997.4 | BH22: =SUM(X22:AJ22) -> 314791 | BI22: =SUM(AK22:BE22) -> 991813.05
C23: 317 | D23: Indemnités et dédommagements | E23: 23606.65 | F23: 2177.6 | G23: 1364 | H23: 2580.4 | I23: 40021.85 | J23: 37193.95 | K23: 23077.05 | L23: 76479.25 | M23: 16667.5 | N23: 16.8 | O23: 60402.7 | P23: 3538.2 | Q23: 628.75 | R23: 1262.8 | S23: 7404.35 | T23: 51953.45 | U23: 705.9 | V23: 2531.65 | W23: 25629.95 | X23: 20127.25 | Y23: 8215.7 | Z23: 34873.7 | AA23: 512.65 | AB23: 782.9 | AC23: 4787.8 | AD23: 11138.8 | AE23: 5898.95 | AF23: 87.35 | AG23: 25618.05 | AH23: 28922.7 | AI23: 961.9 | AJ23: 508.9 | AK23: 23066 | AL23: 11440.05 | AM23: 9913.45 | AN23: 436.8 | AO23: 15506.3 | AP23: 3534.2 | AQ23: 519.35 | AR23: 21214.25 | AS23: 9496.65 | AT23: 10311 | AU23: 404.9 | AV23: 23399.55 | AW23: 3569.3 | AX23: 487.2 | AY23: 2876.65 | AZ23: 20093.85 | BA23: 1482.3 | BB23: 17934.7 | BC23: 182 | BD23: 28154.1 | BE23: 3546.8 | BF23: =SUM(E23:BE23) -> 727248.85 | BG23: =SUM(E23:W23) -> 377242.8 | BH23: =SUM(X23:AJ23) -> 142436.65 | BI23: =SUM(AK23:BE23) -> 207569.4
C24: 318 | D24: Réévaluations de créances | E24: -46864.3 | F24: 12688.92 | G24: 14365.11 | H24: 5876.46 | I24: 207963.42 | J24: 129749.7 | K24: 32397.02 | L24: 322665.22 | M24: 28228.79 | N24: 10138.58 | O24: 230302.48 | P24: 15615.69 | Q24: 427.5 | R24: 0 | S24: -4049.8 | T24: 39284.79 | U24: 10296.85 | V24: 80363.21 | W24: 185284.18 | X24: -11260.26 | Y24: 29567.28 | Z24: 47059.03 | AA24: 6433.57 | AB24: 8276.43 | AC24: 69743.78 | AD24: 58333.1 | AE24: 15004.16 | AF24: -945.06 | AG24: 40619.35 | AH24: 66170.44 | AI24: 3656.29 | AJ24: -8056.84 | AK24: 3715.45 | AL24: 60436 | AM24: 88167.63 | AN24: 26355.39 | AO24: 45247.95 | AP24: 36323.63 | AQ24: 36848.65 | AR24: 51355.29 | AS24: 6963.69 | AT24: 59284.26 | AU24: 13495.81 | AV24: 74336.32 | AW24: 43275.63 | AX24: 12156.5 | AY24: 43613.34 | AZ24: 99589.08 | BA24: 61555.47 | BB24: 23557.95 | BC24: 13984.49 | BD24: 356907.26 | BE24: 39212.88 | BF24: =SUM(E24:BE24) -> 2795717.8 | BG24: =SUM(E24:W24) -> 1274733.8 | BH24: =SUM(X24:AJ24) -> 324601.27 | BI24: =SUM(AK24:BE24) -> 1196382.7
C25: 319 | D25: Divers charges d'exploitation | E25: 916.5 | F25: 1401.4 | G25: 6061.3 | H25: 5163.3 | I25: 53924.12 | J25: 24343.1 | K25: 15115.75 | L25: 164958.45 | M25: 52744 | N25: 972 | O25: 24888.05 | P25: 1652 | Q25: 3886.98 | R25: 0 | S25: 933.35 | T25: 8197 | U25: 1510.25 | V25: 2001.5 | W25: 3639.1 | X25: 1175.95 | Y25: 14805.75 | Z25: 14636.3 | AA25: 797 | AB25: 637.95 | AC25: 3405.25 | AD25: 10507.95 | AE25: 1199.3 | AF25: 925.05 | AG25: 21493.35 | AH25: 15572.1 | AI25: 1008.3 | AJ25: 1388.05 | AK25: 0 | AL25: 19021.61 | AM25: 689.55 | AN25: 0 | AO25: 24793.55 | AP25: 1362.25 | AQ25: 756.65 | AR25: 17808.8 | AS25: 1699.9 | AT25: 10802.6 | AU25: 1575.25 | AV25: 21000 | AW25: 8000 | AX25: 877.3 | AY25: 0 | AZ25: 7978.9 | BA25: 0 | BB25: 7676.56 | BC25: 1254.1 | BD25: 143566.3 | BE25: 3782 | BF25: =SUM(E25:BE25) -> 732505.77 | BG25: =SUM(E25:W25) -> 372308.15 | BH25: =SUM(X25:AJ25) -> 87552.3 | BI25: =SUM(AK25:BE25) -> 272645.32
B27: 33 | D27: Amortissements du patrimoine administratif | E27: =E28+E29 -> 282130.74 | F27: =F28+F29 -> 82434 | G27: =G28+G29 -> 75868.4 | H27: =H28+H29 -> 97710 | I27: =I28+I29 -> 967279.79 | J27: =J28+J29 -> 1031388.3 | K27: =K28+K29 -> 507798.55 | L27: =L28+L29 -> 5626924.5 | ... BI27: =BI28+BI29 -> 7914177.8
C28: 330 | D28: Amortissements des immobilisations corporelles du PA | E28: 282130.74 | F28: 70754 | G28: 74121.9 | H28: 97710 | I28: 949055.79 | J28: 1017897.2 | K28: 505810.85 | L28: 5532820.3 | M28: 229350 | N28: 50797.67 | O28: 1190961.7 | P28: 117103 | Q28: 12561 | R28: 94900 | S28: 107211 | T28: 116736.9 | U28: 33089.7 | V28: 137784.85 | W28: 901548.95 | X28: 40515.25 | Y28: 269737.3 | Z28: 354358.34 | AA28: 48600 | AB28: 700 | AC28: 88682.95 | AD28: 189752.77 | AE28: 146039.14 | AF28: 86837.65 | AG28: 616217.3 | AH28: 722655.65 | AI28: 53527 | AJ28: 54670.8 | AK28: 702484 | AL28: 408999.5 | AM28: 242650 | AN28: 34064 | AO28: 588905.21 | AP28: 85150 | AQ28: 220972.56 | AR28: 145910 | AS28: 0 | AT28: 247227 | AU28: 76788.1 | AV28: 449875.98 | AW28: 132346.02 | AX28: 33410 | AY28: 180965 | AZ28: 529017 | BA28: 31528.48 | BB28: 381525.81 | BC28: 13961 | BD28: 2841897.4 | BE28: 101119 | BF28: =SUM(E28:BE28) -> 21643436 | BG28: =SUM(E28:W28) -> 11522346 | BH28: =SUM(X28:AJ28) -> 2672294.1 | BI28: =SUM(AK28:BE28) -> 7448796.1
C29: 332 | D29: Amortissements des immobilisations incorporelles du PA | E29: 0 | F29: 11680 | G29: 1746.5 | H29: 0 | I29: 18224 | J29: 13491.09 | K29: 1987.7 | L29: 94104.23 | M29: 6730 | N29: 0 | O29: 24486.4 | P29: 0 | Q29: 0 | R29: 0 | S29: 0 | T29: 0 | U29: 0 | V29: 17900 | W29: 38500.02 | X29: 0 | Y29: 0 | Z29: 0 | AA29: 0 | AB29: 0 | AC29: 0 | AD29: 0 | AE29: 0 | AF29: 0 | AG29: 0 | AH29: 46076.35 | AI29: 0 | AJ29: 0 | AK29: 0 | AL29: 0 | AM29: 19750 | AN29: 0 | AO29: 10400 | AP29: 0 | AQ29: 0 | AR29: 34700 | AS29: 178081.75 | AT29: 960 | AU29: 0 | AV29: 16036.55 | AW29: 0 | AX29: 0 | AY29: 4500 | AZ29: 54125 | BA29: 359.7 | BB29: 0 | BC29: 0 | BD29: 146468.7 | BE29: 0 | BF29: =SUM(E29:BE29) -> 740307.99 | BG29: =SUM(E29:W29) -> 228849.94 | BH29: =SUM(X29:AJ29) -> 46076.35 | BI29: =SUM(AK29:BE29) -> 465381.7
B31: 34 | D31: Charges financières | E31: =E32+E33+E34+E35+E36+E37 -> 38934.65 | F31: =F32+F33+F34+F35+F36+F37 -> 47203.63 | G31: =G32+G33+G34+G35+G36+G37 -> 100058.82 | H31: =H32+H33+H34+H35+H36+H37 -> 72918.87 | I31: =I32+I33+I34+I35+I36+I37 -> 575915.76 | J31: =J32+J33+J34+J35+J36+J37 -> 311634.11 | K31: =K32+K33+K34+K35+K36+K37 -> 212656.85 | L31: =L32+L33+L34+L35+L36+L37 -> 1762202.1 | ... BI31: =BI32+BI33+BI34+BI35+BI36+BI37 -> 3386181.1
C32: 340 | D32: Charges d'intérets | E32: 38934.65 | F32: 37718.33 | G32: 63703.07 | H32: 50695.97 | I32: 441586.42 | J32: 256881.91 | K32: 135437.13 | L32: 1605830.9 | M32: 44645.69 | N32: 8121.91 | O32: 277293.21 | P32: 37908.54 | Q32: 8389.03 | R32: 45100.37 | S32: 64989.99 | T32: 48118.02 | U32: 8827.43 | V32: 42480.34 | W32: 185337.29 | X32: 6978.81 | Y32: 158659.09 | Z32: 10036.21 | AA32: 3455.77 | AB32: 3976.82 | AC32: 51756.65 | AD32: 79274.83 | AE32: 38264.15 | AF32: 8911.5 | AG32: 55215 | AH32: 172314.82 | AI32: 29078.26 | AJ32: 6010.75 | AK32: 144522.82 | AL32: 139519.01 | AM32: 136276.35 | AN32: 19639.76 | AO32: 67994.08 | AP32: 60019.84 | AQ32: 62320.54 | AR32: 81690.24 | AS32: 80902.12 | AT32: 131647.58 | AU32: 22674.73 | AV32: 301752.61 | AW32: 56642.14 | AX32: 7339.96 | AY32: 15749.32 | AZ32: 306670.73 | BA32: 11746.61 | BB32: 79671.94 | BC32: 60.65 | BD32: 763187.49 | BE32: 39123.85 | BF32: =SUM(E32:BE32) -> 6555085.2 | BG32: =SUM(E32:W32) -> 3402000.2 | BH32: =SUM(X32:AJ32) -> 623932.66 | BI32: =SUM(AK32:BE32) -> 2529152.4
C33: 341 | D33: Pertes sur les placements financiers et les immobilisations du PF | E33: 0 | F33: 0 | G33: 0 | H33: 0 | I33: 0 | J33: 0 | K33: 0 | L33: 0 | M33: 0 | N33: 0 | O33: 0 | P33: 0 | Q33: 0 | R33: 0 | S33: 0 | T33: 0 | U33: 0 | V33: 0 | W33: 0 | X33: 0 | Y33: 0 | Z33: 0 | AA33: 0 | AB33: 0 | AC33: 0 | AD33: 0 | AE33: 0 | AF33: 0 | AG33: 0 | AH33: 0 | AI33: 0 | AJ33: 0 | AK33: 0 | AL33: 204.65 | AM33: 0 | AN33: 0 | AO33: 234597.92 | AP33: 0 | AQ33: 0 | AR33: 0 | AS33: 0 | AT33: 0 | AU33: 0 | AV33: 0 | AW33: 0 | AX33: 0 | AY33: 0 | AZ33: 0 | BA33: 0 | BB33: 0 | BC33: 0 | BD33: 20609.19 | BE33: 0 | BF33: =SUM(E33:BE33) -> 255411.76 | BG33: =SUM(E33:W33) -> 0 | BH33: =SUM(X33:AJ33) -> 0 | BI33: =SUM(AK33:BE33) -> 255411.76
C34: 342 | D34: Frais d'acquisitions des capitaux et frais administratifs | E34: 0 | F34: 0 | G34: 0 | H34: 0 | I34: 0 | J34: 0 | K34: 20 | L34: 0 | M34: 0 | N34: 0 | O34: 0 | P34: 0 | Q34: 0 | R34: 0 | S34: 0 | T34: 0 | U34: 0 | V34: 0 | W34: 0 | X34: 0 | Y34: 0 | Z34: 0 | AA34: 0 | AB34: 0 | AC34: 0 | AD34: 0 | AE34: 0 | AF34: 0 | AG34: 0 | AH34: 0 | AI34: 0 | AJ34: 0 | AK34: 0 | AL34: 0 | AM34: 0 | AN34: 0 | AO34: 0 | AP34: 0 | AQ34: 0 | AR34: 0 | AS34: 0 | AT34: 0 | AU34: 0 | AV34: 0 | AW34: 0 | AX34: 0 | AY34: 0 | AZ34: 0 | BA34: 0 | BB34: 0 | BC34: 0 | BD34: 0 | BE34: 0 | BF34: =SUM(E34:BE34) -> 20 | BG34: =SUM(E34:W34) -> 20 | BH34: =SUM(X34:AJ34) -> 0 | BI34: =SUM(AK34:BE34) -> 0
C35: 343 | D35: Charges pour les biens-fonds du PF | E35: 0 | F35: 9485.3 | G35: 36355.75 | H35: 22222.9 | I35: 129733.34 | J35: 54752.2 | K35: 72909.3 | L35: 156371.2 | M35: 23006.85 | N35: 0 | O35: 86665.25 | P35: 9633.75 | Q35: 557.45 | R35: 8353.45 | S35: 4394.45 | T35: 14851.05 | U35: 5684.25 | V35: 9647.65 | W35: 17216.74 | X35: 3718.35 | Y35: 0 | Z35: 8592.35 | AA35: 104.4 | AB35: 10376.2 | AC35: 24782.2 | AD35: 37301.9 | AE35: 0 | AF35: 67387.95 | AG35: 51127.45 | AH35: 20120.95 | AI35: 0 | AJ35: 19868 | AK35: 90114.75 | AL35: 54586.5 | AM35: 36001.9 | AN35: 0 | AO35: 0 | AP35: 9162.85 | AQ35: 0 | AR35: 163156 | AS35: 4973.92 | AT35: 24198.65 | AU35: 0 | AV35: 184.85 | AW35: 16519.8 | AX35: 0 | AY35: 0 | AZ35: 17594.6 | BA35: 14455.45 | BB35: 49581.17 | BC35: 310.45 | BD35: 90710.25 | BE35: 16172.75 | BF35: =SUM(E35:BE35) -> 1492944.5 | BG35: =SUM(E35:W35) -> 661840.88 | BH35: =SUM(X35:AJ35) -> 243379.75 | BI35: =SUM(AK35:BE35) -> 587723.89
C36: 344 | D36: Réévaluations des immobilisations du PF | E36: 0 | F36: 0 | G36: 0 | H36: 0 | I36: 4596 | J36: 0 | K36: 4290.42 | L36: 0 | M36: 0 | N36: 0 | O36: 0 | P36: 0 | Q36: 0 | R36: 0 | S36: 0 | T36: 3356.65 | U36: 0 | V36: 0 | W36: 0 | X36: 0 | Y36: 0 | Z36: 0 | AA36: 0 | AB36: 0 | AC36: 0 | AD36: 2 | AE36: 0 | AF36: 0 | AG36: 0 | AH36: 0 | AI36: -11588.55 | AJ36: 0 | AK36: 0 | AL36: 0 | AM36: 0 | AN36: 0 | AO36: 0 | AP36: 0 | AQ36: 0 | AR36: 0 | AS36: 0 | AT36: 0 | AU36: 0 | AV36: 0 | AW36: 0 | AX36: 0 | AY36: 0 | AZ36: 0 | BA36: 0 | BB36: 300 | BC36: 0 | BD36: 0 | BE36: 0 | BF36: =SUM(E36:BE36) -> 956.52 | BG36: =SUM(E36:W36) -> 12243.07 | BH36: =SUM(X36:AJ36) -> -11586.55 | BI36: =SUM(AK36:BE36) -> 300
C37: 349 | D37: Autres charges financières | E37: 0 | F37: 0 | G37: 0 | H37: 0 | I37: 0 | J37: 0 | K37: 0 | L37: 0 | M37: 14.53 | N37: 0 | O37: 0 | P37: 0 | Q37: 0 | R37: 0 | S37: 0 | T37: 0 | U37: 0 | V37: 0 | W37: 0 | X37: 3378.89 | Y37: 0 | Z37: 0 | AA37: 0 | AB37: 1753.64 | AC37: 0 | AD37: 0 | AE37: 0 | AF37: 0 | AG37: 0 | AH37: 0 | AI37: 0 | AJ37: 0 | AK37: 0 | AL37: 5325.54 | AM37: 0 | AN37: 1154.05 | AO37: 0 | AP37: 3521.11 | AQ37: 0 | AR37: 0 | AS37: 77.95 | AT37: 0 | AU37: 0 | AV37: 0 | AW37: 892.8 | AX37: 714.2 | AY37: 0 | AZ37: 0 | BA37: 0 | BB37: 0 | BC37: 0 | BD37: 0 | BE37: 1907.4 | BF37: =SUM(E37:BE37) -> 18740.11 | BG37: =SUM(E37:W37) -> 14.53 | BH37: =SUM(X37:AJ37) -> 5132.53 | BI37: =SUM(AK37:BE37) -> 13593.05
B39: 35 | D39: Attributions aux financements spéciaux des capitaux de tiers | E39: =E40+E41 -> 16978.75 | F39: =F40+F41 -> 15022.35 | G39: =G40+G41 -> 4842.95 | H39: =H40+H41 -> 0 | I39: =I40+I41 -> 112388.8 | J39: =J40+J41 -> 8283.21 | K39: =K40+K41 -> 30083.4 | L39: =L40+L41 -> 0 | ... BI39: =BI40+BI41 -> 813358.14
C40: 350 | D40: Attributions aux financements spéciaux des capitaux de tiers | E40: 0 | F40: 0 | G40: 0 | H40: 0 | I40: 13700.35 | J40: 0 | K40: 0 | L40: 0 | M40: 0 | N40: 9500 | O40: 0 | P40: 0 | Q40: 0 | R40: 0 | S40: 0 | T40: 0 | U40: 0 | V40: 0 | W40: 0 | X40: 0 | Y40: 0 | Z40: 0 | AA40: 0 | AB40: 0 | AC40: 0 | AD40: 0 | AE40: 1005.75 | AF40: 0 | AG40: 0 | AH40: 0 | AI40: 4708.75 | AJ40: 0 | AK40: 0 | AL40: 0 | AM40: 0 | AN40: 0 | AO40: 0 | AP40: 0 | AQ40: 0 | AR40: 0 | AS40: 0.43 | AT40: 10.3 | AU40: 0 | AV40: 9624.65 | AW40: 0 | AX40: 0 | AY40: 0 | AZ40: 0 | BA40: 0 | BB40: 0 | BC40: 0 | BD40: 0 | BE40: 0 | BF40: =SUM(E40:BE40) -> 38550.23 | BG40: =SUM(E40:W40) -> 23200.35 | BH40: =SUM(X40:AJ40) -> 5714.5 | BI40: =SUM(AK40:BE40) -> 9635.38
C41: 351 | D41: Attributions aux financements spéciaux du capital propres | E41: 16978.75 | F41: 15022.35 | G41: 4842.95 | H41: 0 | I41: 98688.45 | J41: 8283.21 | K41: 30083.4 | L41: 0 | M41: 108697.49 | N41: 0 | O41: 738557.5 | P41: 0 | Q41: 0 | R41: -45.4 | S41: 29000 | T41: 0 | U41: 14808.4 | V41: 0 | W41: 0 | X41: 74767.85 | Y41: 1646.6 | Z41: 64419 | AA41: 0 | AB41: 8123.55 | AC41: 5397.7 | AD41: 3500 | AE41: 4373.5 | AF41: 6081.76 | AG41: 57650.95 | AH41: 24180.25 | AI41: 10897.2 | AJ41: 3000 | AK41: 60056.55 | AL41: 5884.53 | AM41: 44358.37 | AN41: 0 | AO41: 0 | AP41: 9464.78 | AQ41: 13192.7 | AR41: 112767.45 | AS41: 99539.57 | AT41: 196044.14 | AU41: 1484.3 | AV41: 157760.01 | AW41: 13512 | AX41: 35.86 | AY41: -310 | AZ41: 10462.5 | BA41: 5123.95 | BB41: 39690.97 | BC41: 5104 | BD41: 10234.45 | BE41: 19316.63 | BF41: =SUM(E41:BE41) -> 2132678.2 | BG41: =SUM(E41:W41) -> 1064917.1 | BH41: =SUM(X41:AJ41) -> 264038.36 | BI41: =SUM(AK41:BE41) -> 803722.76
B43: 36 | D43: Charges de transferts | E43: =E44+E45+E46+E47+E48+E49+E50+E51 -> 2209370.2 | F43: =F44+F45+F46+F47+F48+F49+F50+F51 -> 627387.05 | G43: =G44+G45+G46+G47+G48+G49+G50+G51 -> 1067999.6 | H43: =H44+H45+H46+H47+H48+H49+H50+H51 -> 993032.24 | I43: =I44+I45+I46+I47+I48+I49+I50+I51 -> 7195314.7 | J43: =J44+J45+J46+J47+J48+J49+J50+J51 -> 6522316 | K43: =K44+K45+K46+K47+K48+K49+K50+K51 -> 6360565.8 | L43: =L44+L45+L46+L47+L48+L49+L50+L51 -> 41645194 | ... BI43: =BI44+BI45+BI46+BI47+BI48+BI49+BI50+BI51 -> 63967380
C44: 360 | D44: Parts de revenus destinés à des collectivités publiques | E44: 4379.6 | F44: 1560 | G44: 1440 | H44: 1000 | I44: 16200.7 | J44: 118930.7 | K44: 39560 | L44: 26242.15 | M44: 2880 | N44: 660 | O44: 86349.55 | P44: 1260 | Q44: 240 | R44: 1380 | S44: 1040 | T44: 2870.5 | U44: 940 | V44: 1420 | W44: 7300 | X44: 2535 | Y44: 7757.25 | Z44: 0 | AA44: 525 | AB44: 1330 | AC44: 4490 | AD44: 10716.35 | AE44: 5640 | AF44: 4480 | AG44: 18105 | AH44: 23049.98 | AI44: 2220 | AJ44: 3371 | AK44: 5889 | AL44: 4420 | AM44: 5370 | AN44: 740 | AO44: 2205 | AP44: 527.2 | AQ44: 2000 | AR44: 7185 | AS44: 2480 | AT44: 2800 | AU44: 1735 | AV44: 9865 | AW44: 1660 | AX44: 0 | AY44: 140 | AZ44: 5245 | BA44: 3005 | BB44: 4865 | BC44: 309.8 | BD44: 15985 | BE44: 2220 | BF44: =SUM(E44:BE44) -> 478518.78 | BG44: =SUM(E44:W44) -> 315653.2 | BH44: =SUM(X44:AJ44) -> 84219.58 | BI44: =SUM(AK44:BE44) -> 78646
C45: 361 | D45: Dédommagements aux collectivités publiques | E45: 1642996.4 | F45: 426368.55 | G45: 870822.43 | H45: 727515 | I45: 4562345.7 | J45: 4166628 | K45: 4728107.2 | L45: 17598891 | M45: 2579016.7 | N45: 142621.8 | O45: 11520361 | P45: 824706.83 | Q45: 190499.47 | R45: 654801.9 | S45: 526071.5 | T45: 1078168.8 | U45: 398712.5 | V45: 803298.46 | W45: 4186782 | X45: 463776.45 | Y45: 2122765.7 | Z45: 2386302.6 | AA45: 146610.85 | AB45: 324583.4 | AC45: 990991 | AD45: 1039219.1 | AE45: 833630 | AF45: 916735.67 | AG45: 3242852.4 | AH45: 3203278.8 | AI45: 391709.65 | AJ45: 234108.95 | AK45: 3879098 | AL45: 1891880.6 | AM45: 2320298.8 | AN45: 168329.5 | AO45: 1397618.5 | AP45: 1371415.4 | AQ45: 1034573.6 | AR45: 2168914.3 | AS45: 1396047.5 | AT45: 1852728.5 | AU45: 559225.52 | AV45: 5038855.5 | AW45: 1310763.2 | AX45: 296070.14 | AY45: 494081.62 | AZ45: 3020900.2 | BA45: 833538.46 | BB45: 1879788 | BC45: 351335.54 | BD45: 8597748.8 | BE45: 1048753.6 | BF45: =SUM(E45:BE45) -> 1.1483725e+08 | BG45: =SUM(E45:W45) -> 57628715 | BH45: =SUM(X45:AJ45) -> 16296565 | BI45: =SUM(AK45:BE45) -> 40911965
...

Sheet Graphique par nature
A4: Charges
A5: 30 Charges du personnel | B5: ='4.1 Comptes 2021 natures'!BF5 -> 69908877
A6: 31 Charges de biens et de services et autres charges d'exploitation | B6: ='4.1 Comptes 2021 natures'!BF15 -> 76120992
A7: 33 Amortissements du patrimoine administratif | B7: ='4.1 Comptes 2021 natures'!BF27 -> 22383744
A8: 34 Charges financières | B8: ='4.1 Comptes 2021 natures'!BF31 -> 8323158.1
A9: 35 Attributions aux financements spéciaux des capitaux de tiers | B9: ='4.1 Comptes 2021 natures'!BF39 -> 2171228.5
A10: 36 Charges de transferts | B10: ='4.1 Comptes 2021 natures'!BF43 -> 1.8919817e+08
A11: 37 Subventions à redistribuer | B11: ='4.1 Comptes 2021 natures'!BF53 -> 2751539
A12: 38 Charges extraordinaires | B12: ='4.1 Comptes 2021 natures'!BF56 -> 5390500.3
A13: 39 Imputations internes | B13: ='4.1 Comptes 2021 natures'!BF64 -> 7585405.9
A15: Revenus
A16: 40 Revenus fiscaux | B16: ='4.1 Comptes 2021 natures'!BF76 -> 2.2068665e+08
A17: 41 Revenus de patentes et de concessions | B17: ='4.1 Comptes 2021 natures'!BF82 -> 1118975.4
A18: 42 Taxes | B18: ='4.1 Comptes 2021 natures'!BF88 -> 79953170
A19: 43 Revenus divers | B19: ='4.1 Comptes 2021 natures'!BF99 -> 2251909
A20: 44 Revenus financiers | B20: ='4.1 Comptes 2021 natures'!BF105 -> 14543223
A21: 45 Prélèvements sur les financements spéciaux | B21: ='4.1 Comptes 2021 natures'!BF117 -> 899800.41
A22: 46 Revenus de transfert | B22: ='4.1 Comptes 2021 natures'!BF121 -> 64521545
A23: 47 Subventions à redistribuer | B23: ='4.1 Comptes 2021 natures'!BF128 -> 2368380.2
A24: 48 Revenus extraordinaires | B24: ='4.1 Comptes 2021 natures'!BF131 -> 3735282.1
A25: 49 Imputations internes | B25: ='4.1 Comptes 2021 natures'!BF140 -> 7606722.9

Sheet Résultats par commune
A1: Clôture du compte de résutlats global par commune (90)
A3: Communes | B3: Compte 90 | C3: Compte 90 par hab.
A4: Boécourt | B4: ='4.1 Comptes 2021 natures'!AZ153 -> 59877.34 | C4: ='4.9 Comptes 2021 par habitant'!E153 -> 47.442555
A5: Bourrignon | B5: ='4.1 Comptes 2021 natures'!F153 -> -48557.32 | C5: ='4.9 Comptes 2021 par habitant'!F153 -> -183.23517
A6: Châtillon | B6: ='4.1 Comptes 2021 natures'!G153 -> -94828.6 | C6: ='4.9 Comptes 2021 par habitant'!G153 -> -202.19318
A7: Courchapoix | B7: ='4.1 Comptes 2021 natures'!H153 -> 106112.79 | C7: ='4.9 Comptes 2021 par habitant'!H153 -> 241.71478
A8: Courrendlin | B8: ='4.1 Comptes 2021 natures'!I153 -> 509529.57 | C8: ='4.9 Comptes 2021 par habitant'!I153 -> 136.67639
A9: Courroux | B9: ='4.1 Comptes 2021 natures'!J153 -> 355331.14 | C9: ='4.9 Comptes 2021 par habitant'!J153 -> 106.22755
A10: Courtételle | B10: ='4.1 Comptes 2021 natures'!K153 -> 521660.97 | C10: ='4.9 Comptes 2021 par habitant'!K153 -> 196.70474
A11: Delémont | B11: ='4.1 Comptes 2021 natures'!L153 -> 3551526.5 | C11: ='4.9 Comptes 2021 par habitant'!L153 -> 284.60025
A12: Develier | B12: ='4.1 Comptes 2021 natures'!M153 -> 288258.07 | C12: ='4.9 Comptes 2021 par habitant'!M153 -> 212.11043
A13: Ederswiler | B13: ='4.1 Comptes 2021 natures'!N153 -> -9232.12 | C13: ='4.9 Comptes 2021 par habitant'!N153 -> -78.907009
A14: Haute-Sorne | B14: ='4.1 Comptes 2021 natures'!O153 -> 713421.97 | C14: ='4.9 Comptes 2021 par habitant'!O153 -> 98.253955
A15: Mervelier | B15: ='4.1 Comptes 2021 natures'!P153 -> 98362.19 | C15: ='4.9 Comptes 2021 par habitant'!P153 -> 182.82935
A16: Mettembert | B16: ='4.1 Comptes 2021 natures'!Q153 -> -4705.81 | C16: ='4.9 Comptes 2021 par habitant'!Q153 -> -42.394685
A17: Movelier | B17: ='4.1 Comptes 2021 natures'!R153 -> 43963.29 | C17: ='4.9 Comptes 2021 par habitant'!R153 -> 104.42587
A18: Pleigne | B18: ='4.1 Comptes 2021 natures'!S153 -> -48947.22 | C18: ='4.9 Comptes 2021 par habitant'!S153 -> -141.46595
A19: Rossemaison | B19: ='4.1 Comptes 2021 natures'!T153 -> 544010.83 | C19: ='4.9 Comptes 2021 par habitant'!T153 -> 766.21244
A20: Saulcy | B20: ='4.1 Comptes 2021 natures'!U153 -> -15080.91 | C20: ='4.9 Comptes 2021 par habitant'!U153 -> -56.062862
A21: Soyhières | B21: ='4.1 Comptes 2021 natures'!V153 -> -314421.67 | C21: ='4.9 Comptes 2021 par habitant'!V153 -> -714.5947
A22: Val Terbi | B22: ='4.1 Comptes 2021 natures'!W153 -> 456199.36 | C22: ='4.9 Comptes 2021 par habitant'!W153 -> 141.28193
A23: Le Bémont | B23: ='4.1 Comptes 2021 natures'!X153 -> 138689.77 | C23: ='4.9 Comptes 2021 par habitant'!X153 -> 447.38635
A24: Les Bois | B24: ='4.1 Comptes 2021 natures'!Y153 -> 1766349.5 | C24: ='4.9 Comptes 2021 par habitant'!Y153 -> 1390.8263
A25: Les Breuleux | B25: ='4.1 Comptes 2021 natures'!Z153 -> 1120099.1 | C25: ='4.9 Comptes 2021 par habitant'!Z153 -> 743.75769
A26: La Chaux-B. | B26: ='4.1 Comptes 2021 natures'!AA153 -> 10126.51 | C26: ='4.9 Comptes 2021 par habitant'!AA153 -> 105.48448
A27: Les Enfers | B27: ='4.1 Comptes 2021 natures'!AB153 -> 1129.24 | C27: ='4.9 Comptes 2021 par habitant'!AB153 -> 7.63
A28: Les Genevez | B28: ='4.1 Comptes 2021 natures'!AC153 -> -297058.18 | C28: ='4.9 Comptes 2021 par habitant'!AC153 -> -573.47139
A29: Lajoux | B29: ='4.1 Comptes 2021 natures'!AD153 -> 4584.96 | C29: ='4.9 Comptes 2021 par habitant'!AD153 -> 6.5405991
A30: Montfaucon | B30: ='4.1 Comptes 2021 natures'!AE153 -> -249384.18 | C30: ='4.9 Comptes 2021 par habitant'!AE153 -> -442.17053
A31: Muriaux | B31: ='4.1 Comptes 2021 natures'!AF153 -> 76405.58 | C31: ='4.9 Comptes 2021 par habitant'!AF153 -> 145.53444
A32: Le Noirmont | B32: ='4.1 Comptes 2021 natures'!AG153 -> 904527.7 | C32: ='4.9 Comptes 2021 par habitant'!AG153 -> 473.82279
A33: Saignelégier | B33: ='4.1 Comptes 2021 natures'!AH153 -> 869734.76 | C33: ='4.9 Comptes 2021 par habitant'!AH153 -> 337.1065
A34: Saint-Brais | B34: ='4.1 Comptes 2021 natures'!AI153 -> -37068.9 | C34: ='4.9 Comptes 2021 par habitant'!AI153 -> -166.97703
A35: Soubey | B35: ='4.1 Comptes 2021 natures'!AJ153 -> 45606.67 | C35: ='4.9 Comptes 2021 par habitant'!AJ153 -> 353.54008
A36: Alle | B36: ='4.1 Comptes 2021 natures'!AK153 -> 571824.05 | C36: ='4.9 Comptes 2021 par habitant'!AK153 -> 302.39241
A37: La Baroche | B37: ='4.1 Comptes 2021 natures'!AL153 -> 45087.84 | C37: ='4.9 Comptes 2021 par habitant'!AL153 -> 40.042487
A38: Basse-Allaine | B38: ='4.1 Comptes 2021 natures'!AM153 -> 123768.67 | C38: ='4.9 Comptes 2021 par habitant'!AM153 -> 101.03565
A39: Beurnevésin | B39: ='4.1 Comptes 2021 natures'!AN153 -> 6229.74 | C39: ='4.9 Comptes 2021 par habitant'!AN153 -> 53.245641
A40: Boncourt | B40: ='4.1 Comptes 2021 natures'!AO153 -> 209567.68 | C40: ='4.9 Comptes 2021 par habitant'!AO153 -> 176.85036
A41: Bonfol | B41: ='4.1 Comptes 2021 natures'!AP153 -> 200305.66 | C41: ='4.9 Comptes 2021 par habitant'!AP153 -> 312.00259
...

Sheet 4.2 Comptes 2021 par commune
A2: Comptes de résultats par natures 2021
A5: Communes : | D5: Vendlincourt
E7: CHF
A8: 3 | D8: Charges | E8: =HLOOKUP(D5,'4.1 Comptes 2021 natures'!$E$3:$BE$158,2,0) -> 2420550.6
B9: 30 | D9: Charges du personnel | E9: =HLOOKUP($D$5,'4.1 Comptes 2021 natures'!$E$3:$BE$158,3,0) -> 314902.15
C10: 300 | D10: Autorités et commissions | E10: =HLOOKUP($D$5,'4.1 Comptes 2021 natures'!$E$3:$BE$158,4,0) -> 27030.9
C11: 301 | D11: Personnel administratif et d'exploitation | E11: =HLOOKUP($D$5,'4.1 Comptes 2021 natures'!$E$3:$BE$158,5,0) -> 239400.55
C12: 302 | D12: Enseignants | E12: =HLOOKUP($D$5,'4.1 Comptes 2021 natures'!$E$3:$BE$158,6,0) -> 0
C13: 303 | D13: Personnel temporaire administratif et d'exploitation | E13: =HLOOKUP($D$5,'4.1 Comptes 2021 natures'!$E$3:$BE$158,7,0) -> 0
C14: 304 | D14: Allocations et indemnités | E14: =HLOOKUP($D$5,'4.1 Comptes 2021 natures'!$E$3:$BE$158,8,0) -> 0
C15: 305 | D15: Charges de l'employeur | E15: =HLOOKUP($D$5,'4.1 Comptes 2021 natures'!$E$3:$BE$158,9,0) -> 48051.45
C16: 306 | D16: Prestations sociales de l'employeur | E16: =HLOOKUP($D$5,'4.1 Comptes 2021 natures'!$E$3:$BE$158,10,0) -> 0
C17: 309 | D17: Autres charges du personnel | E17: =HLOOKUP($D$5,'4.1 Comptes 2021 natures'!$E$3:$BE$158,11,0) -> 419.25
B19: 31 | D19: Charges de biens et de services et autres charges d'exploitation | E19: =SUM(E20:E29) -> 409134.82
C20: 310 | D20: Charges de matériel et de marchandises | E20: =HLOOKUP($D$5,'4.1 Comptes 2021 natures'!$E$3:$BE$158,14,0) -> 71492.9
C21: 311 | D21: Immobilisations ne pouvant être portées à l'actif | E21: =HLOOKUP($D$5,'4.1 Comptes 2021 natures'!$E$3:$BE$158,15,0) -> 15891.1
C22: 312 | D22: Alimentations et éliminations des biens-fonds du PA | E22: =HLOOKUP($D$5,'4.1 Comptes 2021 natures'!$E$3:$BE$158,16,0) -> 27528.1
C23: 313 | D23: Prestations de services et honoraires | E23: =HLOOKUP($D$5,'4.1 Comptes 2021 natures'!$E$3:$BE$158,17,0) -> 148225.19
C24: 314 | D24: Gros entretien et entretien courtant du PA | E24: =HLOOKUP($D$5,'4.1 Comptes 2021 natures'!$E$3:$BE$158,18,0) -> 57146.35
C25: 315 | D25: Entretien des biens mobiliers et des immobilisations corporelles du PA | E25: =HLOOKUP($D$5,'4.1 Comptes 2021 natures'!$E$3:$BE$158,19,0) -> 41709.5
C26: 316 | D26: Loyers - crédits-bails (leasing) - baux à fermes - taxes d'utilisation | E26: =HLOOKUP($D$5,'4.1 Comptes 2021 natures'!$E$3:$BE$158,20,0) -> 600
C27: 317 | D27: Indemnités et dédommagements | E27: =HLOOKUP($D$5,'4.1 Comptes 2021 natures'!$E$3:$BE$158,21,0) -> 3546.8
C28: 318 | D28: Réévaluations de créances | E28: =HLOOKUP($D$5,'4.1 Comptes 2021 natures'!$E$3:$BE$158,22,0) -> 39212.88
C29: 319 | D29: Divers charges d'exploitation | E29: =HLOOKUP($D$5,'4.1 Comptes 2021 natures'!$E$3:$BE$158,23,0) -> 3782
B31: 33 | D31: Amortissements du patrimoine administratif | E31: =SUM(E32:E33) -> 101119
C32: 330 | D32: Amortissements des immobilisations corporelles du PA | E32: =HLOOKUP($D$5,'4.1 Comptes 2021 natures'!$E$3:$BE$158,26,0) -> 101119
C33: 332 | D33: Amortissements des immobilisations incorporelles du PA | E33: =HLOOKUP($D$5,'4.1 Comptes 2021 natures'!$E$3:$BE$158,27,0) -> 0
B35: 34 | D35: Charges financières | E35: =SUM(E36:E41) -> 57204
C36: 340 | D36: Charges d'intérets | E36: =HLOOKUP($D$5,'4.1 Comptes 2021 natures'!$E$3:$BE$158,30,0) -> 39123.85
C37: 341 | D37: Pertes sur les placements financiers et les immobilisations du PF | E37: =HLOOKUP($D$5,'4.1 Comptes 2021 natures'!$E$3:$BE$158,31,0) -> 0
C38: 342 | D38: Frais d'acquisitions des capitaux et frais administratifs | E38: =HLOOKUP($D$5,'4.1 Comptes 2021 natures'!$E$3:$BE$158,32,0) -> 0
C39: 343 | D39: Charges pour les biens-fonds du PF | E39: =HLOOKUP($D$5,'4.1 Comptes 2021 natures'!$E$3:$BE$158,33,0) -> 16172.75
C40: 344 | D40: Réévaluations des immobilisations du PF | E40: =HLOOKUP($D$5,'4.1 Comptes 2021 natures'!$E$3:$BE$158,34,0) -> 0
C41: 349 | D41: Autres charges financières | E41: =HLOOKUP($D$5,'4.1 Comptes 2021 natures'!$E$3:$BE$158,35,0) -> 1907.4
B43: 35 | D43: Attributions aux financements spéciaux des capitaux de tiers | E43: =SUM(E44:E45) -> 19316.63
C44: 350 | D44: Attributions aux financements spéciaux des capitaux de tiers | E44: =HLOOKUP($D$5,'4.1 Comptes 2021 natures'!$E$3:$BE$158,38,0) -> 0
C45: 351 | D45: Attributions aux financements spéciaux du capital propres | E45: =HLOOKUP($D$5,'4.1 Comptes 2021 natures'!$E$3:$BE$158,39,0) -> 19316.63
B47: 36 | D47: Charges de transferts | E47: =SUM(E48:E55) -> 1443374
C48: 360 | D48: Parts de revenus destinés à des collectivités publiques | E48: =HLOOKUP($D$5,'4.1 Comptes 2021 natures'!$E$3:$BE$158,42,0) -> 2220
C49: 361 | D49: Dédommagements aux collectivités publiques | E49: =HLOOKUP($D$5,'4.1 Comptes 2021 natures'!$E$3:$BE$158,43,0) -> 1048753.6
...

Sheet 4.9 Comptes 2021 par habitant
A1: Comptes de résultats par natures 2021
E2: ='Base de données pop.'!C2 -> 947 | F2: ='Base de données pop.'!C3 -> 265 | G2: ='Base de données pop.'!C4 -> 469 | H2: ='Base de données pop.'!C5 -> 439 | I2: ='Base de données pop.'!C6 -> 3728 | J2: ='Base de données pop.'!C7 -> 3345 | K2: ='Base de données pop.'!C8 -> 2652 | L2: ='Base de données pop.'!C9 -> 12479 | M2: ='Base de données pop.'!C10 -> 1359 | N2: ='Base de données pop.'!C11 -> 117 | O2: ='Base de données pop.'!C12 -> 7261 | P2: ='Base de données pop.'!C13 -> 538 | Q2: ='Base de données pop.'!C14 -> 111 | R2: ='Base de données pop.'!C15 -> 421 | S2: ='Base de données pop.'!C16 -> 346 | T2: ='Base de données pop.'!C17 -> 710 | U2: ='Base de données pop.'!C18 -> 269 | V2: ='Base de données pop.'!C19 -> 440 | W2: ='Base de données pop.'!C20 -> 3229 | X2: ='Base de données pop.'!C21 -> 310 | Y2: ='Base de données pop.'!C22 -> 1270 | Z2: ='Base de données pop.'!C23 -> 1506 | AA2: ='Base de données pop.'!C24 -> 96 | AB2: ='Base de données pop.'!C25 -> 148 | AC2: ='Base de données pop.'!C26 -> 518 | AD2: ='Base de données pop.'!C27 -> 701 | AE2: ='Base de données pop.'!C28 -> 564 | AF2: ='Base de données pop.'!C29 -> 525 | AG2: ='Base de données pop.'!C30 -> 1909 | AH2: ='Base de données pop.'!C31 -> 2580 | AI2: ='Base de données pop.'!C32 -> 222 | AJ2: ='Base de données pop.'!C33 -> 129 | AK2: ='Base de données pop.'!C34 -> 1891 | AL2: ='Base de données pop.'!C35 -> 1126 | AM2: ='Base de données pop.'!C36 -> 1225 | AN2: ='Base de données pop.'!C37 -> 117 | AO2: ='Base de données pop.'!C38 -> 1185 | AP2: ='Base de données pop.'!C39 -> 642 | AQ2: ='Base de données pop.'!C40 -> 633 | AR2: ='Base de données pop.'!C41 -> 1284 | AS2: ='Base de données pop.'!C42 -> 731 | AT2: ='Base de données pop.'!C43 -> 1016 | AU2: ='Base de données pop.'!C44 -> 304 | AV2: ='Base de données pop.'!C45 -> 2412 | AW2: ='Base de données pop.'!C46 -> 735 | AX2: ='Base de données pop.'!C47 -> 185 | AY2: ='Base de données pop.'!C48 -> 340 | AZ2: ='Base de données pop.'!C49 -> 1697 | BA2: ='Base de données pop.'!C50 -> 390 | BB2: ='Base de données pop.'!C51 -> 1073 | BC2: ='Base de données pop.'!C52 -> 184 | BD2: ='Base de données pop.'!C53 -> 6466 | BE2: ='Base de données pop.'!C54 -> 559 | BF2: =SUM(E2:BE2) -> 73798 | BG2: =SUM(E2:W2) -> 39125 | BH2: =SUM(X2:AJ2) -> 10478 | BI2: =SUM(AK2:BE2) -> 24195
