Workbook
Name déduction_maximale_pour_frais_de_garde: limites!$B$2
Name differenceLimiteRevenu: Résultat!$C$18
Name FortuneDeterminante: Résultat!$C$7
Name franchise_revenus_de_l_enfant: limites!$B$9
Name limiteFortuneEnfant: limites!$B$11
Name limiteFortuneG: limites!$B$10
Name limiteRevenu: limites!$B$3
Name majRev12enfants: limites!$B$4
Name majRev34enfants: limites!$B$5
Name majRev5enfants: limites!$B$6
Name majRevCouple: limites!$B$7
Name max12enfants: limites!$B$15
Name max2enfants: limites!$B$15
Name max34enfants: limites!$B$16
Name max4enfants: limites!$B$16
Name max5enfants: limites!$B$17
Name maxConjoint: limites!$B$14
Name montantCreanceDeterminee: Résultat!$C$20
Name montantMaxAvances: Résultat!$C$19
Name nbEnfants: Infos!$C$7
Name ouinonconcubin: Infos!$C$5
Name ResultatFortuneD: Fortune!$C$12
Name ResultatRevenuD: Calcul!$C$46
Name test: Résultat!$C$7

Sheet Infos
B3: Calcul du revenu
B5: Je suis remarié-e, en concubinage depuis plus de deux ans ou avec enfant en commun | C5: non
B7: Nombre d'enfants dans le ménage
B9: Montant de la créance alimentaire déterminée judiciairement ou conventionnellement (pension)
B11: Passer au calcul du revenu déterminant

Sheet Calcul
B2: Revenu déterminant du ménage
B4: Requérant-e
B5: Revenu mensuel net, y compris allocations familiales | D5: =C5 -> 0
B6: Frais de garde mensuels supportés sur le temps de travail | D6: =IF(C6>déduction_maximale_pour_frais_de_garde*nbEnfants,déduction_maximale_pour_frais_de_garde*nbEnfants,C6) -> 0
B7: Rentes d'assurance sociales | D7: =C7 -> 0
B8: Autres revenus à l'exception des pensions alimentaires | D8: =C8 -> 0
B9: Pension(s) alimentaire(s) perçue(s) pour un autre enfant du ménage | D9: =C9 -> 0
B10: TOTAL | C10: =SUM(C5:C9)-C6*2 -> 0 | D10: =SUM(D5:D9)-D6*2 -> 0
B12: Epoux/Epouse ou concubin-e
B13: Revenu mensuel net | D13: =IF(C13="","",C13)
B14: LAMal, LCA et les frais de santé effectifs | D14: =C14 -> 0
B15: Contributions d’entretien effectivement versées | D15: =IF(C15="","",C15)
B16: Impôts effectivement versés | D16: =IF(C16="","",C16)
B17: Frais d’assurances conclues précédemment, frais de leasing, remboursement effectif de dettes existantes | D17: =IF(C17="","",C17)
B18: TOTAL | C18: =C13-SUM(C14:C17) -> 0 | D18: =IF(ouinonconcubin="non",0,IF(ISBLANK(C13),0-SUM(D14:D17),D13-SUM(D14:D17))) -> 0
B20: Enfant 1
B21: Revenu mensuel net, y compris rentes d'assurances sociales | D21: =IF(C21="","",IF(C21>franchise_revenus_de_l_enfant,C21-franchise_revenus_de_l_enfant,0)) | E21: Art. 4 1 Les revenus de l’enfant dont le créancier a la charge s’ajoutent aux revenus de ce dernier pour la part dépassant le montant net de 339 francs par mois.
B22: Autres revenus à l'exception des pensions alimentaires | D22: =IF(C22="","",C22)
B23: TOTAL | C23: =SUM(C21:C22) -> 0 | D23: =SUM(D21:D22) -> 0
B25: Enfant 2
B26: Revenu mensuel net, y compris rentes d'assurances sociales | D26: =IF(C26="","",IF(C26>franchise_revenus_de_l_enfant,C26-franchise_revenus_de_l_enfant,0))
B27: Autres revenus à l'exception des pensions alimentaires | D27: =IF(C27="","",C27)
B28: TOTAL | C28: =SUM(C26:C27) -> 0 | D28: =SUM(D26:D27) -> 0
B30: Enfant 3
B31: Revenu mensuel net, y compris rentes d'assurances sociales | D31: =IF(C31>franchise_revenus_de_l_enfant,C31-franchise_revenus_de_l_enfant,0) -> 0
B32: Autres revenus à l'exception des pensions alimentaires | D32: =C32 -> 0
B33: TOTAL | C33: =SUM(C31:C32) -> 0 | D33: =SUM(D31:D32) -> 0
B35: Enfant 4
B36: Revenu mensuel net, y compris rentes d'assurances sociales | D36: =IF(C36>franchise_revenus_de_l_enfant,C36-franchise_revenus_de_l_enfant,0) -> 0
B37: Autres revenus à l'exception des pensions alimentaires | D37: =C37 -> 0
B38: TOTAL | C38: =SUM(C36:C37) -> 0 | D38: =SUM(D36:D37) -> 0
B40: Enfant 5
B41: Revenu mensuel net, y compris rentes d'assurances sociales | D41: =IF(C41>franchise_revenus_de_l_enfant,C41-franchise_revenus_de_l_enfant,0) -> 0
B42: Autres revenus à l'exception des pensions alimentaires | D42: =C42 -> 0
B43: TOTAL | C43: =SUM(C41:C42) -> 0 | D43: =SUM(D41:D42) -> 0
B46: Calcul du revenu déterminant du ménage selon OARPA : | C46: =D10+D18+D23+D28+D33+D38+D43 -> 0
B48: Passer au calcul de la fortune

Sheet Fortune
B2: Fortune
B3: Fortune imposable selon la déclaration impôt
B5: Requérant-e
B6: Concubin-e
B7: Enfant 1
B8: Enfant 2
B9: Enfant 3
B10: Enfant 4
B11: Enfant 5
B12: Calcul de la fortune du ménage : | C12: =SUM(C5:C11) -> 0
B14: Passer au résultat provisoire

Sheet Résultat
B2: Résultat provisoire
B4: Revenu déterminant | C4: =ResultatRevenuD -> 0
B5: Limite de revenu selon calcul | C5: =limiteRevenu+IF(Infos!C5="oui",majRevCouple,0)+IF(Infos!C7>=1,majRev12enfants,0)+IF(Infos!C7>=2,majRev12enfants,0)+IF(Infos!C7>=3,majRev34enfants,0)+IF(Infos!C7>=4,majRev34enfants,0)+IF(Infos!C7>=5,majRev5enfants,0) -> 3418
B7: Fortune déterminante | C7: =ResultatFortuneD -> 0
B8: Limite de fortune en général (art. 5, al. 1, OARPA) | C8: =limiteFortuneG -> 33196
B9: Limite de fortune pour les enfants (art. 5, al. 1, OARPA) | C9: =limiteFortuneEnfant -> 11305
B11: Requérant-e | C11: =Fortune!C5 -> 0
B12: Enfant 1 | C12: =Fortune!C7 -> 0
B13: Enfant 2 | C13: =Fortune!C8 -> 0
B14: Enfant 3 | C14: =Fortune!C9 -> 0
B15: Enfant 4 | C15: =Fortune!C10 -> 0
B16: Enfant 5 | C16: =Fortune!C11 -> 0
C18: =IF(C4>C5,0,C5-C4) -> 3418
B19: Montant maximal des avances (art. 8 OARPA) | C19: =Feuil6!B7 -> 0
B20: Montant de la créance alimentaire déterminée judiciairement ou conventionnellement | C20: =Infos!C9 -> 0
B22: Avance provisoire estimée | C22: =IF(FortuneDeterminante>limiteFortuneG,0,IF(montantCreanceDeterminee<IF(montantMaxAvances<differenceLimiteRevenu,montantMaxAvances,differenceLimiteRevenu),montantCreanceDeterminee,IF(montantMaxAvances<differenceLimiteRevenu,montantMaxAvances,differenceLimiteRevenu))) -> 0
B23: Le revenu déterminant est trop élevé (art. 3, al. 1, OARPA)
B24: La fortune déterminante est trop élevée (art. 5, al. 1, OARPA)
B25: La fortune de l'enfant est trop élevée (art. 5, al. 1, OARPA)
B30: Le calcul est fourni à titre indicatif et ne donne droit à aucune prestation, car le calculateur ne peut pas représenter toutes les situations et il peut y avoir des différences

Sheet Feuil6
A2: limites
A3: conjoint | B3: =IF(Infos!C5="oui",maxConjoint,0) -> 0
A4: 1 et 2 | B4: =IF(Infos!C7>=1,max12enfants,0)+IF(Infos!C7>=2,max12enfants,0) -> 0
A5: 3 et 4 | B5: =IF(Infos!C7>=3,max34enfants,0)+IF(Infos!C7>=4,max34enfants,0) -> 0
A6: 5 + | B6: =IF(Infos!C7>=5,(Infos!C7-4)*max5enfants,0) -> 0
B7: =SUM(B3:B6) -> 0

Sheet limites
A1: Limites de revenu et de fortune pour les avances totales | B1: Colonne1 | C1: Colonne2
A2: déduction maximale pour frais de garde par enfant | B2: =188 -> 188 | C2: 2261 sur 12, par enfant
A3: limite de revenu, en général | B3: 3418
A4: majoration pour les deux premiers enfants, par enfant | B4: 901
A5: majorations pour les troisième et quatrième enfants, par enfant | B5: 601
A6: majoration dès le cinquième enfant, par enfant | B6: 300
A7: majoraiton de la limite de revenu pour les couples | B7: 791
A8: limite de revenu, pour les enfants | B8: 2650
A9: franchise sur les revenus de l'enfant à charge | B9: 339
A10: limite de fortune, en général | B10: 33196
A11: limite de fortune, pour les enfants | B11: 11305
A13: Montant maximal des avances | B13: Colonne1
A14: conjoint | B14: 861
A15: pour les deux premiers enfants, par enfant | B15: 901
A16: pour les troisième et quatrième enfants, par enfant | B16: 601
A17: dès le cinquième enfant, par enfant | B17: 300
