Workbook

Sheet Définitions
A8: Annexe aux comptes annuels H - Les indicateurs financiers
A10: Définition :
A12: I. Quotient d'endettement net
A14: Le quotient d'endettement net indique la part des revenus fiscaux (impôts directs des personnes physiques et des personnes morales) ainsi que des prestations de la péréquation financière qui serait nécessaire pour amortir la dette nette. Une valeur négative atteste de l'existence d'une fortune nette.
B16: Echelle : | C16: < 0% | D16: Très faible endettement net
C17: 1% à 50% | D17: Faible endettement net
C18: 51% à 100% | D18: Endettement net moyen
C19: 101% à 150% | D19: Endettement net élevé
C20: > 150% | D20: Endettement net très élevé
A22: II. Degré d'autofinancement
A24: Le degré d'autofinancement détermine la part des revenus affectée au financement des investissements nouveaux. S'il est de supérieur à 100%, il permet le financement d'investissements ou conduit à un désendettement, tandis que s'il est inférieur à 100%, il entraîne un nouvel endettement ou emprunt. Cet indicateur peut considérablement varier d'une année à l'autre, en particulier dans les petites corporations dès lors qu'elles investissent à intervalles irréguliers. Il ne peut donc être apprécié que sur plusieurs années.
B26: Echelle : | C26: > 100% | D26: Idéal
C27: 70% à 100% | D27: acceptable à bon
C28: < 70% | D28: Problématique
A30: III. Quotité de la charge des intérêts
A32: La quotité de la charge des intérêts indique la part des revenus qui est absorbée par les intérets nets. Plus elle est élevée et plus l'endettement est important. A l'inverse, moins elle est élevée et plus grande est la marge de manœuvre financière de la collectivité. Une quotité de la charge des intérêts négative signifie que les revenus du patrimoine sont supérieurs au montant des intérêts de la dette.
B34: Echelle : | C34: < -1% | D34: Charge extrêmement faible
C35: -1% à 0% | D35: Charge très faible
C36: 0% à 1% | D36: Charge faible
C37: 1% à 2% | D37: Charge moyenne
C38: > 2% | D38: Charge élevée
A40: IV. Dettes brutes par rapport aux revenus
A42: La dette brute par rapport aux revenus permet d'évaluer la situation d'endettement, et en particulier de déterminer si l'endettement est proportionné compte tenu des revenus obtenus. Cet indicateur renseigne sur le pourcentage des revenus qui est nécessaire au remboursement de la dette brute en une seule fois.
B44: Echelle :
C45: < 50% | D45: Très bon
C46: 50,1% à 100% | D46: Bon
C47: 100,1% à 150% | D47: Moyen
C48: 150,1% à 200% | D48: Mauvais
C49: > 200% | D49: Critique
A51: V. Quotité d'investissement
A53: La quotité d'investissement renseigne sur le rapport entre les activitéss d'investissement et les charges annuelles globales. Cet indicateur ne permet toutefois pas à lui seul de tirer des conclusions sur la situation financière de la commune.
B55: Echelle : | C55: < 10% | D55: Peu important
C56: 10,1% à 20% | D56: Importance moyenne
C57: 20,1% à 30% | D57: Importantes
C58: > 30% | D58: Très importante
A60: VI. Quotité de la charge financière
A62: La quotité de la charge financière indique l'incidence des frais financiers sur le budget. On entend par charge financière la somme des intérêts nets, des amortissements et des réévaluations. Cet indicateur permet de constater dans quelle mesure les revenus courants sont absorbés par le service de la dette et les amortissements planifiés. Une hausse de ce taux équivaut à une réduction de la marge budgétaire.
B64: Echelle : | C64: < 5% | D64: Faible charge
C65: 5% à 15% | D65: Charge supportable
C66: 15% à 25% | D66: Charge élevée à très élevée
...

Sheet Population
A1: Alle | B1: 1902
A2: Basse-Allaine | B2: 1238
A3: Beurnevésin | B3: 117
A4: Boécourt | B4: 925
A5: Boncourt | B5: 1217
A6: Bonfol | B6: 652
A7: Bourrignon | B7: 261
A8: Bure | B8: 648
A9: Châtillon | B9: 483
A10: Clos du Doubs | B10: 1263
A11: Coeuve | B11: 721
A12: Cornol | B12: 1043
... A53: Vendlincourt | B53: 559
A55: Total | B55: =SUM(B1:B53) -> 73584
A57: Avec les permis F et N

Sheet Base de travail
A8: Annexe aux comptes annuels H :
A10: Les indicateurs financiers avec les financements spéciaux
A12: Feuille de saisie des données
A14: Commune : | G14: Exercice : | H14: 2024
A16: Nombre d'habitant au 31.12.2024 :
A19: Bilan
A20: Compte | B20: Actif | D20: CHF | F20: Compte | G20: Passif | I20: CHF
A21: 10 | B21: Patrimoine financier | D21: 0 | F21: 20 | G21: Capitaux de tiers | I21: 0
F22: 200 | G22: Engagements courants | I22: 0
F23: 201 | G23: Engagements financiers à court terme | I23: 0
F24: 2016 | G24: Instruments financiers dérivés | I24: 0
F25: 206 | G25: Engagements financiers à long terme | I25: 0
F26: 29 | G26: Capital propre | I26: 0
F27: 299 | G27: Excédent (+) / découvert (-) | I27: 0
A31: Compte de résultats
A32: Compte | B32: Charges | D32: CHF | F32: Compte | G32: Revenus | I32: CHF
A33: 30 | B33: Charges de personnel | D33: 0 | F33: 4 | G33: Revenus | I33: 0
A34: 31 | B34: Charges de biens et services et autres charges d'exploitation | D34: 0 | F34: 400 | G34: Impôts directs, personnes physiques | I34: 0
A35: 3180 | B35: Réévaluation de créances | D35: 0 | F35: 401 | G35: Impôts directs, personnes morales | I35: 0
A36: 33 | B36: Amortissements du patrimoine administratif | D36: 0 | F36: 402 | G36: Autres impôts directs | I36: 0
A37: 34 | B37: Charges financières | D37: 0 | F37: 440 | G37: Revenus des intérêts | I37: 0
A38: 340 | B38: Charges d'intérêts | D38: 0 | F38: 441 | G38: Gains réalisés du patrimoine financier | I38: 0
A39: 344 | B39: Réévaluations des immobilisations du patrimoine financier | D39: 0 | F39: 442 | G39: Revenus de participations du patrimoine financier | I39: 0
A40: 35 | B40: Attributions aux financements spéciaux | D40: 0 | F40: 443 | G40: Revenus des biens fonds, bâtiments et immeubles du PF | I40: 0
A41: 36 | B41: Charges de transfert | D41: 0 | F41: 444 | G41: Réévaluation des immobilisations du patrimoine financier | I41: 0
A42: 36227 | B42: Péréquation financière horizontale | D42: 0 | F42: 4490 | G42: Réévaluation du patrimoine administratif | I42: 0
A43: 36228 | B43: Contributions aux communes-centres | D43: 0 | F43: 45 | G43: Prélèvement sur les financements spéciaux | I43: 0
A44: 364 | B44: Réévaluations des prêts du patrimoine administratif | D44: 0 | F44: 46227 | G44: Péréquation financière horizontale | I44: 0
... A50: 903 | B50: Clôture d'autres capitaux propres / excédent de charges | D50: 0 | F50: 90 | G50: Clôture du compte de résultats / excédent de produits (90) (+) | I50: 0
F51: 903 | G51: Clôture d'autres capitaux propres / excédent de produits | I51: 0
A55: Compte des investissements
A56: Compte | B56: Dépenses | D56: CHF | F56: Compte | G56: Recettes | I56: CHF
A57: 690 | B57: Report au bilan des dépenses | D57: 0 | F57: 590 | G57: Report au bilan des recettes | I57: 0

Sheet Endett. net + Degré d'autofi.
A8: Annexe aux comptes annuels H - Les indicateurs financiers
A10: I. Quotient d'endettement net | C10: Groupe | D10: Montant
A12: Capitaux de tiers | B12: + | C12: 20 | D12: ='Base de travail'!I21 -> 0
A13: Patrimoine financier | B13: - | C13: 10 | D13: ='Base de travail'!D21 -> 0
A15: Endettement net | D15: =D12-D13 -> 0
A17: Impôts directs, personnes physiques | B17: + | C17: 400 | D17: ='Base de travail'!I34 -> 0
A18: Impôts directs, personnes morales | B18: + | C18: 401 | D18: ='Base de travail'!I35 -> 0
A19: Péréquation financière | B19: +/- | C19: 4622/3622 | D19: ='Base de travail'!I44+'Base de travail'!I45-'Base de travail'!D42-'Base de travail'!D43 -> 0
A20: Compensation communes-centres | B20: + | C20: 46228 | D20: ='Base de travail'!I45 -> 0
A22: Impôts directs PP et PM et péréquation financière | D22: =D17+D18+D19+D20 -> 0
A24: Quotient d'endettement net | D24: =IF(D22<>0,D15/D22,"")*100 -> #VALUE!
A25: (Endettement net / impôts directs PP et PM et PF*100)
A28: II. Degré d'autofinancement
A30: Résultat global du compte de résultat | C30: 90 | D30: ='Base de travail'!I50 -> 0
A31: Amortissements du patrimoine administratif | B31: + | C31: 33 | D31: ='Base de travail'!D36 -> 0
A32: Attributions aux financements spéciaux | B32: + | C32: 35 | D32: ='Base de travail'!D40 -> 0
A33: Prélèvements sur les financements spéciaux | B33: - | C33: 45 | D33: ='Base de travail'!I43 -> 0
A34: Réévaluation, prêts du patrimoine administratif | B34: + | C34: 364 | D34: ='Base de travail'!D44 -> 0
A35: Réévaluations, participations du patrimoine administratif | B35: + | C35: 365 | D35: ='Base de travail'!D45 -> 0
A36: Amortissements, subventions d'investissement | B36: + | C36: 366 | D36: ='Base de travail'!D46 -> 0
A37: Attributions aux capitaux propres | B37: + | C37: 389 | D37: ='Base de travail'!D47 -> 0
A38: Prélèvements sur les capitaux propres | B38: - | C38: 489 | D38: ='Base de travail'!I47 -> 0
A39: Revalorisations PA | B39: - | C39: 4490 | D39: ='Base de travail'!I42 -> 0
A41: Autofinancement | D41: =SUM(D30:D32,D34:D37)-SUM(D33,D38:D39) -> 0
A43: Dépenses reportées au bilan | B43: + | C43: 690 | D43: ='Base de travail'!D57 -> 0
A44: Recettes reportées au bilan | B44: - | C44: 590 | D44: ='Base de travail'!I57 -> 0
A46: Investissements nets | D46: =D43-D44 -> 0
A48: Degré d'autofinancement | D48: =IF(D46<>0,D41/D46,"")*100 -> #VALUE!
A49: (Autofinancement/Investissements nets*100)

Sheet Quotité d'intérets + Dettes-Rev
A8: Annexe aux comptes annuels H - Les indicateurs financiers
A10: III. Quotité de la charge des intérets | C10: Groupe | D10: Montant
A12: Charges d'intérêts | B12: + | C12: 340 | D12: ='Base de travail'!D38 -> 0
A13: Revenus des intérêts | B13: - | C13: 440 | D13: ='Base de travail'!I37 -> 0
A15: Charge nette des intérêts | D15: =D12-D13 -> 0
A17: Revenus | B17: + | C17: 4 | D17: ='Base de travail'!I33 -> 0
A18: Subventions à redistribuer | B18: - | C18: 47 | D18: ='Base de travail'!I46 -> 0
A19: Imputations internes | B19: - | C19: 49 | D19: ='Base de travail'!I49 -> 0
A20: Prélèvements sur les capitaux propres | B20: - | C20: 489 | D20: ='Base de travail'!I47 -> 0
A21: Prélèvements sur la réserves liée à la réévaluation | B21: + | C21: 4896 | D21: ='Base de travail'!I48 -> 0
A23: Revenus courants | D23: =SUM(D17,D21)-SUM(D18:D20) -> 0
A25: Quotité de la charge des intérêts | D25: =IF(D23<>0,D15/D23,"")*100 -> #VALUE!
A26: (Charge nette des intérêts / revenus courants*100)
A29: IV. Dette brute par rapport aux revenus
A31: Engagements courants | B31: + | C31: 200 | D31: ='Base de travail'!I22 -> 0
A32: Engagements financiers à court terme | B32: + | C32: 201 | D32: ='Base de travail'!I23 -> 0
A33: Instruments financiers dérivés | B33: - | C33: 2016 | D33: ='Base de travail'!I24 -> 0
A34: Engagements financiers à long terme | B34: + | C34: 206 | D34: ='Base de travail'!I25 -> 0
A36: Dette brute | D36: =SUM(D31:D32,D34)-D33 -> 0
A38: Revenus courants | D38: =D23 -> 0
A40: Dette brute par rapports au revenus | D40: =IF(D38<>0,D36/D38,"")*100 -> #VALUE!
A41: Dette brute/revenus courants*100)

Sheet Quotité d'inves. + fin.
A8: Annexe aux comptes annuels H - Les indicateurs financiers
A10: V. Quotité d'investissement | C10: Groupe | D10: Montant
A12: Investissements bruts (total des dépenses d'investissement) | C12: 690 | D12: ='Base de travail'!D57 -> 0
A14: Charges de personnel | B14: + | C14: 30 | D14: ='Base de travail'!D33 -> 0
A15: Charges de biens et services et autres charges exploitation | B15: + | C15: 31 | D15: ='Base de travail'!D34 -> 0
A16: Réévaluation de créances | B16: - | C16: 3180 | D16: ='Base de travail'!D35 -> 0
A17: Charges financières | B17: + | C17: 34 | D17: ='Base de travail'!D37 -> 0
A18: Réévaluations des immobilisations du PF | B18: - | C18: 344 | D18: ='Base de travail'!D39 -> 0
A19: Charges de transfert | B19: + | C19: 36 | D19: ='Base de travail'!D41 -> 0
A20: Réévaluations des prêts du PA | B20: - | C20: 364 | D20: ='Base de travail'!D44 -> 0
A21: Réévaluations des participations du PA | B21: - | C21: 365 | D21: ='Base de travail'!D45 -> 0
A22: Amortissements des subventions d'investissement | B22: - | C22: 366 | D22: ='Base de travail'!D46 -> 0
A24: Charges globales | D24: =SUM(D14:D15,D17,D19)-SUM(D16,D18,D20:D22)+D12 -> 0
A26: Quotité d'investissement | D26: =IF(D24<>0,D12/D24,"")*100 -> #VALUE!
A27: (Investissements burts / charges globales*100)
A30: VI. Quotité de la charge fiancière | C30: Groupe | D30: Montant
A32: Charges d'intérêts | B32: + | C32: 340 | D32: ='Base de travail'!D38 -> 0
A33: Revenus des intérêts | B33: - | C33: 440 | D33: ='Base de travail'!I37 -> 0
A34: Amortissement du patrimoine administratif | B34: + | C34: 33 | D34: ='Base de travail'!D36 -> 0
A35: Réévaluations des prêts du PA | B35: + | C35: 364 | D35: ='Base de travail'!D44 -> 0
A36: Réévaluations des participations du PA | B36: + | C36: 365 | D36: ='Base de travail'!D45 -> 0
A37: Amortissement des subventions d'investissement | B37: + | C37: 366 | D37: ='Base de travail'!D46 -> 0
A39: Charge financière | D39: =SUM(D32,D34:D37)-D33 -> 0
A41: Revenus courants | D41: ='Quotité d''intérets + Dettes-Rev'!D38 -> 0
A43: Quotité de la charge financière | D43: =IF(D41<>0,D39/D41,"")*100 -> #VALUE!
A44: (charge financière / revenus courants*100)

Sheet Quotité d'autofinancement
A8: Annexe aux comptes annuels H - Les indicateurs financiers
A10: VII. Endettement net en francs par habitant | C10: Groupe | D10: Montant
A12: Capitaux de tiers | B12: + | C12: 20 | D12: ='Base de travail'!I21 -> 0
A13: Patrimoine financier | B13: - | C13: 10 | D13: ='Base de travail'!D21 -> 0
A15: Endettement net | D15: =D12-D13 -> 0
A17: Population | D17: ='Base de travail'!D16 -> 0
A19: Endettement net en francs par habitant | D19: =IF(D17="","",D15/D17) -> #DIV/0!
A20: (Endettement net / population)
A22: VIII. Quotité d'autofinancement (capacité) | C22: Groupe | D22: Montant
A24: Autofinancement | D24: ='Endett. net + Degré d''autofi.'!D41 -> 0
A26: Revenus courants | D26: ='Quotité d''intérets + Dettes-Rev'!D23 -> 0
A28: Quotité d'autofinancement (capacité) | D28: =IF(D26<>0,D24/D26,"")*100 -> #VALUE!
A29: (Autofinancement/revenus courants*100)
A31: IX. Quotité de la charge des intérêts nets | C31: Groupe | D31: Montant
A33: Charges financières | B33: + | C33: 34 | D33: ='Base de travail'!D37 -> 0
A34: Revenus des intérêts | B34: - | C34: 440 | D34: ='Base de travail'!I37 -> 0
A35: Gains réalisés PF | B35: - | C35: 441 | D35: ='Base de travail'!I38 -> 0
A36: Revenus de participations PF | B36: - | C36: 442 | D36: ='Base de travail'!I39 -> 0
A37: Revenus des biens fonds PF | B37: - | C37: 443 | D37: ='Base de travail'!I40 -> 0
A38: Réévaluations des immobilisation du PF | B38: - | C38: 444 | D38: ='Base de travail'!I41 -> 0
A40: Charges financières nettes | D40: =D33-D34-D35-D36-D37-D38 -> 0
A42: Impôts sur le revenu des personnes physiques | B42: + | C42: 400 | D42: ='Base de travail'!I34 -> 0
A43: Impôts directs,personnes morales | B43: + | C43: 401 | D43: ='Base de travail'!I35 -> 0
A44: Autres impôts directs | B44: + | C44: 402 | D44: ='Base de travail'!I36 -> 0
A46: Revenus fiscaux (impôts directs)= | D46: =SUM(D42:D44) -> 0
A48: Quotité de la charge des intérêts nets | D48: =IF(D46<>0,D40/D46,"")*100 -> #VALUE!
A49: (Charges financières nettes / revenus fiscaux*100)

Sheet Quotient excédent du bilan
A8: Annexe aux comptes annuels H - Les indicateurs financiers
A10: X. Quotient excédent du bilan | C10: Groupe | D10: Montant
A12: Excendent / Découvert du bilan | B12: +/- | C12: 299 | D12: ='Base de travail'!I27 -> 0
A14: Excédent / découvert au bilan | D14: =D12 -> 0
A16: Impôts directs PP et PM et péréquation financière | D16: ='Endett. net + Degré d''autofi.'!D22 -> 0
A18: Quotient de l'excédent du bilan | D18: =IF(D16<>0,D14/D16,"")*100 -> #VALUE!
A19: (Excédent, découvert au bilan/impôts directs PP et PM et PF*100)

Sheet Récapitulatif final
A8: Annexe aux comptes annuels H - Les indicateurs financiers
A10: RECAPITULATIF AVEC LES FINANCEMENTS SPECIAUX | D10: Montant
A13: I. Quotient d'endettement net
A15: Endettement brut | D15: ='Quotité d''intérets + Dettes-Rev'!D36 -> 0
A17: Endettement net | D17: ='Endett. net + Degré d''autofi.'!D15 -> 0
A19: Quotient d'endettement net | D19: ='Endett. net + Degré d''autofi.'!D24 -> #VALUE!
A22: II. Degré d'autofinancement
A24: Autofinancement | D24: ='Endett. net + Degré d''autofi.'!D41 -> 0
A26: Degré d'autofinancement | D26: ='Endett. net + Degré d''autofi.'!D48 -> #VALUE!
A29: III. Quotité de la charge des intérêts | D29: ='Quotité d''intérets + Dettes-Rev'!D25 -> #VALUE!
A31: IV. Dettes brutes par rapport aux revenus | D31: ='Quotité d''intérets + Dettes-Rev'!D40 -> #VALUE!
A33: V. Quotité d'investissement | D33: ='Quotité d''inves. + fin.'!D26 -> #VALUE!
A35: VI. Quotité de la charge financière | D35: ='Quotité d''inves. + fin.'!D43 -> #VALUE!
A37: VII. Endettement net en francs par habitant | D37: ='Quotité d''autofinancement'!D19 -> #DIV/0!
A39: VIII. Quotité d'autofinancement (capacité) | D39: ='Quotité d''autofinancement'!D28 -> #VALUE!
A41: IX. Quotité de la charge des intérêts nets | D41: ='Quotité d''autofinancement'!D48 -> #VALUE!
A43: X. Quotient de l'excédent du bilan | D43: ='Quotient excédent du bilan'!D18 -> #VALUE!
